BEGIN:VCALENDAR
VERSION:2.0
PRODID:-//La Esperanto-Societo de Ĉikago - ECPv6.15.20//NONSGML v1.0//EN
CALSCALE:GREGORIAN
METHOD:PUBLISH
X-WR-CALNAME:La Esperanto-Societo de Ĉikago
X-ORIGINAL-URL:http://esperanto-chicago.org
X-WR-CALDESC:Events for La Esperanto-Societo de Ĉikago
REFRESH-INTERVAL;VALUE=DURATION:PT1H
X-Robots-Tag:noindex
X-PUBLISHED-TTL:PT1H
BEGIN:VTIMEZONE
TZID:America/Chicago
BEGIN:DAYLIGHT
TZOFFSETFROM:-0600
TZOFFSETTO:-0500
TZNAME:CDT
DTSTART:20230312T080000
END:DAYLIGHT
BEGIN:STANDARD
TZOFFSETFROM:-0500
TZOFFSETTO:-0600
TZNAME:CST
DTSTART:20231105T070000
END:STANDARD
BEGIN:DAYLIGHT
TZOFFSETFROM:-0600
TZOFFSETTO:-0500
TZNAME:CDT
DTSTART:20240310T080000
END:DAYLIGHT
BEGIN:STANDARD
TZOFFSETFROM:-0500
TZOFFSETTO:-0600
TZNAME:CST
DTSTART:20241103T070000
END:STANDARD
BEGIN:DAYLIGHT
TZOFFSETFROM:-0600
TZOFFSETTO:-0500
TZNAME:CDT
DTSTART:20250309T080000
END:DAYLIGHT
BEGIN:STANDARD
TZOFFSETFROM:-0500
TZOFFSETTO:-0600
TZNAME:CST
DTSTART:20251102T070000
END:STANDARD
BEGIN:DAYLIGHT
TZOFFSETFROM:-0600
TZOFFSETTO:-0500
TZNAME:CDT
DTSTART:20260308T080000
END:DAYLIGHT
BEGIN:STANDARD
TZOFFSETFROM:-0500
TZOFFSETTO:-0600
TZNAME:CST
DTSTART:20261101T070000
END:STANDARD
END:VTIMEZONE
BEGIN:VEVENT
DTSTART;TZID=America/Chicago:20250803T120000
DTEND;TZID=America/Chicago:20250803T150000
DTSTAMP:20260423T150642
CREATED:20250723T012734Z
LAST-MODIFIED:20250724T023733Z
UID:10000707-1754222400-1754233200@esperanto-chicago.org
SUMMARY:Somera Pikniko!  Summer Picnic
DESCRIPTION:(Scroll down for English) \nSomera Pikniko de la Esperanto-Societo de Ĉikago \n📅 Dato: Dimanĉo\, la 3-a de Aŭgusto\n⏰ Tempo: 12:00 – 15:00\n📍 Loko: Schiller Woods-East\, 8700 W Irving Park Road\, Ĉikago\, IL\nMapo de la Piknikejo \nAliĝu al ni por ĝoja somera pikniko en la parko! Ĉu vi estas membro\, ŝatanto de Esperanto\, aŭ simple scivolema\, ĉiuj estas bonvenaj. Bonvolu kunporti iom da manĝaĵo por kundividi kaj ĝuu posttagmezon de bona kompanio kaj konversacio. \nĈiuj estas bonvenaj. Ne gravas ĉu oni estas membro aŭ eĉ parolas Esperanton.   \nĈu vi ne estas membro? Ne problemo!\nMembreco ne estas necesa por partopreni\, sed se vi volas subteni nian komunumon\,  vi rajtas tion fari ĉi tie: esperanto-chicago.org/members \nNi antaŭĝojas vidi vin tie! \n===================================== \nThe Esperanto Society of Chicago Summer Picnic \n📅 Date: Sunday\, August 3th\n⏰ Time: 12:00 PM – 3:00 PM\n📍 Location: Schiller Woods-East\, 8700 W Irving Park Road\, Chicago\, IL\nMap to the Picnic Area \nJoin us for a delightful summer picnic in the park! Whether you’re a member\, a fan of Esperanto\, or simply curious\, everyone is welcome to attend. Bring a dish to share and enjoy an afternoon of good company and conversation. \nNot a member? No problem!\nAll are welcome!  You don’t need to be a member\, or even speak Esperanto to participate.  But if you’d like to support our community\, you can become a member. \nCertified Crocodile Friendly!\nFor updates\, please contact us at Esperanto-Chicago@googlegroups.com. \nLooking forward to seeing you there! \nSee you at the Picnic! \n\n\n\n\n		\n				\n						\n			\n								\n			\n		\n							\n			\n				\n						\n			\n								\n			\n		\n							\n			\n				\n						\n			\n								\n			\n		\n							\n			\n	\n	\n\n		\n		[Show slideshow]\n\n	\n	\n		\n			\n\n\nContact us here: Esperanto-Chicago@googlegroups.com \nAbout Esperanto: Esperanto is a constructed international language designed for easy learning and global communication. It offers a unique window into diverse cultures and fosters friendships worldwide. \nAbout Esperanto Society of Chicago: Since 1954\, the Esperanto Society of Chicago is a welcoming community dedicated to promoting Esperanto language and culture in the Chicagoland area. We organize events\, language meetups\, and cultural exchanges to support both beginners and fluent speakers. \nJoin the Chicago Esperanto Society: https://esperanto-chicago.org/members/ \nJoin our mailing list: Join our mailing list\,
URL:http://esperanto-chicago.org/event/somera-pikniko-summer-picnic/
LOCATION:Schiller Woods\, 8400 W Irving Park Road\, Chicago\, IL
ATTACH;FMTTYPE=image/png:http://esperanto-chicago.org/wordpress/wp-content/uploads/2025/07/Gemini_Generated_Image_77aoat77aoat77ao.png
ORGANIZER;CN="Randy Ream":MAILTO:rsream@gmail.com
END:VEVENT
BEGIN:VEVENT
DTSTART;TZID=America/Chicago:20240804T120000
DTEND;TZID=America/Chicago:20240804T150000
DTSTAMP:20260423T150642
CREATED:20230507T143721Z
LAST-MODIFIED:20240802T200156Z
UID:10000137-1722772800-1722783600@esperanto-chicago.org
SUMMARY:Somera Pikniko!  Summer Picnic
DESCRIPTION:(Scroll down for English) \n  \nSomera Pikniko de la Ĉikaga Esperanta Societo \n📅 Dato: Dimanĉo\, la 4-a de Aŭgusto\n⏰ Tempo: 12:00 – 15:00\n📍 Loko: Schiller Woods-East\, 8700 W Irving Park Road\, Ĉikago\, IL\nMapo de la Piknikejo \nAliĝu al ni por ĝoja somera pikniko en la parko! Ĉu vi estas membro\, ŝatanto de Esperanto\, aŭ simple scivolema\, ĉiuj estas bonvenaj. Bonvolu kunporti iom da manĝaĵo por kundividi kaj ĝuu posttagmezon de bona kompanio kaj konversacio. \nOkaze de malbona vetero\, la pikniko estos prokrastita al la 16-a de Aŭgusto.\nPor ĝisdatigoj\, bonvolu kontakti nin ĉe Esperanto-Chicago@googlegroups.com. \nĈiuj estas bonvenaj. Ne gravas ĉu oni estas membro aŭ eĉ parolas Esperanton.   \nĈu vi ne estas membro? Neniu problemo!\nMembreco ne estas necesa por partopreni\, sed se vi volas subteni nian komunumon\,  vi rajtas tion fari ĉi tie: esperanto-chicago.org/members \nNi antaŭĝojas vidi vin tie! \n===================================== \nChicago Esperanto Society Summer Picnic \n📅 Date: Sunday\, August 4th\n⏰ Time: 12:00 PM – 3:00 PM\n📍 Location: Schiller Woods-East\, 8700 W Irving Park Road\, Chicago\, IL\nMap to the Picnic Area \nJoin us for a delightful summer picnic in the park! Whether you’re a member\, a fan of Esperanto\, or simply curious\, everyone is welcome to attend. Bring a dish to share and enjoy an afternoon of good company and conversation. \nNot a member? No problem!\nAll are welcome!  You don’t need to be a member\, or even speak Esperanto to participate.  But if you’d like to support our community\, you can become a member. \nCertified Crocodile Friendly!\nWeather update:  Perfect weather for Esperanto Picnics \nFor updates\, please contact us at Esperanto-Chicago@googlegroups.com. \nLooking forward to seeing you there! \nSee you at the Picnic! \n\n\n\n\n		\n				\n						\n			\n								\n			\n		\n							\n			\n				\n						\n			\n								\n			\n		\n							\n			\n				\n						\n			\n								\n			\n		\n							\n			\n	\n	\n\n		\n		[Show slideshow]\n\n	\n	\n		\n			\n\n\nContact us here: Esperanto-Chicago@googlegroups.com \nAbout Esperanto: Esperanto is a constructed international language designed for easy learning and global communication. It offers a unique window into diverse cultures and fosters friendships worldwide. \nAbout Esperanto Society of Chicago: Since 1954\, the Esperanto Society of Chicago is a welcoming community dedicated to promoting Esperanto language and culture in the Chicagoland area. We organize events\, language meetups\, and cultural exchanges to support both beginners and fluent speakers. \nJoin the Chicago Esperanto Society: https://esperanto-chicago.org/members/ \nJoin our mailing list: Join our mailing list\,
URL:http://esperanto-chicago.org/event/pikniko/
LOCATION:Schiller Woods\, 8400 W Irving Park Road\, Chicago\, IL
ATTACH;FMTTYPE=image/webp:http://esperanto-chicago.org/wordpress/wp-content/uploads/2023/05/summer-picnic.webp
ORGANIZER;CN="Randy Ream":MAILTO:rsream@gmail.com
END:VEVENT
END:VCALENDAR