BEGIN:VCALENDAR
VERSION:2.0
PRODID:-//La Esperanto-Societo de Ĉikago - ECPv6.15.20//NONSGML v1.0//EN
CALSCALE:GREGORIAN
METHOD:PUBLISH
X-ORIGINAL-URL:http://esperanto-chicago.org
X-WR-CALDESC:Events for La Esperanto-Societo de Ĉikago
REFRESH-INTERVAL;VALUE=DURATION:PT1H
X-Robots-Tag:noindex
X-PUBLISHED-TTL:PT1H
BEGIN:VTIMEZONE
TZID:America/Chicago
BEGIN:DAYLIGHT
TZOFFSETFROM:-0600
TZOFFSETTO:-0500
TZNAME:CDT
DTSTART:20240310T080000
END:DAYLIGHT
BEGIN:STANDARD
TZOFFSETFROM:-0500
TZOFFSETTO:-0600
TZNAME:CST
DTSTART:20241103T070000
END:STANDARD
BEGIN:DAYLIGHT
TZOFFSETFROM:-0600
TZOFFSETTO:-0500
TZNAME:CDT
DTSTART:20250309T080000
END:DAYLIGHT
BEGIN:STANDARD
TZOFFSETFROM:-0500
TZOFFSETTO:-0600
TZNAME:CST
DTSTART:20251102T070000
END:STANDARD
BEGIN:DAYLIGHT
TZOFFSETFROM:-0600
TZOFFSETTO:-0500
TZNAME:CDT
DTSTART:20260308T080000
END:DAYLIGHT
BEGIN:STANDARD
TZOFFSETFROM:-0500
TZOFFSETTO:-0600
TZNAME:CST
DTSTART:20261101T070000
END:STANDARD
END:VTIMEZONE
BEGIN:VEVENT
DTSTART;TZID=America/Chicago:20250915T173000
DTEND;TZID=America/Chicago:20250915T183000
DTSTAMP:20260423T185600
CREATED:20250915T172452Z
LAST-MODIFIED:20250915T172606Z
UID:10000714-1757957400-1757961000@esperanto-chicago.org
SUMMARY:Promeni en la parko
DESCRIPTION:We have some beautiful weather in Chicago\, which will not last.    \nWe plan to meet in the park for a chance to enjoy the outdoors\, and speak Esperanto. \nMeet us by the parking lot at 6230 W Wrightwood Ave\,  Chicago\, IL. (Map) \nJoin us! \n\nAbout Esperanto: Esperanto is a constructed international language designed for easy learning and global communication. It offers a unique window into diverse cultures and fosters friendships worldwide. \nAbout Esperanto Society of Chicago: Since 1954\, the Esperanto Society of Chicago is a welcoming community dedicated to promoting Esperanto language and culture in the Chicagoland area. We organize events\, language meetups\, and cultural exchanges to support both beginners and fluent speakers. \nContact us: esperanto-chicago@googlegroups.com \n      \n \n  \nSee more events at: esperanto-chicago.org/events\n\n 
URL:http://esperanto-chicago.org/event/promeni-en-la-parko-3/
LOCATION:riis park\, 6230 W Wrightwood Ave\, Chicago\, IL\, 60639
ATTACH;FMTTYPE=image/png:http://esperanto-chicago.org/wordpress/wp-content/uploads/2025/08/Promeni-en-la-Parko-Logo.png
ORGANIZER;CN="Eric Killian":MAILTO:ericesperanto@gmail.com
END:VEVENT
BEGIN:VEVENT
DTSTART;TZID=America/Chicago:20250914T094500
DTEND;TZID=America/Chicago:20250914T104500
DTSTAMP:20260423T185600
CREATED:20250911T165232Z
LAST-MODIFIED:20250911T165232Z
UID:10000713-1757843100-1757846700@esperanto-chicago.org
SUMMARY:Promeni en la parko
DESCRIPTION:We have some beautiful weather in Chicago\, which will not last.    \nWe plan to meet in the park for a chance to enjoy the outdoors\, and speak Esperanto. \nMeet us by the parking lot at 6230 W Wrightwood Ave\,  Chicago\, IL. (Map) \nJoin us! \n\nAbout Esperanto: Esperanto is a constructed international language designed for easy learning and global communication. It offers a unique window into diverse cultures and fosters friendships worldwide. \nAbout Esperanto Society of Chicago: Since 1954\, the Esperanto Society of Chicago is a welcoming community dedicated to promoting Esperanto language and culture in the Chicagoland area. We organize events\, language meetups\, and cultural exchanges to support both beginners and fluent speakers. \nContact us: esperanto-chicago@googlegroups.com \n      \n \n  \nSee more events at: esperanto-chicago.org/events\n\n 
URL:http://esperanto-chicago.org/event/promeni-en-la-parko-2/
LOCATION:riis park\, 6230 W Wrightwood Ave\, Chicago\, IL\, 60639
ATTACH;FMTTYPE=image/png:http://esperanto-chicago.org/wordpress/wp-content/uploads/2025/08/Promeni-en-la-Parko-Logo.png
ORGANIZER;CN="Eric Killian":MAILTO:ericesperanto@gmail.com
END:VEVENT
BEGIN:VEVENT
DTSTART;TZID=America/Chicago:20250824T093000
DTEND;TZID=America/Chicago:20250824T103000
DTSTAMP:20260423T185600
CREATED:20250822T143956Z
LAST-MODIFIED:20250823T012026Z
UID:10000709-1756027800-1756031400@esperanto-chicago.org
SUMMARY:Promeni en la parko
DESCRIPTION:We have some beautiful weather in Chicago\, which will not last.    \nWe plan to meet in the park for a chance to enjoy the outdoors\, and speak Esperanto. \nMeet us by the casting pier. \nJoin us! \n\nAbout Esperanto: Esperanto is a constructed international language designed for easy learning and global communication. It offers a unique window into diverse cultures and fosters friendships worldwide. \nAbout Esperanto Society of Chicago: Since 1954\, the Esperanto Society of Chicago is a welcoming community dedicated to promoting Esperanto language and culture in the Chicagoland area. We organize events\, language meetups\, and cultural exchanges to support both beginners and fluent speakers. \nContact us: esperanto-chicago@googlegroups.com \n      \n \n  \nSee more events at: esperanto-chicago.org/events\n\n 
URL:http://esperanto-chicago.org/event/promeni-en-la-parko/
LOCATION:riis park\, 6230 W Wrightwood Ave\, Chicago\, IL\, 60639
ATTACH;FMTTYPE=image/png:http://esperanto-chicago.org/wordpress/wp-content/uploads/2025/08/Promeni-en-la-Parko-Logo.png
ORGANIZER;CN="Eric Killian":MAILTO:ericesperanto@gmail.com
END:VEVENT
END:VCALENDAR