BEGIN:VCALENDAR
VERSION:2.0
PRODID:-//La Esperanto-Societo de Ĉikago - ECPv6.15.20//NONSGML v1.0//EN
CALSCALE:GREGORIAN
METHOD:PUBLISH
X-ORIGINAL-URL:http://esperanto-chicago.org
X-WR-CALDESC:Events for La Esperanto-Societo de Ĉikago
REFRESH-INTERVAL;VALUE=DURATION:PT1H
X-Robots-Tag:noindex
X-PUBLISHED-TTL:PT1H
BEGIN:VTIMEZONE
TZID:America/Chicago
BEGIN:DAYLIGHT
TZOFFSETFROM:-0600
TZOFFSETTO:-0500
TZNAME:CDT
DTSTART:20230312T080000
END:DAYLIGHT
BEGIN:STANDARD
TZOFFSETFROM:-0500
TZOFFSETTO:-0600
TZNAME:CST
DTSTART:20231105T070000
END:STANDARD
BEGIN:DAYLIGHT
TZOFFSETFROM:-0600
TZOFFSETTO:-0500
TZNAME:CDT
DTSTART:20240310T080000
END:DAYLIGHT
BEGIN:STANDARD
TZOFFSETFROM:-0500
TZOFFSETTO:-0600
TZNAME:CST
DTSTART:20241103T070000
END:STANDARD
BEGIN:DAYLIGHT
TZOFFSETFROM:-0600
TZOFFSETTO:-0500
TZNAME:CDT
DTSTART:20250309T080000
END:DAYLIGHT
BEGIN:STANDARD
TZOFFSETFROM:-0500
TZOFFSETTO:-0600
TZNAME:CST
DTSTART:20251102T070000
END:STANDARD
BEGIN:DAYLIGHT
TZOFFSETFROM:-0600
TZOFFSETTO:-0500
TZNAME:CDT
DTSTART:20260308T080000
END:DAYLIGHT
BEGIN:STANDARD
TZOFFSETFROM:-0500
TZOFFSETTO:-0600
TZNAME:CST
DTSTART:20261101T070000
END:STANDARD
END:VTIMEZONE
BEGIN:VEVENT
DTSTART;TZID=America/Chicago:20250116T180000
DTEND;TZID=America/Chicago:20250116T210000
DTSTAMP:20260423T161957
CREATED:20241208T152119Z
LAST-MODIFIED:20250112T185523Z
UID:10000352-1737050400-1737061200@esperanto-chicago.org
SUMMARY:Int'l Cafe (Internacia Kafejo)
DESCRIPTION:We are meeting with the Int’l Cafe!  Learn more about the Inl’l Cafe here: https://intlcafe.io/ \nLook for the Esperanto Table. \nYou will want to register for this event here: https://intlcafe.io/CheckIn/Event/291 \nHow to find us at the event:  Look for the table with the Esperanto card! \n \nAbout Esperanto: Esperanto is a constructed international language designed for easy learning and global communication. It offers a unique window into diverse cultures and fosters friendships worldwide. \nAbout Esperanto Society of Chicago: Since 1954\, the Esperanto Society of Chicago is a welcoming community dedicated to promoting Esperanto language and culture in the Chicagoland area. We organize events\, language meetups\, and cultural exchanges to support both beginners and fluent speakers. \nJoin the Chicago Esperanto Society: https://esperanto-chicago.org/members/ \nJoin our mailing list: https://docs.google.com/forms/d/e/1FAIpQLSdMSKYjEfxfL_rQEM3bEc1UnZY0jJbLDOE_gvwUgwwm63QUjw/viewform?usp=sf_link
URL:http://esperanto-chicago.org/event/klubo-de-mortaj-krokodiloj-online-127/
LOCATION:Revolution Brewing – Brewery & Taproom\, 3340 N Kedzie Ave\, Chicago\, IL\, 60618
ATTACH;FMTTYPE=image/png:http://esperanto-chicago.org/wordpress/wp-content/uploads/2024/09/2024-09-19-16_01_22-Window.png
ORGANIZER;CN="Eric Killian":MAILTO:ericesperanto@gmail.com
END:VEVENT
BEGIN:VEVENT
DTSTART;TZID=America/Chicago:20241219T180000
DTEND;TZID=America/Chicago:20241219T210000
DTSTAMP:20260423T161957
CREATED:20241208T152037Z
LAST-MODIFIED:20241218T015525Z
UID:10000340-1734631200-1734642000@esperanto-chicago.org
SUMMARY:Internacia Kafejo
DESCRIPTION:We are participating in the Intl’ Cafe. \nYou can find more information about the event here: \nintlcafe.io  \nLook for the Esperanto table! \n———————— \nContact us at: esperanto-chicago@googlegroups.com \nAbout Esperanto: Esperanto is a constructed international language designed for easy learning and global communication. It offers a unique window into diverse cultures and fosters friendships worldwide. \nAbout Esperanto Society of Chicago: Since 1954\, the Esperanto Society of Chicago is a welcoming community dedicated to promoting Esperanto language and culture in the Chicagoland area. We organize events\, language meetups\, and cultural exchanges to support both beginners and fluent speakers. \nJoin the Chicago Esperanto Society: https://esperanto-chicago.org/members/ \nJoin our mailing list: https://docs.google.com/forms/d/e/1FAIpQLSdMSKYjEfxfL_rQEM3bEc1UnZY0jJbLDOE_gvwUgwwm63QUjw/viewform?usp=sf_link
URL:http://esperanto-chicago.org/event/klubo-de-mortaj-krokodiloj-online-123/
LOCATION:Revolution Brewing – Brewery & Taproom\, 3340 N Kedzie Ave\, Chicago\, IL\, 60618
CATEGORIES:Klubo de Mortaj Krokodiloj
ATTACH;FMTTYPE=image/png:http://esperanto-chicago.org/wordpress/wp-content/uploads/2024/09/2024-09-19-16_01_22-Window.png
ORGANIZER;CN="Eric Killian":MAILTO:ericesperanto@gmail.com
END:VEVENT
BEGIN:VEVENT
DTSTART;TZID=America/Chicago:20241121T180000
DTEND;TZID=America/Chicago:20241121T210000
DTSTAMP:20260423T161957
CREATED:20241022T234116Z
LAST-MODIFIED:20241117T151612Z
UID:10000324-1732212000-1732222800@esperanto-chicago.org
SUMMARY:Int'l Cafe
DESCRIPTION:At INT’L CAFE you can make some new friends and practice speaking a language that you are learning or already know. \nThere will be a table for each language requested. Feel free to move around to different tables if you speak multiple languages. We generally have English\, Spanish\, German\, French\, Mandarin\, Japanese\, Korean\, Portuguese\, Arabic\, Russian\, Italian\, Turkish\, Ukrainian and ASL tables. \nThis is a casual\, social event with a large number of attendees. You will have the opportunity to practice speaking other languages and meet people from all different cultures and backgrounds\, but if you are looking for a quiet\, intimate conversational group\, you may want to look elsewhere. Translation: Our events can get noisy and crowded (and fun!) \nAbout Esperanto: Esperanto is a constructed international language designed for easy learning and global communication. It offers a unique window into diverse cultures and fosters friendships worldwide. \nAbout Esperanto Society of Chicago: Since 1954\, the Esperanto Society of Chicago is a welcoming community dedicated to promoting Esperanto language and culture in the Chicagoland area. We organize events\, language meetups\, and cultural exchanges to support both beginners and fluent speakers. \nJoin the Chicago Esperanto Society: https://esperanto-chicago.org/members/ \nJoin our mailing list: https://docs.google.com/forms/d/e/1FAIpQLSdMSKYjEfxfL_rQEM3bEc1UnZY0jJbLDOE_gvwUgwwm63QUjw/viewform?usp=sf_link
URL:http://esperanto-chicago.org/event/klubo-de-mortaj-krokodiloj-online-120/
LOCATION:Revolution Brewing – Brewery & Taproom\, 3340 N Kedzie Ave\, Chicago\, IL\, 60618
CATEGORIES:Klubo de Mortaj Krokodiloj
ATTACH;FMTTYPE=image/png:http://esperanto-chicago.org/wordpress/wp-content/uploads/2024/09/2024-09-19-16_01_22-Window.png
ORGANIZER;CN="Eric Killian":MAILTO:ericesperanto@gmail.com
END:VEVENT
BEGIN:VEVENT
DTSTART;TZID=America/Chicago:20241003T180000
DTEND;TZID=America/Chicago:20241003T210000
DTSTAMP:20260423T161957
CREATED:20241001T234430Z
LAST-MODIFIED:20241001T234532Z
UID:10000309-1727978400-1727989200@esperanto-chicago.org
SUMMARY:Int'l Cafe
DESCRIPTION:At INT’L CAFE you can make some new friends and practice speaking a language that you are learning or already know. \nThere will be a table for each language requested. Feel free to move around to different tables if you speak multiple languages. We generally have English\, Spanish\, German\, French\, Mandarin\, Japanese\, Korean\, Portuguese\, Arabic\, Russian\, Italian\, Turkish\, Ukrainian and ASL tables. \nThis is a casual\, social event with a large number of attendees. You will have the opportunity to practice speaking other languages and meet people from all different cultures and backgrounds\, but if you are looking for a quiet\, intimate conversational group\, you may want to look elsewhere. Translation: Our events can get noisy and crowded (and fun!)
URL:http://esperanto-chicago.org/event/intl-cafe/
LOCATION:Revolution Brewing – Brewery & Taproom\, 3340 N Kedzie Ave\, Chicago\, IL\, 60618
ATTACH;FMTTYPE=image/png:http://esperanto-chicago.org/wordpress/wp-content/uploads/2024/09/2024-09-19-16_01_22-Window.png
ORGANIZER;CN="Eric Killian":MAILTO:ericesperanto@gmail.com
END:VEVENT
BEGIN:VEVENT
DTSTART;TZID=America/Chicago:20240919T180000
DTEND;TZID=America/Chicago:20240919T210000
DTSTAMP:20260423T161957
CREATED:20240910T215101Z
LAST-MODIFIED:20240919T210253Z
UID:10000294-1726768800-1726779600@esperanto-chicago.org
SUMMARY:Int'l Café  - Chicago
DESCRIPTION:We will be participating in the the Int’l Café  – Chicago.   A poloyglot gathering.    \n \nContact us at: esperanto-chicago@googlegroups.com \nJoin the Chicago Esperanto Society: https://esperanto-chicago.org/members/ \nJoin our mailing list.
URL:http://esperanto-chicago.org/event/klubo-de-mortaj-krokodiloj-online-112/
LOCATION:Revolution Brewing – Brewery & Taproom\, 3340 N Kedzie Ave\, Chicago\, IL\, 60618
ATTACH;FMTTYPE=image/png:http://esperanto-chicago.org/wordpress/wp-content/uploads/2024/09/2024-09-19-16_01_22-Window.png
ORGANIZER;CN="Eric Killian":MAILTO:ericesperanto@gmail.com
END:VEVENT
END:VCALENDAR