BEGIN:VCALENDAR
VERSION:2.0
PRODID:-//La Esperanto-Societo de Ĉikago - ECPv6.15.20//NONSGML v1.0//EN
CALSCALE:GREGORIAN
METHOD:PUBLISH
X-WR-CALNAME:La Esperanto-Societo de Ĉikago
X-ORIGINAL-URL:http://esperanto-chicago.org
X-WR-CALDESC:Events for La Esperanto-Societo de Ĉikago
REFRESH-INTERVAL;VALUE=DURATION:PT1H
X-Robots-Tag:noindex
X-PUBLISHED-TTL:PT1H
BEGIN:VTIMEZONE
TZID:America/Chicago
BEGIN:DAYLIGHT
TZOFFSETFROM:-0600
TZOFFSETTO:-0500
TZNAME:CDT
DTSTART:20250309T080000
END:DAYLIGHT
BEGIN:STANDARD
TZOFFSETFROM:-0500
TZOFFSETTO:-0600
TZNAME:CST
DTSTART:20251102T070000
END:STANDARD
BEGIN:DAYLIGHT
TZOFFSETFROM:-0600
TZOFFSETTO:-0500
TZNAME:CDT
DTSTART:20260308T080000
END:DAYLIGHT
BEGIN:STANDARD
TZOFFSETFROM:-0500
TZOFFSETTO:-0600
TZNAME:CST
DTSTART:20261101T070000
END:STANDARD
BEGIN:DAYLIGHT
TZOFFSETFROM:-0600
TZOFFSETTO:-0500
TZNAME:CDT
DTSTART:20270314T080000
END:DAYLIGHT
BEGIN:STANDARD
TZOFFSETFROM:-0500
TZOFFSETTO:-0600
TZNAME:CST
DTSTART:20271107T070000
END:STANDARD
END:VTIMEZONE
BEGIN:VEVENT
DTSTART;TZID=America/Chicago:20260430T180000
DTEND;TZID=America/Chicago:20260430T210000
DTSTAMP:20260423T105354
CREATED:20260329T144430Z
LAST-MODIFIED:20260329T150902Z
UID:10000861-1777572000-1777582800@esperanto-chicago.org
SUMMARY:Biera Revolucio
DESCRIPTION:English\nJoin us for Biera Revolucio!Come and practice your Esperanto with friends at Revolution Brewing! Whether you are a fluent speaker or a total beginner\, everyone is welcome to join our “Liquid Rebellion.” Look for the table with our the Esperanto sign. We’ll be sharing great conversation\, local brews\, and the “internal idea” of friendship through language. Don’t worry—if you get stuck\, “krokodili” (speaking a bit of English) is always allowed!\n\nWhen: 6:00 PM – 9:00 PM\nWhere: Revolution Brewing – Brewery & Taproom\, 3340 N Kedzie Ave\, Chicago\nWhat to bring: Your curiosity and a thirst for good beer!\n\nEsperanto\nVenu al Biera Revolucio!Venu kaj praktiku Esperanton kun amikoj ĉe Revolution Brewing! Ĉu vi estas flua parolanto aŭ komencanto\, ĉiuj estas bonvenaj al nia “Likva Ribelo.” Serĉu la tablon kun la verda stelo aŭ la Esperanto-ŝildo. Ni dividos bonegan konversacion\, lokajn bierojn\, kaj la “internan ideon” de amikeco per nia lingvo. Ne maltrankviliĝu—se vi bezonas helpon\, vi ĉiam rajtas iomete “krokodili”!\n\nHow to find us at the event:  Look for the table with the Esperanto card! \n \nIf you RSVP below\, we will save you a seat. \n\nAbout Esperanto: Esperanto is a constructed international language designed for easy learning and global communication. It offers a unique window into diverse cultures and fosters friendships worldwide. \nAbout Esperanto Society of Chicago: Since 1954\, the Esperanto Society of Chicago is a welcoming community dedicated to promoting Esperanto language and culture in the Chicagoland area. We organize events\, language meetups\, and cultural exchanges to support both beginners and fluent speakers. \nContact us: esperanto-chicago@googlegroups.com\n  \nBecome a Member\nJoin our Mailing List\n\nMake a Donation\n\n  \nSee more events at: esperanto-chicago.org/events\n\n 
URL:http://esperanto-chicago.org/event/biera-revolucio/
LOCATION:Revolution Brewing – Brewery & Taproom\, 3340 N Kedzie Ave\, Chicago\, IL\, 60618
ATTACH;FMTTYPE=image/png:http://esperanto-chicago.org/wordpress/wp-content/uploads/2026/03/2026-03-29-09_46_40-Update-movement_id-Excel.png
ORGANIZER;CN="Randy Ream":MAILTO:rsream@gmail.com
END:VEVENT
BEGIN:VEVENT
DTSTART;TZID=America/Chicago:20260507T180000
DTEND;TZID=America/Chicago:20260507T210000
DTSTAMP:20260423T105354
CREATED:20251230T041157Z
LAST-MODIFIED:20251230T041200Z
UID:10000839-1778176800-1778187600@esperanto-chicago.org
SUMMARY:Int'l Cafe (Internacia Kafejo) Logan Square
DESCRIPTION:http://esperanto-chicago.org/events// \nWe are meeting with the Int’l Cafe!  Look for the Esperanto Table.\n\n\n\nWHAT:     Conversation and drinks.\nWHERE:  Revolution Brewing – Brewery & Taproom\, 3340 N Kedzie Ave\, Chicago 60618\nWHEN:     6:00 PM to 9:00 PM\n\n\n\n \nYou will want to register for this event here:  https://intlcafe.io/ \nWhat if I don’t speak Esperanto or am learning?   All are welcome. If you are a beginner see:  How to Participate in an Esperanto Event for the First Time.  \nHow to find us at the event:  Look for the table with the Esperanto card! \n \nIf you RSVP below\, we will save you a seat. \n\nAbout Esperanto: Esperanto is a constructed international language designed for easy learning and global communication. It offers a unique window into diverse cultures and fosters friendships worldwide. \nAbout Esperanto Society of Chicago: Since 1954\, the Esperanto Society of Chicago is a welcoming community dedicated to promoting Esperanto language and culture in the Chicagoland area. We organize events\, language meetups\, and cultural exchanges to support both beginners and fluent speakers. \nContact us: esperanto-chicago@googlegroups.com\n  \nBecome a Member\nJoin our Mailing List\n\nMake a Donation\n\n  \nSee more events at: esperanto-chicago.org/events\n\n 
URL:http://esperanto-chicago.org/event/intl-cafe-internacia-kafejo-logan-square-15/2026-05-07/
LOCATION:Revolution Brewing – Brewery & Taproom\, 3340 N Kedzie Ave\, Chicago\, IL\, 60618
CATEGORIES:Int'l Cafe
ATTACH;FMTTYPE=image/jpeg:http://esperanto-chicago.org/wordpress/wp-content/uploads/2025/01/intl.jpg
ORGANIZER;CN="Eric Killian":MAILTO:ericesperanto@gmail.com
END:VEVENT
BEGIN:VEVENT
DTSTART;TZID=America/Chicago:20260521T180000
DTEND;TZID=America/Chicago:20260521T210000
DTSTAMP:20260423T105354
CREATED:20250626T012305Z
LAST-MODIFIED:20251202T205748Z
UID:10000606-1779386400-1779397200@esperanto-chicago.org
SUMMARY:Int'l Cafe (Internacia Kafejo) Logan Square
DESCRIPTION:http://esperanto-chicago.org/events// \nWe are meeting with the Int’l Cafe!  Look for the Esperanto Table.\n\n\n\nWHAT:     Conversation and drinks.\nWHERE:  Revolution Brewing – Brewery & Taproom\, 3340 N Kedzie Ave\, Chicago 60618\nWHEN:     6:00 PM to 9:00 PM\n\n\n\n \nYou will want to register for this event here: https://www.intlcafe.io/ \nWhat if I don’t speak Esperanto or am learning?   All are welcome. If you are a beginner see:  How to Participate in an Esperanto Event for the First Time.  \nHow to find us at the event:  Look for the table with the Esperanto card! \n \nIf you RSVP below\, we will save you a seat. \n\nAbout Esperanto: Esperanto is a constructed international language designed for easy learning and global communication. It offers a unique window into diverse cultures and fosters friendships worldwide. \nAbout Esperanto Society of Chicago: Since 1954\, the Esperanto Society of Chicago is a welcoming community dedicated to promoting Esperanto language and culture in the Chicagoland area. We organize events\, language meetups\, and cultural exchanges to support both beginners and fluent speakers. \nContact us: esperanto-chicago@googlegroups.com \n      \n \n\n 
URL:http://esperanto-chicago.org/event/intl-cafe-internacia-kafejo-logan-square-2/2026-05-21/
LOCATION:Revolution Brewing – Brewery & Taproom\, 3340 N Kedzie Ave\, Chicago\, IL\, 60618
CATEGORIES:Int'l Cafe
ATTACH;FMTTYPE=image/jpeg:http://esperanto-chicago.org/wordpress/wp-content/uploads/2025/01/intl.jpg
ORGANIZER;CN="Eric Killian":MAILTO:ericesperanto@gmail.com
END:VEVENT
BEGIN:VEVENT
DTSTART;TZID=America/Chicago:20260604T180000
DTEND;TZID=America/Chicago:20260604T210000
DTSTAMP:20260423T105354
CREATED:20251230T041157Z
LAST-MODIFIED:20251230T041200Z
UID:10000592-1780596000-1780606800@esperanto-chicago.org
SUMMARY:Int'l Cafe (Internacia Kafejo) Logan Square
DESCRIPTION:http://esperanto-chicago.org/events// \nWe are meeting with the Int’l Cafe!  Look for the Esperanto Table.\n\n\n\nWHAT:     Conversation and drinks.\nWHERE:  Revolution Brewing – Brewery & Taproom\, 3340 N Kedzie Ave\, Chicago 60618\nWHEN:     6:00 PM to 9:00 PM\n\n\n\n \nYou will want to register for this event here:  https://intlcafe.io/ \nWhat if I don’t speak Esperanto or am learning?   All are welcome. If you are a beginner see:  How to Participate in an Esperanto Event for the First Time.  \nHow to find us at the event:  Look for the table with the Esperanto card! \n \nIf you RSVP below\, we will save you a seat. \n\nAbout Esperanto: Esperanto is a constructed international language designed for easy learning and global communication. It offers a unique window into diverse cultures and fosters friendships worldwide. \nAbout Esperanto Society of Chicago: Since 1954\, the Esperanto Society of Chicago is a welcoming community dedicated to promoting Esperanto language and culture in the Chicagoland area. We organize events\, language meetups\, and cultural exchanges to support both beginners and fluent speakers. \nContact us: esperanto-chicago@googlegroups.com\n  \nBecome a Member\nJoin our Mailing List\n\nMake a Donation\n\n  \nSee more events at: esperanto-chicago.org/events\n\n 
URL:http://esperanto-chicago.org/event/intl-cafe-internacia-kafejo-logan-square-15/2026-06-04/
LOCATION:Revolution Brewing – Brewery & Taproom\, 3340 N Kedzie Ave\, Chicago\, IL\, 60618
CATEGORIES:Int'l Cafe
ATTACH;FMTTYPE=image/jpeg:http://esperanto-chicago.org/wordpress/wp-content/uploads/2025/01/intl.jpg
ORGANIZER;CN="Eric Killian":MAILTO:ericesperanto@gmail.com
END:VEVENT
BEGIN:VEVENT
DTSTART;TZID=America/Chicago:20260618T180000
DTEND;TZID=America/Chicago:20260618T210000
DTSTAMP:20260423T105354
CREATED:20250626T012305Z
LAST-MODIFIED:20251202T205748Z
UID:10000607-1781805600-1781816400@esperanto-chicago.org
SUMMARY:Int'l Cafe (Internacia Kafejo) Logan Square
DESCRIPTION:http://esperanto-chicago.org/events// \nWe are meeting with the Int’l Cafe!  Look for the Esperanto Table.\n\n\n\nWHAT:     Conversation and drinks.\nWHERE:  Revolution Brewing – Brewery & Taproom\, 3340 N Kedzie Ave\, Chicago 60618\nWHEN:     6:00 PM to 9:00 PM\n\n\n\n \nYou will want to register for this event here: https://www.intlcafe.io/ \nWhat if I don’t speak Esperanto or am learning?   All are welcome. If you are a beginner see:  How to Participate in an Esperanto Event for the First Time.  \nHow to find us at the event:  Look for the table with the Esperanto card! \n \nIf you RSVP below\, we will save you a seat. \n\nAbout Esperanto: Esperanto is a constructed international language designed for easy learning and global communication. It offers a unique window into diverse cultures and fosters friendships worldwide. \nAbout Esperanto Society of Chicago: Since 1954\, the Esperanto Society of Chicago is a welcoming community dedicated to promoting Esperanto language and culture in the Chicagoland area. We organize events\, language meetups\, and cultural exchanges to support both beginners and fluent speakers. \nContact us: esperanto-chicago@googlegroups.com \n      \n \n\n 
URL:http://esperanto-chicago.org/event/intl-cafe-internacia-kafejo-logan-square-2/2026-06-18/
LOCATION:Revolution Brewing – Brewery & Taproom\, 3340 N Kedzie Ave\, Chicago\, IL\, 60618
CATEGORIES:Int'l Cafe
ATTACH;FMTTYPE=image/jpeg:http://esperanto-chicago.org/wordpress/wp-content/uploads/2025/01/intl.jpg
ORGANIZER;CN="Eric Killian":MAILTO:ericesperanto@gmail.com
END:VEVENT
BEGIN:VEVENT
DTSTART;TZID=America/Chicago:20260702T180000
DTEND;TZID=America/Chicago:20260702T210000
DTSTAMP:20260423T105354
CREATED:20251230T041157Z
LAST-MODIFIED:20251230T041200Z
UID:10000840-1783015200-1783026000@esperanto-chicago.org
SUMMARY:Int'l Cafe (Internacia Kafejo) Logan Square
DESCRIPTION:http://esperanto-chicago.org/events// \nWe are meeting with the Int’l Cafe!  Look for the Esperanto Table.\n\n\n\nWHAT:     Conversation and drinks.\nWHERE:  Revolution Brewing – Brewery & Taproom\, 3340 N Kedzie Ave\, Chicago 60618\nWHEN:     6:00 PM to 9:00 PM\n\n\n\n \nYou will want to register for this event here:  https://intlcafe.io/ \nWhat if I don’t speak Esperanto or am learning?   All are welcome. If you are a beginner see:  How to Participate in an Esperanto Event for the First Time.  \nHow to find us at the event:  Look for the table with the Esperanto card! \n \nIf you RSVP below\, we will save you a seat. \n\nAbout Esperanto: Esperanto is a constructed international language designed for easy learning and global communication. It offers a unique window into diverse cultures and fosters friendships worldwide. \nAbout Esperanto Society of Chicago: Since 1954\, the Esperanto Society of Chicago is a welcoming community dedicated to promoting Esperanto language and culture in the Chicagoland area. We organize events\, language meetups\, and cultural exchanges to support both beginners and fluent speakers. \nContact us: esperanto-chicago@googlegroups.com\n  \nBecome a Member\nJoin our Mailing List\n\nMake a Donation\n\n  \nSee more events at: esperanto-chicago.org/events\n\n 
URL:http://esperanto-chicago.org/event/intl-cafe-internacia-kafejo-logan-square-15/2026-07-02/
LOCATION:Revolution Brewing – Brewery & Taproom\, 3340 N Kedzie Ave\, Chicago\, IL\, 60618
CATEGORIES:Int'l Cafe
ATTACH;FMTTYPE=image/jpeg:http://esperanto-chicago.org/wordpress/wp-content/uploads/2025/01/intl.jpg
ORGANIZER;CN="Eric Killian":MAILTO:ericesperanto@gmail.com
END:VEVENT
BEGIN:VEVENT
DTSTART;TZID=America/Chicago:20260716T180000
DTEND;TZID=America/Chicago:20260716T210000
DTSTAMP:20260423T105354
CREATED:20250626T012305Z
LAST-MODIFIED:20251202T205748Z
UID:10000608-1784224800-1784235600@esperanto-chicago.org
SUMMARY:Int'l Cafe (Internacia Kafejo) Logan Square
DESCRIPTION:http://esperanto-chicago.org/events// \nWe are meeting with the Int’l Cafe!  Look for the Esperanto Table.\n\n\n\nWHAT:     Conversation and drinks.\nWHERE:  Revolution Brewing – Brewery & Taproom\, 3340 N Kedzie Ave\, Chicago 60618\nWHEN:     6:00 PM to 9:00 PM\n\n\n\n \nYou will want to register for this event here: https://www.intlcafe.io/ \nWhat if I don’t speak Esperanto or am learning?   All are welcome. If you are a beginner see:  How to Participate in an Esperanto Event for the First Time.  \nHow to find us at the event:  Look for the table with the Esperanto card! \n \nIf you RSVP below\, we will save you a seat. \n\nAbout Esperanto: Esperanto is a constructed international language designed for easy learning and global communication. It offers a unique window into diverse cultures and fosters friendships worldwide. \nAbout Esperanto Society of Chicago: Since 1954\, the Esperanto Society of Chicago is a welcoming community dedicated to promoting Esperanto language and culture in the Chicagoland area. We organize events\, language meetups\, and cultural exchanges to support both beginners and fluent speakers. \nContact us: esperanto-chicago@googlegroups.com \n      \n \n\n 
URL:http://esperanto-chicago.org/event/intl-cafe-internacia-kafejo-logan-square-2/2026-07-16/
LOCATION:Revolution Brewing – Brewery & Taproom\, 3340 N Kedzie Ave\, Chicago\, IL\, 60618
CATEGORIES:Int'l Cafe
ATTACH;FMTTYPE=image/jpeg:http://esperanto-chicago.org/wordpress/wp-content/uploads/2025/01/intl.jpg
ORGANIZER;CN="Eric Killian":MAILTO:ericesperanto@gmail.com
END:VEVENT
BEGIN:VEVENT
DTSTART;TZID=America/Chicago:20260806T180000
DTEND;TZID=America/Chicago:20260806T210000
DTSTAMP:20260423T105354
CREATED:20251230T041157Z
LAST-MODIFIED:20251230T041200Z
UID:10000841-1786039200-1786050000@esperanto-chicago.org
SUMMARY:Int'l Cafe (Internacia Kafejo) Logan Square
DESCRIPTION:http://esperanto-chicago.org/events// \nWe are meeting with the Int’l Cafe!  Look for the Esperanto Table.\n\n\n\nWHAT:     Conversation and drinks.\nWHERE:  Revolution Brewing – Brewery & Taproom\, 3340 N Kedzie Ave\, Chicago 60618\nWHEN:     6:00 PM to 9:00 PM\n\n\n\n \nYou will want to register for this event here:  https://intlcafe.io/ \nWhat if I don’t speak Esperanto or am learning?   All are welcome. If you are a beginner see:  How to Participate in an Esperanto Event for the First Time.  \nHow to find us at the event:  Look for the table with the Esperanto card! \n \nIf you RSVP below\, we will save you a seat. \n\nAbout Esperanto: Esperanto is a constructed international language designed for easy learning and global communication. It offers a unique window into diverse cultures and fosters friendships worldwide. \nAbout Esperanto Society of Chicago: Since 1954\, the Esperanto Society of Chicago is a welcoming community dedicated to promoting Esperanto language and culture in the Chicagoland area. We organize events\, language meetups\, and cultural exchanges to support both beginners and fluent speakers. \nContact us: esperanto-chicago@googlegroups.com\n  \nBecome a Member\nJoin our Mailing List\n\nMake a Donation\n\n  \nSee more events at: esperanto-chicago.org/events\n\n 
URL:http://esperanto-chicago.org/event/intl-cafe-internacia-kafejo-logan-square-15/2026-08-06/
LOCATION:Revolution Brewing – Brewery & Taproom\, 3340 N Kedzie Ave\, Chicago\, IL\, 60618
CATEGORIES:Int'l Cafe
ATTACH;FMTTYPE=image/jpeg:http://esperanto-chicago.org/wordpress/wp-content/uploads/2025/01/intl.jpg
ORGANIZER;CN="Eric Killian":MAILTO:ericesperanto@gmail.com
END:VEVENT
BEGIN:VEVENT
DTSTART;TZID=America/Chicago:20260820T180000
DTEND;TZID=America/Chicago:20260820T210000
DTSTAMP:20260423T105354
CREATED:20250626T012305Z
LAST-MODIFIED:20251202T205748Z
UID:10000609-1787248800-1787259600@esperanto-chicago.org
SUMMARY:Int'l Cafe (Internacia Kafejo) Logan Square
DESCRIPTION:http://esperanto-chicago.org/events// \nWe are meeting with the Int’l Cafe!  Look for the Esperanto Table.\n\n\n\nWHAT:     Conversation and drinks.\nWHERE:  Revolution Brewing – Brewery & Taproom\, 3340 N Kedzie Ave\, Chicago 60618\nWHEN:     6:00 PM to 9:00 PM\n\n\n\n \nYou will want to register for this event here: https://www.intlcafe.io/ \nWhat if I don’t speak Esperanto or am learning?   All are welcome. If you are a beginner see:  How to Participate in an Esperanto Event for the First Time.  \nHow to find us at the event:  Look for the table with the Esperanto card! \n \nIf you RSVP below\, we will save you a seat. \n\nAbout Esperanto: Esperanto is a constructed international language designed for easy learning and global communication. It offers a unique window into diverse cultures and fosters friendships worldwide. \nAbout Esperanto Society of Chicago: Since 1954\, the Esperanto Society of Chicago is a welcoming community dedicated to promoting Esperanto language and culture in the Chicagoland area. We organize events\, language meetups\, and cultural exchanges to support both beginners and fluent speakers. \nContact us: esperanto-chicago@googlegroups.com \n      \n \n\n 
URL:http://esperanto-chicago.org/event/intl-cafe-internacia-kafejo-logan-square-2/2026-08-20/
LOCATION:Revolution Brewing – Brewery & Taproom\, 3340 N Kedzie Ave\, Chicago\, IL\, 60618
CATEGORIES:Int'l Cafe
ATTACH;FMTTYPE=image/jpeg:http://esperanto-chicago.org/wordpress/wp-content/uploads/2025/01/intl.jpg
ORGANIZER;CN="Eric Killian":MAILTO:ericesperanto@gmail.com
END:VEVENT
BEGIN:VEVENT
DTSTART;TZID=America/Chicago:20260903T180000
DTEND;TZID=America/Chicago:20260903T210000
DTSTAMP:20260423T105354
CREATED:20251230T041157Z
LAST-MODIFIED:20251230T041200Z
UID:10000842-1788458400-1788469200@esperanto-chicago.org
SUMMARY:Int'l Cafe (Internacia Kafejo) Logan Square
DESCRIPTION:http://esperanto-chicago.org/events// \nWe are meeting with the Int’l Cafe!  Look for the Esperanto Table.\n\n\n\nWHAT:     Conversation and drinks.\nWHERE:  Revolution Brewing – Brewery & Taproom\, 3340 N Kedzie Ave\, Chicago 60618\nWHEN:     6:00 PM to 9:00 PM\n\n\n\n \nYou will want to register for this event here:  https://intlcafe.io/ \nWhat if I don’t speak Esperanto or am learning?   All are welcome. If you are a beginner see:  How to Participate in an Esperanto Event for the First Time.  \nHow to find us at the event:  Look for the table with the Esperanto card! \n \nIf you RSVP below\, we will save you a seat. \n\nAbout Esperanto: Esperanto is a constructed international language designed for easy learning and global communication. It offers a unique window into diverse cultures and fosters friendships worldwide. \nAbout Esperanto Society of Chicago: Since 1954\, the Esperanto Society of Chicago is a welcoming community dedicated to promoting Esperanto language and culture in the Chicagoland area. We organize events\, language meetups\, and cultural exchanges to support both beginners and fluent speakers. \nContact us: esperanto-chicago@googlegroups.com\n  \nBecome a Member\nJoin our Mailing List\n\nMake a Donation\n\n  \nSee more events at: esperanto-chicago.org/events\n\n 
URL:http://esperanto-chicago.org/event/intl-cafe-internacia-kafejo-logan-square-15/2026-09-03/
LOCATION:Revolution Brewing – Brewery & Taproom\, 3340 N Kedzie Ave\, Chicago\, IL\, 60618
CATEGORIES:Int'l Cafe
ATTACH;FMTTYPE=image/jpeg:http://esperanto-chicago.org/wordpress/wp-content/uploads/2025/01/intl.jpg
ORGANIZER;CN="Eric Killian":MAILTO:ericesperanto@gmail.com
END:VEVENT
BEGIN:VEVENT
DTSTART;TZID=America/Chicago:20260917T180000
DTEND;TZID=America/Chicago:20260917T210000
DTSTAMP:20260423T105354
CREATED:20250626T012305Z
LAST-MODIFIED:20251202T205748Z
UID:10000610-1789668000-1789678800@esperanto-chicago.org
SUMMARY:Int'l Cafe (Internacia Kafejo) Logan Square
DESCRIPTION:http://esperanto-chicago.org/events// \nWe are meeting with the Int’l Cafe!  Look for the Esperanto Table.\n\n\n\nWHAT:     Conversation and drinks.\nWHERE:  Revolution Brewing – Brewery & Taproom\, 3340 N Kedzie Ave\, Chicago 60618\nWHEN:     6:00 PM to 9:00 PM\n\n\n\n \nYou will want to register for this event here: https://www.intlcafe.io/ \nWhat if I don’t speak Esperanto or am learning?   All are welcome. If you are a beginner see:  How to Participate in an Esperanto Event for the First Time.  \nHow to find us at the event:  Look for the table with the Esperanto card! \n \nIf you RSVP below\, we will save you a seat. \n\nAbout Esperanto: Esperanto is a constructed international language designed for easy learning and global communication. It offers a unique window into diverse cultures and fosters friendships worldwide. \nAbout Esperanto Society of Chicago: Since 1954\, the Esperanto Society of Chicago is a welcoming community dedicated to promoting Esperanto language and culture in the Chicagoland area. We organize events\, language meetups\, and cultural exchanges to support both beginners and fluent speakers. \nContact us: esperanto-chicago@googlegroups.com \n      \n \n\n 
URL:http://esperanto-chicago.org/event/intl-cafe-internacia-kafejo-logan-square-2/2026-09-17/
LOCATION:Revolution Brewing – Brewery & Taproom\, 3340 N Kedzie Ave\, Chicago\, IL\, 60618
CATEGORIES:Int'l Cafe
ATTACH;FMTTYPE=image/jpeg:http://esperanto-chicago.org/wordpress/wp-content/uploads/2025/01/intl.jpg
ORGANIZER;CN="Eric Killian":MAILTO:ericesperanto@gmail.com
END:VEVENT
END:VCALENDAR