BEGIN:VCALENDAR
VERSION:2.0
PRODID:-//La Esperanto-Societo de Ĉikago - ECPv6.15.20//NONSGML v1.0//EN
CALSCALE:GREGORIAN
METHOD:PUBLISH
X-WR-CALNAME:La Esperanto-Societo de Ĉikago
X-ORIGINAL-URL:http://esperanto-chicago.org
X-WR-CALDESC:Events for La Esperanto-Societo de Ĉikago
REFRESH-INTERVAL;VALUE=DURATION:PT1H
X-Robots-Tag:noindex
X-PUBLISHED-TTL:PT1H
BEGIN:VTIMEZONE
TZID:America/Chicago
BEGIN:DAYLIGHT
TZOFFSETFROM:-0600
TZOFFSETTO:-0500
TZNAME:CDT
DTSTART:20230312T080000
END:DAYLIGHT
BEGIN:STANDARD
TZOFFSETFROM:-0500
TZOFFSETTO:-0600
TZNAME:CST
DTSTART:20231105T070000
END:STANDARD
BEGIN:DAYLIGHT
TZOFFSETFROM:-0600
TZOFFSETTO:-0500
TZNAME:CDT
DTSTART:20240310T080000
END:DAYLIGHT
BEGIN:STANDARD
TZOFFSETFROM:-0500
TZOFFSETTO:-0600
TZNAME:CST
DTSTART:20241103T070000
END:STANDARD
BEGIN:DAYLIGHT
TZOFFSETFROM:-0600
TZOFFSETTO:-0500
TZNAME:CDT
DTSTART:20250309T080000
END:DAYLIGHT
BEGIN:STANDARD
TZOFFSETFROM:-0500
TZOFFSETTO:-0600
TZNAME:CST
DTSTART:20251102T070000
END:STANDARD
END:VTIMEZONE
BEGIN:VEVENT
DTSTART;TZID=America/Chicago:20240923T170000
DTEND;TZID=America/Chicago:20240923T183000
DTSTAMP:20260423T210016
CREATED:20240910T215103Z
LAST-MODIFIED:20240923T210825Z
UID:10000296-1727110800-1727116200@esperanto-chicago.org
SUMMARY:Manĝu\, Manĝu!
DESCRIPTION:(English follows) \nMalkovru Esperanton ĉe “Manĝu\, Manĝu”! \nAligu al ni por vespero de lingvo kaj kamaraderio ĉe la ĉefa vizaĝ-al-vizaĝa evento de la ĉikaga Esperanto-Societo \, “Manĝu\, Manĝu”. Ĉu vi parolas flue en Esperanto aŭ simple scivolas\, ĉi tiu kunveno estas taŭga por ĉiuj. Situanta ĉe restoracio\, ĝi estas perfekta okazo por ĝui bonan manĝon kaj belan kompanion kun esploro de la beleco de Esperanto. \nKion Atendi: \n* Lingva Diverseco: Imersiĝu en Esperanto\, facile lernebla\, internacia lingvo konata pro ĝia simplereco kaj inkluziveco.\n* Amika Afero: Ĉu vi estas sperta parolanto aŭ komencanto\, ĉiuj bonvenas. Ne zorgu\, ni ankaŭ parolas angle!\n* Bona Manĝo: Kiel vi plej deziras la manĝaĵojn de la restoracio dum ĝuante stimulan konversacion kun samideanoj. \nVenu malsata por bona manĝo\, bela konversacio\, kaj ŝancon por malkovri la internacian lingvon de amikeco. Aligu al ni por “Manĝu\, Manĝu” kaj spertu la ĝojon de Esperanto mem. \nPor pliaj informoj kaj vidi la menuon\, vizitu: https://buona.com/menu/ \n————————————————————– \nDiscover Esperanto at “Manĝu\, Manĝu”! \nJoin us for an evening of language and camaraderie at the Esperanto Society of Chicago’s signature event\, “Manĝu\, Manĝu” (Eat\, Eat). Whether you’re fluent in Esperanto or simply curious\, this gathering is designed for everyone. Located at a cozy restaurant\, it’s the perfect opportunity to enjoy good food and great company while exploring the beauty of Esperanto. \nWhat to Expect: \n* Language Diversity: Immerse yourself in Esperanto\, an easy-to-learn\, international language known for its simplicity and inclusivity.\n* Friendly Atmosphere: Whether you’re a seasoned speaker or a complete beginner\, everyone is welcome. Don’t worry\, we also speak English!\n* Delicious Dining: Indulge in the restaurant’s menu offerings while enjoying stimulating conversation with fellow language enthusiasts. \nCome hungry for good food\, great conversation\, and a chance to discover the global language of friendship. Join us for “Manĝu\, Manĝu” and experience the joy of Esperanto firsthand! \nFor more information and to view the menu\, visit: https://buona.com/menu/ \nNote: “Manĝu\, Manĝu” translates to “Eat\, Eat” in English. \nAbout Esperanto: Esperanto is a constructed international language designed for easy learning and global communication. It offers a unique window into diverse cultures and fosters friendships worldwide. \nAbout Esperanto Society of Chicago: Since 1954\, the Esperanto Society of Chicago is a welcoming community dedicated to promoting Esperanto language and culture in the Chicagoland area. We organize events\, language meetups\, and cultural exchanges to support both beginners and fluent speakers. \nJoin the Chicago Esperanto Society: https://esperanto-chicago.org/members/ \nJoin our mailing list: https://docs.google.com/forms/d/e/1FAIpQLSdMSKYjEfxfL_rQEM3bEc1UnZY0jJbLDOE_gvwUgwwm63QUjw/viewform?usp=sf_link
URL:http://esperanto-chicago.org/event/mangu-mangu-17/
LOCATION:Panera Bread\, 7400 W North Ave\, Elmsood Park\, IL\, 7400 W North Ave\, Elmwood Park\, IL\, 60707
ORGANIZER;CN="Randy Ream":MAILTO:rsream@gmail.com
END:VEVENT
BEGIN:VEVENT
DTSTART;TZID=America/Chicago:20240916T170000
DTEND;TZID=America/Chicago:20240916T183000
DTSTAMP:20260423T210016
CREATED:20240910T215100Z
LAST-MODIFIED:20240916T150423Z
UID:10000293-1726506000-1726511400@esperanto-chicago.org
SUMMARY:Manĝu\, Manĝu!
DESCRIPTION:(English follows) \nMalkovru Esperanton ĉe “Manĝu\, Manĝu”! \nAligu al ni por vespero de lingvo kaj kamaraderio ĉe la ĉefa vizaĝ-al-vizaĝa evento de la ĉikaga Esperanto-Societo \, “Manĝu\, Manĝu”. Ĉu vi parolas flue en Esperanto aŭ simple scivolas\, ĉi tiu kunveno estas taŭga por ĉiuj. Situanta ĉe restoracio\, ĝi estas perfekta okazo por ĝui bonan manĝon kaj belan kompanion kun esploro de la beleco de Esperanto. \nKion Atendi: \n* Lingva Diverseco: Imersiĝu en Esperanto\, facile lernebla\, internacia lingvo konata pro ĝia simplereco kaj inkluziveco.\n* Amika Afero: Ĉu vi estas sperta parolanto aŭ komencanto\, ĉiuj bonvenas. Ne zorgu\, ni ankaŭ parolas angle!\n* Bona Manĝo: Kiel vi plej deziras la manĝaĵojn de la restoracio dum ĝuante stimulan konversacion kun samideanoj. \nVenu malsata por bona manĝo\, bela konversacio\, kaj ŝancon por malkovri la internacian lingvon de amikeco. Aligu al ni por “Manĝu\, Manĝu” kaj spertu la ĝojon de Esperanto mem. \nPor pliaj informoj kaj vidi la menuon\, vizitu: https://buona.com/menu/ \n————————————————————– \nDiscover Esperanto at “Manĝu\, Manĝu”! \nJoin us for an evening of language and camaraderie at the Esperanto Society of Chicago’s signature event\, “Manĝu\, Manĝu” (Eat\, Eat). Whether you’re fluent in Esperanto or simply curious\, this gathering is designed for everyone. Located at a cozy restaurant\, it’s the perfect opportunity to enjoy good food and great company while exploring the beauty of Esperanto. \nWhat to Expect: \n* Language Diversity: Immerse yourself in Esperanto\, an easy-to-learn\, international language known for its simplicity and inclusivity.\n* Friendly Atmosphere: Whether you’re a seasoned speaker or a complete beginner\, everyone is welcome. Don’t worry\, we also speak English!\n* Delicious Dining: Indulge in the restaurant’s menu offerings while enjoying stimulating conversation with fellow language enthusiasts. \nCome hungry for good food\, great conversation\, and a chance to discover the global language of friendship. Join us for “Manĝu\, Manĝu” and experience the joy of Esperanto firsthand! \nFor more information and to view the menu\, visit: https://buona.com/menu/ \nNote: “Manĝu\, Manĝu” translates to “Eat\, Eat” in English. \nAbout Esperanto: Esperanto is a constructed international language designed for easy learning and global communication. It offers a unique window into diverse cultures and fosters friendships worldwide. \nAbout Esperanto Society of Chicago: Since 1954\, the Esperanto Society of Chicago is a welcoming community dedicated to promoting Esperanto language and culture in the Chicagoland area. We organize events\, language meetups\, and cultural exchanges to support both beginners and fluent speakers. \nJoin the Chicago Esperanto Society: https://esperanto-chicago.org/members/ \nJoin our mailing list: https://docs.google.com/forms/d/e/1FAIpQLSdMSKYjEfxfL_rQEM3bEc1UnZY0jJbLDOE_gvwUgwwm63QUjw/viewform?usp=sf_link
URL:http://esperanto-chicago.org/event/mangu-mangu-16/
LOCATION:Panera Bread\, 7400 W North Ave\, Elmsood Park\, IL\, 7400 W North Ave\, Elmwood Park\, IL\, 60707
ORGANIZER;CN="Randy Ream":MAILTO:rsream@gmail.com
END:VEVENT
END:VCALENDAR