BEGIN:VCALENDAR
VERSION:2.0
PRODID:-//La Esperanto-Societo de Ĉikago - ECPv6.15.20//NONSGML v1.0//EN
CALSCALE:GREGORIAN
METHOD:PUBLISH
X-ORIGINAL-URL:http://esperanto-chicago.org
X-WR-CALDESC:Events for La Esperanto-Societo de Ĉikago
REFRESH-INTERVAL;VALUE=DURATION:PT1H
X-Robots-Tag:noindex
X-PUBLISHED-TTL:PT1H
BEGIN:VTIMEZONE
TZID:America/Chicago
BEGIN:DAYLIGHT
TZOFFSETFROM:-0600
TZOFFSETTO:-0500
TZNAME:CDT
DTSTART:20230312T080000
END:DAYLIGHT
BEGIN:STANDARD
TZOFFSETFROM:-0500
TZOFFSETTO:-0600
TZNAME:CST
DTSTART:20231105T070000
END:STANDARD
BEGIN:DAYLIGHT
TZOFFSETFROM:-0600
TZOFFSETTO:-0500
TZNAME:CDT
DTSTART:20240310T080000
END:DAYLIGHT
BEGIN:STANDARD
TZOFFSETFROM:-0500
TZOFFSETTO:-0600
TZNAME:CST
DTSTART:20241103T070000
END:STANDARD
BEGIN:DAYLIGHT
TZOFFSETFROM:-0600
TZOFFSETTO:-0500
TZNAME:CDT
DTSTART:20250309T080000
END:DAYLIGHT
BEGIN:STANDARD
TZOFFSETFROM:-0500
TZOFFSETTO:-0600
TZNAME:CST
DTSTART:20251102T070000
END:STANDARD
BEGIN:DAYLIGHT
TZOFFSETFROM:-0600
TZOFFSETTO:-0500
TZNAME:CDT
DTSTART:20260308T080000
END:DAYLIGHT
BEGIN:STANDARD
TZOFFSETFROM:-0500
TZOFFSETTO:-0600
TZNAME:CST
DTSTART:20261101T070000
END:STANDARD
END:VTIMEZONE
BEGIN:VEVENT
DTSTART;TZID=America/Chicago:20250428T173000
DTEND;TZID=America/Chicago:20250428T190000
DTSTAMP:20260423T202610
CREATED:20250424T234355Z
LAST-MODIFIED:20250424T234432Z
UID:10000404-1745861400-1745866800@esperanto-chicago.org
SUMMARY:Manĝu\, Manĝu! Lincoln Square
DESCRIPTION:http://esperanto-chicago.org/event/2025-04-28/\nDiscover Esperanto at “Manĝu\, Manĝu!” \n\nWHAT:     Conversation and food.\nWHERE:   Jerry’s Sandwiches\, 4739 N Lincoln Ave\, Chicago\, IL 60625\nWHEN:     5:30 PM to 7:00 PM\n\nJoin us for  “Manĝu\, Manĝu” (Eat\, Eat).  Whether you’re fluent in Esperanto or simply curious\, this gathering is designed for everyone. Located at a cozy restaurant\, it’s the perfect opportunity to enjoy some food and great company while exploring the beauty of Esperanto. \nWhat if I don’t speak Esperanto or am learning?   All are welcome. If you are a beginner see:  How to Participate in an Esperanto Event for the First Time. \nHow to find us?  Look for the “Esperanto”  card on the table: \n  \nWhat to Expect: \n* Esperanto conversation: Immerse yourself in Esperanto\, an easy-to-learn\, international language known for its simplicity and inclusivity.\n* Friendly Atmosphere: Whether you’re a seasoned speaker or a complete beginner\, everyone is welcome. Don’t worry\, we also speak English!\n* Food: Indulge in the restaurant’s menu while enjoying stimulating conversation with fellow language enthusiasts. \nDo I need to register?  No\, simply come join us!  But if you RSVP below\, we will save you a seat. \n  \nCome hungry for good food\, great conversation\, and a chance to discover the global language of friendship. Join us for “Manĝu\, Manĝu” and experience the joy of Esperanto firsthand! \nNote: “Manĝu\, Manĝu” translates to “Eat\, Eat” in English. \n\nAbout Esperanto: Esperanto is a constructed international language designed for easy learning and global communication. It offers a unique window into diverse cultures and fosters friendships worldwide. \nAbout Esperanto Society of Chicago: Since 1954\, the Esperanto Society of Chicago is a welcoming community dedicated to promoting Esperanto language and culture in the Chicagoland area. We organize events\, language meetups\, and cultural exchanges to support both beginners and fluent speakers. \nContact us: esperanto-chicago@googlegroups.com \n      \n \n  \nSee more events at: esperanto-chicago.org/events\n\n 
URL:http://esperanto-chicago.org/event/2025-04-28/
LOCATION:Jerry’s Sandwiches\, 4739 N Lincoln Ave\, Chicago\, IL\, 60625
CATEGORIES:Manĝu, manĝu!
ATTACH;FMTTYPE=image/png:http://esperanto-chicago.org/wordpress/wp-content/uploads/2025/01/2025-01-20-16_14_14-Document1-Word-e1749396136800.png
ORGANIZER;CN="Eric Killian":MAILTO:ericesperanto@gmail.com
END:VEVENT
BEGIN:VEVENT
DTSTART;TZID=America/Chicago:20250407T173000
DTEND;TZID=America/Chicago:20250407T190000
DTSTAMP:20260423T202610
CREATED:20250317T014007Z
LAST-MODIFIED:20250405T142824Z
UID:10000392-1744047000-1744052400@esperanto-chicago.org
SUMMARY:Manĝu\, Manĝu! Lincoln Square
DESCRIPTION:http://esperanto-chicago.org/event/2025-04-07/\nDiscover Esperanto at “Manĝu\, Manĝu!” \n\nWHAT:     Conversation and food.\nWHERE:   Jerry’s Sandwiches\, 4739 N Lincoln Ave\, Chicago\, IL 60625\nWHEN:     5:30 PM to 7:00 PM\n\nJoin us for  “Manĝu\, Manĝu” (Eat\, Eat).  Whether you’re fluent in Esperanto or simply curious\, this gathering is designed for everyone. Located at a cozy restaurant\, it’s the perfect opportunity to enjoy some food and great company while exploring the beauty of Esperanto. \nWhat if I don’t speak Esperanto or am learning?   All are welcome. If you are a beginner see:  How to Participate in an Esperanto Event for the First Time. \nHow to find us?  Look for the “Esperanto”  card on the table: \n  \nWhat to Expect: \n* Esperanto conversation: Immerse yourself in Esperanto\, an easy-to-learn\, international language known for its simplicity and inclusivity.\n* Friendly Atmosphere: Whether you’re a seasoned speaker or a complete beginner\, everyone is welcome. Don’t worry\, we also speak English!\n* Food: Indulge in the restaurant’s menu while enjoying stimulating conversation with fellow language enthusiasts. \nDo I need to register?  No\, simply come join us!  But if you RSVP below\, we will save you a seat. \n  \nCome hungry for good food\, great conversation\, and a chance to discover the global language of friendship. Join us for “Manĝu\, Manĝu” and experience the joy of Esperanto firsthand! \nNote: “Manĝu\, Manĝu” translates to “Eat\, Eat” in English. \n\nAbout Esperanto: Esperanto is a constructed international language designed for easy learning and global communication. It offers a unique window into diverse cultures and fosters friendships worldwide. \nAbout Esperanto Society of Chicago: Since 1954\, the Esperanto Society of Chicago is a welcoming community dedicated to promoting Esperanto language and culture in the Chicagoland area. We organize events\, language meetups\, and cultural exchanges to support both beginners and fluent speakers. \nContact us: esperanto-chicago@googlegroups.com \n      \n \n  \nSee more events at: esperanto-chicago.org/events\n\n 
URL:http://esperanto-chicago.org/event/2025-04-07/
LOCATION:Jerry’s Sandwiches\, 4739 N Lincoln Ave\, Chicago\, IL\, 60625
CATEGORIES:Manĝu, manĝu!
ATTACH;FMTTYPE=image/jpeg:http://esperanto-chicago.org/wordpress/wp-content/uploads/2025/01/mangu-mangu.jpeg
ORGANIZER;CN="Randy Ream":MAILTO:rsream@gmail.com
END:VEVENT
BEGIN:VEVENT
DTSTART;TZID=America/Chicago:20250324T170000
DTEND;TZID=America/Chicago:20250324T183000
DTSTAMP:20260423T202610
CREATED:20250201T160538Z
LAST-MODIFIED:20250314T012225Z
UID:10000376-1742835600-1742841000@esperanto-chicago.org
SUMMARY:Manĝu\, Manĝu! Lincoln Square
DESCRIPTION:http://esperanto-chicago.org/event/2025-03-24/ \nDiscover Esperanto at “Manĝu\, Manĝu!” \n\nWHAT:     Conversation and food.\nWHERE:   Jerry’s Sandwiches\, 4739 N Lincoln Ave\, Chicago\, IL \nWHEN:     5:30 PM to 7:00 PM\n\nJoin us for  “Manĝu\, Manĝu” (Eat\, Eat).  Whether you’re fluent in Esperanto or simply curious\, this gathering is designed for everyone. Located at a cozy restaurant\, it’s the perfect opportunity to enjoy some food and great company while exploring the beauty of Esperanto. \nWhat if I don’t speak Esperanto or am learning?   All are welcome. If you are a beginner see:  How to Participate in an Esperanto Event for the First Time. \nHow to find us?  Look for the “Esperanto”  card on the table: \n  \nWhat to Expect: \n* Esperanto conversation: Immerse yourself in Esperanto\, an easy-to-learn\, international language known for its simplicity and inclusivity.\n* Friendly Atmosphere: Whether you’re a seasoned speaker or a complete beginner\, everyone is welcome. Don’t worry\, we also speak English!\n* Food: Indulge in the restaurant’s menu while enjoying stimulating conversation with fellow language enthusiasts. \nDo I need to register?  No\, simply come join us!  But if you RSVP below\, we will save you a seat. \n  \nCome hungry for good food\, great conversation\, and a chance to discover the global language of friendship. Join us for “Manĝu\, Manĝu” and experience the joy of Esperanto firsthand! \nNote: “Manĝu\, Manĝu” translates to “Eat\, Eat” in English. \n\nAbout Esperanto: Esperanto is a constructed international language designed for easy learning and global communication. It offers a unique window into diverse cultures and fosters friendships worldwide. \nAbout Esperanto Society of Chicago: Since 1954\, the Esperanto Society of Chicago is a welcoming community dedicated to promoting Esperanto language and culture in the Chicagoland area. We organize events\, language meetups\, and cultural exchanges to support both beginners and fluent speakers. \nContact us: esperanto-chicago@googlegroups.com \n      \n \n  \nSee more events at: esperanto-chicago.org/events\n\n 
URL:http://esperanto-chicago.org/event/2025-03-24/
LOCATION:Jerry’s Sandwiches\, 4739 N Lincoln Ave\, Chicago\, IL\, 60625
CATEGORIES:Manĝu, manĝu!
ATTACH;FMTTYPE=image/jpeg:http://esperanto-chicago.org/wordpress/wp-content/uploads/2025/01/mangu-mangu.jpeg
ORGANIZER;CN="Randy Ream":MAILTO:rsream@gmail.com
END:VEVENT
BEGIN:VEVENT
DTSTART;TZID=America/Chicago:20250303T173000
DTEND;TZID=America/Chicago:20250303T190000
DTSTAMP:20260423T202610
CREATED:20250201T210850Z
LAST-MODIFIED:20250218T024629Z
UID:10000373-1741023000-1741028400@esperanto-chicago.org
SUMMARY:Manĝu\, Manĝu! - Lincoln Square
DESCRIPTION:http://esperanto-chicago.org/event/65140/ \nDiscover Esperanto at “Manĝu\, Manĝu!” \n\nWHAT:     Conversation and food.\nWHERE:  Jerry’s Sandwiches\, 4739 N Lincoln Ave\, Chicago\, IL 60625\nWHEN:     5:30 PM to 7:00 PM\n\n \nJoin us for  “Manĝu\, Manĝu” (Eat\, Eat).  Whether you’re fluent in Esperanto or simply curious\, this gathering is designed for everyone. Located at a cozy restaurant\, it’s the perfect opportunity to enjoy some food and great company while exploring the beauty of Esperanto. \nWhat if I don’t speak Esperanto or am learning?   All are welcome. If you are a beginner see:  How to Participate in an Esperanto Event for the First Time. \nHow to find us?  Look for the “Esperanto”  card on the table: \n  \nWhat to Expect: \n* Esperanto conversation: Immerse yourself in Esperanto\, an easy-to-learn\, international language known for its simplicity and inclusivity.\n* Friendly Atmosphere: Whether you’re a seasoned speaker or a complete beginner\, everyone is welcome. Don’t worry\, we also speak English!\n* Food: Indulge in the restaurant’s menu while enjoying stimulating conversation with fellow language enthusiasts. \nDo I need to register?  No\, simply come join us!  But if you RSVP below\, we will save you a seat. \n  \nCome hungry for good food\, great conversation\, and a chance to discover the global language of friendship. Join us for “Manĝu\, Manĝu” and experience the joy of Esperanto firsthand! \nNote: “Manĝu\, Manĝu” translates to “Eat\, Eat” in English. \n\nAbout Esperanto: Esperanto is a constructed international language designed for easy learning and global communication. It offers a unique window into diverse cultures and fosters friendships worldwide. \nAbout Esperanto Society of Chicago: Since 1954\, the Esperanto Society of Chicago is a welcoming community dedicated to promoting Esperanto language and culture in the Chicagoland area. We organize events\, language meetups\, and cultural exchanges to support both beginners and fluent speakers. \nContact us: esperanto-chicago@googlegroups.com \n      \n \n\n 
URL:http://esperanto-chicago.org/event/65140/
LOCATION:Jerry’s Sandwiches\, 4739 N Lincoln Ave\, Chicago\, IL\, 60625
CATEGORIES:Manĝu, manĝu!
ATTACH;FMTTYPE=image/jpeg:http://esperanto-chicago.org/wordpress/wp-content/uploads/2025/01/mangu-mangu.jpeg
ORGANIZER;CN="Randy Ream":MAILTO:rsream@gmail.com
END:VEVENT
BEGIN:VEVENT
DTSTART;TZID=America/Chicago:20250127T170000
DTEND;TZID=America/Chicago:20250127T183000
DTSTAMP:20260423T202610
CREATED:20250108T024918Z
LAST-MODIFIED:20250121T205805Z
UID:10000354-1737997200-1738002600@esperanto-chicago.org
SUMMARY:Manĝu\, Manĝu! - Lincoln Square
DESCRIPTION:Discover Esperanto at “Manĝu\, Manĝu”! \n\nWHAT:     Conversation and food.\nWHERE:  Jerry’s Sandwiches\, 4739 N Lincoln Ave\, Chicago\, IL 60625\nWHEN:     Monday\, January 27\, 2025\,  5:00 PM to 6:30 PM\n\n \nJoin us for  “Manĝu\, Manĝu” (Eat\, Eat).  Whether you’re fluent in Esperanto or simply curious\, this gathering is designed for everyone. Located at a cozy restaurant\, it’s the perfect opportunity to enjoy some food and great company while exploring the beauty of Esperanto. \nWhat if I don’t speak Esperanto or am learning?   All are welcome.   We also speak English. \nHow to find us?  Look for the “Esperanto”  card on the table: \n  \nWhat to Expect: \n* Esperanto conversation: Immerse yourself in Esperanto\, an easy-to-learn\, international language known for its simplicity and inclusivity.\n* Friendly Atmosphere: Whether you’re a seasoned speaker or a complete beginner\, everyone is welcome. Don’t worry\, we also speak English!\n* Food: Indulge in the restaurant’s menu while enjoying stimulating conversation with fellow language enthusiasts. \nDo I need to register?  No\, simply come join us!  But if you RSVP below\, we will save you a seat. \nCome hungry for good food\, great conversation\, and a chance to discover the global language of friendship. Join us for “Manĝu\, Manĝu” and experience the joy of Esperanto firsthand! \nNote: “Manĝu\, Manĝu” translates to “Eat\, Eat” in English. \n===================== \nAbout Esperanto: Esperanto is a constructed international language designed for easy learning and global communication. It offers a unique window into diverse cultures and fosters friendships worldwide. \nAbout Esperanto Society of Chicago: Since 1954\, the Esperanto Society of Chicago is a welcoming community dedicated to promoting Esperanto language and culture in the Chicagoland area. We organize events\, language meetups\, and cultural exchanges to support both beginners and fluent speakers. \nContact us: esperanto-chicago@googlegroups.com \n      \n \n 
URL:http://esperanto-chicago.org/event/mangu-mangu-35/
LOCATION:Jerry’s Sandwiches\, 4739 N Lincoln Ave\, Chicago\, IL\, 60625
CATEGORIES:Manĝu, manĝu!
ATTACH;FMTTYPE=image/png:http://esperanto-chicago.org/wordpress/wp-content/uploads/2025/01/2025-01-20-16_14_14-Document1-Word-e1749396136800.png
ORGANIZER;CN="Randy Ream":MAILTO:rsream@gmail.com
END:VEVENT
BEGIN:VEVENT
DTSTART;TZID=America/Chicago:20241007T173000
DTEND;TZID=America/Chicago:20241007T190000
DTSTAMP:20260423T202610
CREATED:20240910T215119Z
LAST-MODIFIED:20241006T005813Z
UID:10000302-1728322200-1728327600@esperanto-chicago.org
SUMMARY:Manĝu\, Manĝu!
DESCRIPTION:  \nCome hungry for good food\, great conversation\, and a chance to discover the global language of friendship. Join us for “Manĝu\, Manĝu” and experience the joy of Esperanto firsthand! \nFor more information and to view the menu\, visit: https://www.jerryssandwiches.com/ \nNote: “Manĝu\, Manĝu” translates to “Eat\, Eat” in English. \nAbout Esperanto: Esperanto is a constructed international language designed for easy learning and global communication. It offers a unique window into diverse cultures and fosters friendships worldwide. \nAbout Esperanto Society of Chicago: Since 1954\, the Esperanto Society of Chicago is a welcoming community dedicated to promoting Esperanto language and culture in the Chicagoland area. We organize events\, language meetups\, and cultural exchanges to support both beginners and fluent speakers. \nJoin the Chicago Esperanto Society: https://esperanto-chicago.org/members/ \nJoin our mailing list: https://docs.google.com/forms/d/e/1FAIpQLSdMSKYjEfxfL_rQEM3bEc1UnZY0jJbLDOE_gvwUgwwm63QUjw/viewform?usp=sf_link
URL:http://esperanto-chicago.org/event/mangu-mangu-19/
LOCATION:Jerry’s Sandwiches\, 4739 N Lincoln Ave\, Chicago\, IL\, 60625
ORGANIZER;CN="Randy Ream":MAILTO:rsream@gmail.com
END:VEVENT
BEGIN:VEVENT
DTSTART;TZID=America/Chicago:20240930T173000
DTEND;TZID=America/Chicago:20240930T190000
DTSTAMP:20260423T202610
CREATED:20240910T215105Z
LAST-MODIFIED:20240927T153534Z
UID:10000299-1727717400-1727722800@esperanto-chicago.org
SUMMARY:Manĝu\, Manĝu!
DESCRIPTION:Esperanto at “Manĝu\, Manĝu”! \nWhat to expect \n*Practice  Speaking Esperanto\n* Friendly Atmosphere\n* Delicious Dining \nYou don’t need to speak Esperanto to participate in this event. \n \n      Certified Crocodile Friendly! \n  \nCome hungry for good food\, great conversation\, and a chance to discover the global language of friendship. Join us for “Manĝu\, Manĝu” and experience the joy of Esperanto firsthand! \nFor more information and to view the menu\, visit: https://www.jerryssandwiches.com/ \nNote: “Manĝu\, Manĝu” translates to “Eat\, Eat” in English. \nAbout Esperanto: Esperanto is a constructed international language designed for easy learning and global communication. It offers a unique window into diverse cultures and fosters friendships worldwide. \nAbout Esperanto Society of Chicago: Since 1954\, the Esperanto Society of Chicago is a welcoming community dedicated to promoting Esperanto language and culture in the Chicagoland area. We organize events\, language meetups\, and cultural exchanges to support both beginners and fluent speakers. \nJoin the Chicago Esperanto Society: https://esperanto-chicago.org/members/ \nJoin our mailing list: https://docs.google.com/forms/d/e/1FAIpQLSdMSKYjEfxfL_rQEM3bEc1UnZY0jJbLDOE_gvwUgwwm63QUjw/viewform?usp=sf_link
URL:http://esperanto-chicago.org/event/mangu-mangu-18/
LOCATION:Jerry’s Sandwiches\, 4739 N Lincoln Ave\, Chicago\, IL\, 60625
ORGANIZER;CN="Randy Ream":MAILTO:rsream@gmail.com
END:VEVENT
BEGIN:VEVENT
DTSTART;TZID=America/Chicago:20240817T123000
DTEND;TZID=America/Chicago:20240817T140000
DTSTAMP:20260423T202610
CREATED:20240730T213333Z
LAST-MODIFIED:20240806T233650Z
UID:10000288-1723897800-1723903200@esperanto-chicago.org
SUMMARY:Paralela Universo
DESCRIPTION:Event: Paralela Universo – Chicago Esperanto Society Meetup \nDate: August 17th\, 2024\nTime: 12:30 pm – 2:00 pm\nLocation: Jerry’s Sandwiches\, 4739 N Lincoln Ave\, Chicago\, IL 60625 \nJoin us for Paralela Universo\, a one-day celebration of Esperanto held simultaneously in various locations.  At the Chicago Esperanto Society meetup\, we will gather at Jerry’s Sandwiches from 12:30 pm to 2:00 pm to practice speaking Esperanto\, meet new friends\, and share experiences. Whether you’re fluent or just beginning\, all are welcome. This event aims to provide an opportunity for in-person Esperanto conversations and community-building without needing to travel far. Don’t miss this chance to be part of a global celebration! \nYou don’t need to be a member\, or even speak Esperanto to participate in this event.   \nCertified Crocodile Friendly!\nLearn more about Paralela Universo events around the world here:  https://paralelauniverso.com/ \nEsperanto Version: \nEvento: Paralela Universo – Renkontiĝo de Ĉikaga Esperanto-Societo \nDato: la 17-a de Aŭgusto\, 2024\nTempo: 12:30 – 14:00\nLoko: Jerry’s Sandwiches\, 4739 N Lincoln Ave\, Chicago\, IL 60625 \nAliĝu al ni por Paralela Universo\, unu-taga festo de Esperanto okazanta samtempe en diversaj lokoj. En Ĉikago\, ni kunvenos ĉe Jerry’s Sandwiches de la 12:30 ĝis la 14:00 por paroli esperante\, renkonti novajn amikojn\, kaj kundividi spertojn. Ĉu vi estas flua parolanto aŭ komencanto\, ĉiuj estas bonvenaj. Ĉi tiu evento celas provizi oportunon por personaj konversacioj en Esperanto kaj komunuma konstruado sen neceso vojaĝi tro for. Ne maltrafu ĉi tiun ŝancon esti parto de tutmonda festo! \nLernu pli pri Paralea Universo ĉi tie:  https://paralelauniverso.com/ \nAbout Esperanto: Esperanto is a constructed international language designed for easy learning and global communication. It offers a unique window into diverse cultures and fosters friendships worldwide. \nAbout Esperanto Society of Chicago: Since 1954\, the Esperanto Society of Chicago is a welcoming community dedicated to promoting Esperanto language and culture in the Chicagoland area. We organize events\, language meetups\, and cultural exchanges to support both beginners and fluent speakers. \nJoin the Chicago Esperanto Society: https://esperanto-chicago.org/members/ \nJoin our mailing list: mailing list
URL:http://esperanto-chicago.org/event/paralela-universo/
LOCATION:Jerry’s Sandwiches\, 4739 N Lincoln Ave\, Chicago\, IL\, 60625
ATTACH;FMTTYPE=image/jpeg:http://esperanto-chicago.org/wordpress/wp-content/uploads/2024/07/2024-07-30-16_16_00-Window.jpg
ORGANIZER;CN="Randy Ream":MAILTO:rsream@gmail.com
END:VEVENT
END:VCALENDAR