BEGIN:VCALENDAR
VERSION:2.0
PRODID:-//La Esperanto-Societo de Ĉikago - ECPv6.15.20//NONSGML v1.0//EN
CALSCALE:GREGORIAN
METHOD:PUBLISH
X-WR-CALNAME:La Esperanto-Societo de Ĉikago
X-ORIGINAL-URL:http://esperanto-chicago.org
X-WR-CALDESC:Events for La Esperanto-Societo de Ĉikago
REFRESH-INTERVAL;VALUE=DURATION:PT1H
X-Robots-Tag:noindex
X-PUBLISHED-TTL:PT1H
BEGIN:VTIMEZONE
TZID:America/Chicago
BEGIN:DAYLIGHT
TZOFFSETFROM:-0600
TZOFFSETTO:-0500
TZNAME:CDT
DTSTART:20230312T080000
END:DAYLIGHT
BEGIN:STANDARD
TZOFFSETFROM:-0500
TZOFFSETTO:-0600
TZNAME:CST
DTSTART:20231105T070000
END:STANDARD
BEGIN:DAYLIGHT
TZOFFSETFROM:-0600
TZOFFSETTO:-0500
TZNAME:CDT
DTSTART:20240310T080000
END:DAYLIGHT
BEGIN:STANDARD
TZOFFSETFROM:-0500
TZOFFSETTO:-0600
TZNAME:CST
DTSTART:20241103T070000
END:STANDARD
BEGIN:DAYLIGHT
TZOFFSETFROM:-0600
TZOFFSETTO:-0500
TZNAME:CDT
DTSTART:20250309T080000
END:DAYLIGHT
BEGIN:STANDARD
TZOFFSETFROM:-0500
TZOFFSETTO:-0600
TZNAME:CST
DTSTART:20251102T070000
END:STANDARD
END:VTIMEZONE
BEGIN:VEVENT
DTSTART;TZID=America/Chicago:20240624T170000
DTEND;TZID=America/Chicago:20240624T183000
DTSTAMP:20260423T192237
CREATED:20240608T012113Z
LAST-MODIFIED:20240623T173313Z
UID:10000263-1719248400-1719253800@esperanto-chicago.org
SUMMARY:Manĝu\, Manĝu!
DESCRIPTION:Manĝu\, kaj babilu kun ni!\n==== \nYou don’t have to speak Esperanto to attend this event (We also speak English) \n 
URL:http://esperanto-chicago.org/event/mangu-mangu-5/
LOCATION:Buona\, Oak Park\, 7025 W North Ave\, Chicago\, IL\, 60302\, United States
ATTACH;FMTTYPE=image/jpeg:http://esperanto-chicago.org/wordpress/wp-content/uploads/2022/03/2022-03-16-13_48_15-Untitled-presentation-Google-Slides.jpg
END:VEVENT
BEGIN:VEVENT
DTSTART;TZID=America/Chicago:20240513T170000
DTEND;TZID=America/Chicago:20240513T183000
DTSTAMP:20260423T192237
CREATED:20240510T003447Z
LAST-MODIFIED:20240510T130311Z
UID:10000242-1715619600-1715625000@esperanto-chicago.org
SUMMARY:Manĝu\, Manĝu!
DESCRIPTION:Manĝu\, kaj babilu kun ni!\n==== \nYou don’t have to speak Esperanto to attend this event (We also speak English)
URL:http://esperanto-chicago.org/event/mangu-mangu-4/
LOCATION:Buona\, Oak Park\, 7025 W North Ave\, Chicago\, IL\, 60302\, United States
ATTACH;FMTTYPE=image/jpeg:http://esperanto-chicago.org/wordpress/wp-content/uploads/2022/03/2022-03-16-13_48_15-Untitled-presentation-Google-Slides.jpg
ORGANIZER;CN="Randy Ream":MAILTO:rsream@gmail.com
END:VEVENT
BEGIN:VEVENT
DTSTART;TZID=America/Chicago:20240506T170000
DTEND;TZID=America/Chicago:20240506T190000
DTSTAMP:20260423T192237
CREATED:20230901T013611Z
LAST-MODIFIED:20240428T165002Z
UID:10000167-1715014800-1715022000@esperanto-chicago.org
SUMMARY:Manĝu\, Manĝu! kun Brandon Sowers
DESCRIPTION:Manĝu kun ni kaj nia gasto\, Brandon Sowers\, la prezidanto de Esperanto-USA. \n \nNi manĝos ĉe Buona\, 7025 W North Ave\, Chicago\, IL 60302. \nJe la 17:00 ĝis la 19:00 \n 
URL:http://esperanto-chicago.org/event/mangu-mangu/
LOCATION:Buona\, Oak Park\, 7025 W North Ave\, Chicago\, IL\, 60302\, United States
CATEGORIES:Manĝu, manĝu!
ATTACH;FMTTYPE=image/jpeg:http://esperanto-chicago.org/wordpress/wp-content/uploads/2022/03/2022-03-16-13_48_15-Untitled-presentation-Google-Slides.jpg
ORGANIZER;CN="Randy Ream":MAILTO:rsream@gmail.com
END:VEVENT
BEGIN:VEVENT
DTSTART;TZID=America/Chicago:20240322T173000
DTEND;TZID=America/Chicago:20240322T193000
DTSTAMP:20260423T192237
CREATED:20240320T210601Z
LAST-MODIFIED:20240320T210844Z
UID:10000241-1711128600-1711135800@esperanto-chicago.org
SUMMARY:Manĝu - Manĝu!
DESCRIPTION:Ni manĝos kaj babilas kune! \n— \nJoin us for good food and good conversation* \n  \n*You don’t need to speak Esperanto at this event – all are welcome.
URL:http://esperanto-chicago.org/event/mangu-mangu-3/
LOCATION:Buona\, Oak Park\, 7025 W North Ave\, Chicago\, IL\, 60302\, United States
ATTACH;FMTTYPE=image/jpeg:http://esperanto-chicago.org/wordpress/wp-content/uploads/2022/03/2022-03-16-13_48_15-Untitled-presentation-Google-Slides.jpg
ORGANIZER;CN="Randy Ream":MAILTO:rsream@gmail.com
END:VEVENT
END:VCALENDAR