BEGIN:VCALENDAR
VERSION:2.0
PRODID:-//La Esperanto-Societo de Ĉikago - ECPv6.15.20//NONSGML v1.0//EN
CALSCALE:GREGORIAN
METHOD:PUBLISH
X-WR-CALNAME:La Esperanto-Societo de Ĉikago
X-ORIGINAL-URL:http://esperanto-chicago.org
X-WR-CALDESC:Events for La Esperanto-Societo de Ĉikago
REFRESH-INTERVAL;VALUE=DURATION:PT1H
X-Robots-Tag:noindex
X-PUBLISHED-TTL:PT1H
BEGIN:VTIMEZONE
TZID:America/Chicago
BEGIN:DAYLIGHT
TZOFFSETFROM:-0600
TZOFFSETTO:-0500
TZNAME:CDT
DTSTART:20220313T080000
END:DAYLIGHT
BEGIN:STANDARD
TZOFFSETFROM:-0500
TZOFFSETTO:-0600
TZNAME:CST
DTSTART:20221106T070000
END:STANDARD
BEGIN:DAYLIGHT
TZOFFSETFROM:-0600
TZOFFSETTO:-0500
TZNAME:CDT
DTSTART:20230312T080000
END:DAYLIGHT
BEGIN:STANDARD
TZOFFSETFROM:-0500
TZOFFSETTO:-0600
TZNAME:CST
DTSTART:20231105T070000
END:STANDARD
BEGIN:DAYLIGHT
TZOFFSETFROM:-0600
TZOFFSETTO:-0500
TZNAME:CDT
DTSTART:20240310T080000
END:DAYLIGHT
BEGIN:STANDARD
TZOFFSETFROM:-0500
TZOFFSETTO:-0600
TZNAME:CST
DTSTART:20241103T070000
END:STANDARD
END:VTIMEZONE
BEGIN:VEVENT
DTSTART;TZID=America/Chicago:20230710T180000
DTEND;TZID=America/Chicago:20230710T190000
DTSTAMP:20260424T054715
CREATED:20230702T151055Z
LAST-MODIFIED:20230709T135443Z
UID:10000037-1689012000-1689015600@esperanto-chicago.org
SUMMARY:Champaign-Urbana Esperanto: Semajna Kunveno
DESCRIPTION:  \n  \nKunumuma Evento: Champaign-Urbana Esperanto\nVidu ilian retejon por kontroli:  http://www.ekoci.org/ \nLa Champaign-Urbana Esperanto groupo kutime kunvenas ĉiu semajne lunde je la 6-a PTM. \n\nCommunity Event:  Champaign-Urbana Esperanto\nCheck their website to confirm the event:  http://www.ekoci.org/ \nThe Champaign-Urbana Esperanto group usually meets every week on Mondays at 6PM.
URL:http://esperanto-chicago.org/event/champaign-urbana-esperanto-semajna-kunveno-2/
LOCATION:Blind Pig Brewery\, 120 n Neil St\, IL\, 61820\, United States
CATEGORIES:Community Events
ATTACH;FMTTYPE=image/jpeg:http://esperanto-chicago.org/wordpress/wp-content/uploads/2023/06/2023-06-05-08_34_01-5-Champaign-Urbana-Esperanto-_-Facebook.jpg
END:VEVENT
BEGIN:VEVENT
DTSTART;TZID=America/Chicago:20230703T160000
DTEND;TZID=America/Chicago:20230703T170000
DTSTAMP:20260424T054715
CREATED:20230703T202346Z
LAST-MODIFIED:20230709T135416Z
UID:10000046-1688400000-1688403600@esperanto-chicago.org
SUMMARY:Champaign-Urbana Esperanto: Semajna Kunveno
DESCRIPTION:Kunumuma Evento: Champaign-Urbana Esperanto\nVidu ilian retejon por kontroli:  http://www.ekoci.org/ \nLa Champaign-Urbana Esperanto groupo kutime kunvenas ĉiu semajne lunde \n\nCommunity Event:  Champaign-Urbana Esperanto\nCheck their website to confirm the event:  http://www.ekoci.org/ \nThe Champaign-Urbana Esperanto group usually meets every week on Mondays
URL:http://esperanto-chicago.org/event/champaign-urbana-esperanto-semajna-kunveno-3/
LOCATION:Blind Pig Brewery\, 120 n Neil St\, IL\, 61820\, United States
CATEGORIES:Community Events
ATTACH;FMTTYPE=image/jpeg:http://esperanto-chicago.org/wordpress/wp-content/uploads/2023/06/2023-06-05-08_34_01-5-Champaign-Urbana-Esperanto-_-Facebook.jpg
END:VEVENT
END:VCALENDAR