BEGIN:VCALENDAR
VERSION:2.0
PRODID:-//La Esperanto-Societo de Ĉikago - ECPv6.15.20//NONSGML v1.0//EN
CALSCALE:GREGORIAN
METHOD:PUBLISH
X-ORIGINAL-URL:http://esperanto-chicago.org
X-WR-CALDESC:Events for La Esperanto-Societo de Ĉikago
REFRESH-INTERVAL;VALUE=DURATION:PT1H
X-Robots-Tag:noindex
X-PUBLISHED-TTL:PT1H
BEGIN:VTIMEZONE
TZID:America/Chicago
BEGIN:DAYLIGHT
TZOFFSETFROM:-0600
TZOFFSETTO:-0500
TZNAME:CDT
DTSTART:20240310T080000
END:DAYLIGHT
BEGIN:STANDARD
TZOFFSETFROM:-0500
TZOFFSETTO:-0600
TZNAME:CST
DTSTART:20241103T070000
END:STANDARD
BEGIN:DAYLIGHT
TZOFFSETFROM:-0600
TZOFFSETTO:-0500
TZNAME:CDT
DTSTART:20250309T080000
END:DAYLIGHT
BEGIN:STANDARD
TZOFFSETFROM:-0500
TZOFFSETTO:-0600
TZNAME:CST
DTSTART:20251102T070000
END:STANDARD
BEGIN:DAYLIGHT
TZOFFSETFROM:-0600
TZOFFSETTO:-0500
TZNAME:CDT
DTSTART:20260308T080000
END:DAYLIGHT
BEGIN:STANDARD
TZOFFSETFROM:-0500
TZOFFSETTO:-0600
TZNAME:CST
DTSTART:20261101T070000
END:STANDARD
END:VTIMEZONE
BEGIN:VEVENT
DTSTART;TZID=America/Chicago:20250721T183000
DTEND;TZID=America/Chicago:20250721T230000
DTSTAMP:20260424T073902
CREATED:20250625T154033Z
LAST-MODIFIED:20250626T211144Z
UID:10000438-1753122600-1753138800@esperanto-chicago.org
SUMMARY:Somera Havaja Festo
DESCRIPTION:https://esperanto-chicago.org/event/somera-havaja-festo/\nJoin with us to celebrate summer at our  “Somera Havaja Festo!” \n\nWHAT:     Conversation and food.\nWHERE:   East Lakeview\, Chicago\, IL 60657 \nWHEN:     6:30 PM to 11:00 PM\n\nJoin us for  “Somera Havaja Festo” (Summer Hawaiian Party).  Help us celebrate summer and practice speaking Esperato.  Put on your hawaiian shirt\, bring a dish of food (and/or drinks) to share\, and prepare to have a good time in Esperantjo.  This party is at a private residence\, space will be limited.  So make sure to RSVP below below. \nWhat if I don’t speak Esperanto or am learning?   All are welcome. If you are a beginner see:  How to Participate in an Esperanto Event for the First Time. \nWhat to Expect: \n* Esperanto conversation: Immerse yourself in Esperanto\, an easy-to-learn\, international language known for its simplicity and inclusivity.\n* Friendly Atmosphere: Whether you’re a seasoned speaker or a complete beginner\, everyone is welcome. Don’t worry\, we also speak English!\n* Food: Bring a dish to share!. \nDo I need to register?  Yes\, space is limited for this event\, please RSVP below !   \n  \nCome hungry for good food\, great conversation\, and a chance to discover the global language of friendship. Join us for “Somera Havaja Festo” and cellebrate summer and Esperanto firsthand! \n\nAbout Esperanto: Esperanto is a constructed international language designed for easy learning and global communication. It offers a unique window into diverse cultures and fosters friendships worldwide. \nAbout Esperanto Society of Chicago: Since 1954\, the Esperanto Society of Chicago is a welcoming community dedicated to promoting Esperanto language and culture in the Chicagoland area. We organize events\, language meetups\, and cultural exchanges to support both beginners and fluent speakers. \nContact us: esperanto-chicago@googlegroups.com \n      \n \n  \nSee more events at: esperanto-chicago.org/events\n\n 
URL:http://esperanto-chicago.org/event/somera-havaja-festo/
LOCATION:Domo de Darren\, 3215 N Dayton St\, Chicago\, IL\, 60657
ATTACH;FMTTYPE=image/png:http://esperanto-chicago.org/wordpress/wp-content/uploads/2025/06/Somera-festo2.png
END:VEVENT
END:VCALENDAR