BEGIN:VCALENDAR
VERSION:2.0
PRODID:-//La Esperanto-Societo de Ĉikago - ECPv6.15.20//NONSGML v1.0//EN
CALSCALE:GREGORIAN
METHOD:PUBLISH
X-ORIGINAL-URL:http://esperanto-chicago.org
X-WR-CALDESC:Events for La Esperanto-Societo de Ĉikago
REFRESH-INTERVAL;VALUE=DURATION:PT1H
X-Robots-Tag:noindex
X-PUBLISHED-TTL:PT1H
BEGIN:VTIMEZONE
TZID:America/Chicago
BEGIN:DAYLIGHT
TZOFFSETFROM:-0600
TZOFFSETTO:-0500
TZNAME:CDT
DTSTART:20250309T080000
END:DAYLIGHT
BEGIN:STANDARD
TZOFFSETFROM:-0500
TZOFFSETTO:-0600
TZNAME:CST
DTSTART:20251102T070000
END:STANDARD
BEGIN:DAYLIGHT
TZOFFSETFROM:-0600
TZOFFSETTO:-0500
TZNAME:CDT
DTSTART:20260308T080000
END:DAYLIGHT
BEGIN:STANDARD
TZOFFSETFROM:-0500
TZOFFSETTO:-0600
TZNAME:CST
DTSTART:20261101T070000
END:STANDARD
BEGIN:DAYLIGHT
TZOFFSETFROM:-0600
TZOFFSETTO:-0500
TZNAME:CDT
DTSTART:20270314T080000
END:DAYLIGHT
BEGIN:STANDARD
TZOFFSETFROM:-0500
TZOFFSETTO:-0600
TZNAME:CST
DTSTART:20271107T070000
END:STANDARD
END:VTIMEZONE
BEGIN:VEVENT
DTSTART;TZID=America/Chicago:20260423T193000
DTEND;TZID=America/Chicago:20260423T203000
DTSTAMP:20260423T104649
CREATED:20251230T041106Z
LAST-MODIFIED:20251230T041109Z
UID:10000815-1776972600-1776976200@esperanto-chicago.org
SUMMARY:Klubo de Mortaj Krokodiloj   (Online)
DESCRIPTION:The Esperanto Society of Chicago http://esperanto-chicago.org/events/ \nKlubo de Mortaj Krokodiloj (Online Meeting) \n(English below) \nAliĝu al nia reta kunveno de la Klubo de Mortaj Krokodiloj! Esperantistoj el diversaj mondopartoj kunvenas por gaja kaj neformala konversacio en Esperanto. Estas bonega ŝanco uzi la lingvon kaj konektiĝi kun nia internacia komunumo. \nEnglish: \nJoin our online meeting of the Dead Crocodile Club!  Esperanto speakers from around the world gather for a fun and informal discussion in Esperanto. It’s a great opportunity to practice the language and connect with our international community. \nHow to join:  When the time comes\, click on this link:  esperanto-chicago.org/retkunveno \nWhat if I don’t speak Esperanto or am learning?   All are welcome. If you are a beginner see:  How to Participate in an Esperanto Event for the First Time. \n Great event for beginners! \n\nAbout Esperanto: Esperanto is a constructed international language designed for easy learning and global communication. It offers a unique window into diverse cultures and fosters friendships worldwide. \nAbout Esperanto Society of Chicago: Since 1954\, the Esperanto Society of Chicago is a welcoming community dedicated to promoting Esperanto language and culture in the Chicagoland area. We organize events\, language meetups\, and cultural exchanges to support both beginners and fluent speakers. \nContact us: esperanto-chicago@googlegroups.com\n  \nBecome a Member\nJoin our Mailing List\n\nMake a Donation\n\n  \nSee more events at: esperanto-chicago.org/events\n\n 
URL:http://esperanto-chicago.org/event/klubo-2-5/2026-04-23/
LOCATION:IL
CATEGORIES:Klubo de Mortaj Krokodiloj
ATTACH;FMTTYPE=image/png:http://esperanto-chicago.org/wordpress/wp-content/uploads/2025/06/Krokodiloj.png
ORGANIZER;CN="Randy Ream":MAILTO:rsream@gmail.com
END:VEVENT
BEGIN:VEVENT
DTSTART;TZID=America/Chicago:20260426T090000
DTEND;TZID=America/Chicago:20260426T110000
DTSTAMP:20260423T104649
CREATED:20260329T141828Z
LAST-MODIFIED:20260329T141828Z
UID:10000859-1777194000-1777201200@esperanto-chicago.org
SUMMARY:Kafeja Kunveno / Coffee Time(Online)
DESCRIPTION:The Esperanto Society of Chicago  http://esperanto-chicago.org/events/\nNi trinkos kafon kaj parolos Esperanton! Ne zorgu pri via lingva nivelo! – We will drink coffee and speak Esperanto!  \nWe will meet online!  When the time comes use the link below:\nhttp://esperanto-chicago.org/retkunveno \npasvorto: 046492 \n \n\nAbout Esperanto: Esperanto is a constructed international language designed for easy learning and global communication. It offers a unique window into diverse cultures and fosters friendships worldwide. \nAbout Esperanto Society of Chicago: Since 1954\, the Esperanto Society of Chicago is a welcoming community dedicated to promoting Esperanto language and culture in the Chicagoland area. We organize events\, language meetups\, and cultural exchanges to support both beginners and fluent speakers. \nContact us: esperanto-chicago@googlegroups.com\n  \nBecome a Member\nJoin our Mailing List\n\nMake a Donation\n\n  \nSee more events at: esperanto-chicago.org/events\n\n 
URL:http://esperanto-chicago.org/event/kafeja-kunveno-coffee-timeonline-26/
LOCATION:IL
CATEGORIES:Kafeja Kunveno
ATTACH;FMTTYPE=image/jpeg:http://esperanto-chicago.org/wordpress/wp-content/uploads/2022/03/2022-03-16-14_51_42-Titoloj-Google-Slides.jpg
ORGANIZER;CN="Eric Killian":MAILTO:ericesperanto@gmail.com
END:VEVENT
BEGIN:VEVENT
DTSTART;TZID=America/Chicago:20260428T183000
DTEND;TZID=America/Chicago:20260428T193000
DTSTAMP:20260423T104649
CREATED:20260326T212326Z
LAST-MODIFIED:20260326T212417Z
UID:10000855-1777401000-1777404600@esperanto-chicago.org
SUMMARY:Monata Kunveno Downtown
DESCRIPTION:The Chicago Esperanto Society invites you!   http://esperanto-chicago.org/events/\nOur monthly meeting!  Join us at the library. \nWhat if I don’t speak Esperanto or am learning?   All are welcome.   If you are a beginner see:  How to Participate in an Esperanto Event for the First Time. \n \nPlease register (RSVP) below:  The library limits the number of people in each room.   \n\nWHEN: 6:30 – 7:30 PM\nWHERE: Harold Washington Library\, 400 S State Street\, Chicago\, IL 60605\n\nHow to find us:  \n    FLOOR: _____   ROOM: ________   (We will update the room number when it is confirmed — check back!) \n\nAbout Esperanto: Esperanto is a constructed international language designed for easy learning and global communication. It offers a unique window into diverse cultures and fosters friendships worldwide. \nAbout Esperanto Society of Chicago: Since 1954\, the Esperanto Society of Chicago is a welcoming community dedicated to promoting Esperanto language and culture in the Chicagoland area. We organize events\, language meetups\, and cultural exchanges to support both beginners and fluent speakers. \nContact us: esperanto-chicago@googlegroups.com \n      \n \n  \nSee more events at: esperanto-chicago.org/events\n\n 
URL:http://esperanto-chicago.org/event/monata-kunveno-downtown-9/
LOCATION:Harold Washington Library\, 400 S State St\, Chicago\, IL\, 60605\, United States
CATEGORIES:Monata Kunveno
ATTACH;FMTTYPE=image/jpeg:http://esperanto-chicago.org/wordpress/wp-content/uploads/2025/01/mangu2.jpeg
END:VEVENT
BEGIN:VEVENT
DTSTART;TZID=America/Chicago:20260430T180000
DTEND;TZID=America/Chicago:20260430T210000
DTSTAMP:20260423T104649
CREATED:20260329T144430Z
LAST-MODIFIED:20260329T150902Z
UID:10000861-1777572000-1777582800@esperanto-chicago.org
SUMMARY:Biera Revolucio
DESCRIPTION:English\nJoin us for Biera Revolucio!Come and practice your Esperanto with friends at Revolution Brewing! Whether you are a fluent speaker or a total beginner\, everyone is welcome to join our “Liquid Rebellion.” Look for the table with our the Esperanto sign. We’ll be sharing great conversation\, local brews\, and the “internal idea” of friendship through language. Don’t worry—if you get stuck\, “krokodili” (speaking a bit of English) is always allowed!\n\nWhen: 6:00 PM – 9:00 PM\nWhere: Revolution Brewing – Brewery & Taproom\, 3340 N Kedzie Ave\, Chicago\nWhat to bring: Your curiosity and a thirst for good beer!\n\nEsperanto\nVenu al Biera Revolucio!Venu kaj praktiku Esperanton kun amikoj ĉe Revolution Brewing! Ĉu vi estas flua parolanto aŭ komencanto\, ĉiuj estas bonvenaj al nia “Likva Ribelo.” Serĉu la tablon kun la verda stelo aŭ la Esperanto-ŝildo. Ni dividos bonegan konversacion\, lokajn bierojn\, kaj la “internan ideon” de amikeco per nia lingvo. Ne maltrankviliĝu—se vi bezonas helpon\, vi ĉiam rajtas iomete “krokodili”!\n\nHow to find us at the event:  Look for the table with the Esperanto card! \n \nIf you RSVP below\, we will save you a seat. \n\nAbout Esperanto: Esperanto is a constructed international language designed for easy learning and global communication. It offers a unique window into diverse cultures and fosters friendships worldwide. \nAbout Esperanto Society of Chicago: Since 1954\, the Esperanto Society of Chicago is a welcoming community dedicated to promoting Esperanto language and culture in the Chicagoland area. We organize events\, language meetups\, and cultural exchanges to support both beginners and fluent speakers. \nContact us: esperanto-chicago@googlegroups.com\n  \nBecome a Member\nJoin our Mailing List\n\nMake a Donation\n\n  \nSee more events at: esperanto-chicago.org/events\n\n 
URL:http://esperanto-chicago.org/event/biera-revolucio/
LOCATION:Revolution Brewing – Brewery & Taproom\, 3340 N Kedzie Ave\, Chicago\, IL\, 60618
ATTACH;FMTTYPE=image/png:http://esperanto-chicago.org/wordpress/wp-content/uploads/2026/03/2026-03-29-09_46_40-Update-movement_id-Excel.png
ORGANIZER;CN="Randy Ream":MAILTO:rsream@gmail.com
END:VEVENT
END:VCALENDAR