BEGIN:VCALENDAR
VERSION:2.0
PRODID:-//La Esperanto-Societo de Ĉikago - ECPv6.15.20//NONSGML v1.0//EN
CALSCALE:GREGORIAN
METHOD:PUBLISH
X-WR-CALNAME:La Esperanto-Societo de Ĉikago
X-ORIGINAL-URL:http://esperanto-chicago.org
X-WR-CALDESC:Events for La Esperanto-Societo de Ĉikago
REFRESH-INTERVAL;VALUE=DURATION:PT1H
X-Robots-Tag:noindex
X-PUBLISHED-TTL:PT1H
BEGIN:VTIMEZONE
TZID:America/Chicago
BEGIN:DAYLIGHT
TZOFFSETFROM:-0600
TZOFFSETTO:-0500
TZNAME:CDT
DTSTART:20220313T080000
END:DAYLIGHT
BEGIN:STANDARD
TZOFFSETFROM:-0500
TZOFFSETTO:-0600
TZNAME:CST
DTSTART:20221106T070000
END:STANDARD
BEGIN:DAYLIGHT
TZOFFSETFROM:-0600
TZOFFSETTO:-0500
TZNAME:CDT
DTSTART:20230312T080000
END:DAYLIGHT
BEGIN:STANDARD
TZOFFSETFROM:-0500
TZOFFSETTO:-0600
TZNAME:CST
DTSTART:20231105T070000
END:STANDARD
BEGIN:DAYLIGHT
TZOFFSETFROM:-0600
TZOFFSETTO:-0500
TZNAME:CDT
DTSTART:20240310T080000
END:DAYLIGHT
BEGIN:STANDARD
TZOFFSETFROM:-0500
TZOFFSETTO:-0600
TZNAME:CST
DTSTART:20241103T070000
END:STANDARD
BEGIN:DAYLIGHT
TZOFFSETFROM:-0600
TZOFFSETTO:-0500
TZNAME:CDT
DTSTART:20250309T080000
END:DAYLIGHT
BEGIN:STANDARD
TZOFFSETFROM:-0500
TZOFFSETTO:-0600
TZNAME:CST
DTSTART:20251102T070000
END:STANDARD
END:VTIMEZONE
BEGIN:VEVENT
DTSTART;TZID=America/Chicago:20240314T130000
DTEND;TZID=America/Chicago:20240314T163000
DTSTAMP:20260425T210744
CREATED:20240313T115907Z
LAST-MODIFIED:20240314T003824Z
UID:10000220-1710421200-1710433800@esperanto-chicago.org
SUMMARY:Vizito al la Arta Instituto de Ĉikago
DESCRIPTION:Ni promenos tra la Arta Instituto de Ĉikago!  Je la 14-a de Marto civitanoj de Ilinojso rajtas eniri La Artan Instituton senpage. \nSe vi loĝas en Ilinojso\, vi povas rezervi vian senpagan bileton ĉi tie: https://sales.artic.edu/admissions \nNi renkontiĝos en la enirejo je la 13:00.   Telegramu nin je https://t.me/esperanto_chikago por trovi nin en la muzeo post la 13-a. \n 
URL:http://esperanto-chicago.org/event/vizito-al-la-arta-instituto-de-cikago/
LOCATION:The Art Institute of Chicago\, 111 S Michigan Ave\, Chicago\, IL\, 60603\, United States
ATTACH;FMTTYPE=image/jpeg:http://esperanto-chicago.org/wordpress/wp-content/uploads/2024/03/2024-03-13-06_59_16-Home-_-The-Art-Institute-of-Chicago.jpg
ORGANIZER;CN="Eric Killian":MAILTO:ericesperanto@gmail.com
END:VEVENT
BEGIN:VEVENT
DTSTART;TZID=America/Chicago:20240310T090000
DTEND;TZID=America/Chicago:20240310T110000
DTSTAMP:20260425T210744
CREATED:20240112T022221Z
LAST-MODIFIED:20240112T022221Z
UID:10000218-1710061200-1710068400@esperanto-chicago.org
SUMMARY:Kafeja Kunveno / Coffee Time (Online)
DESCRIPTION:Ni trinkos kafon kaj parolos Esperanton! Ne zorgu pri via lingva nivelo\, ni parolas ankaŭ la anglan! – We will drink coffee and speak Esperanto! Don’t worry if you don’t speak Esperanto yet\, we also speak English. \nContact us at: esperanto-chicago@googlegroups.com  \nWe will meet online!  Use the link below:\nhttp://esperanto-chicago.org/retkunveno \nTo join The Chicago Esperanto Society click here: http://esperanto-chicago.org/members/
URL:http://esperanto-chicago.org/event/kafeja-kunveno-coffee-time-online-82/
LOCATION:IL
CATEGORIES:Kafeja Kunveno
ATTACH;FMTTYPE=image/jpeg:http://esperanto-chicago.org/wordpress/wp-content/uploads/2022/03/2022-03-16-14_51_42-Titoloj-Google-Slides.jpg
ORGANIZER;CN="Randy Ream":MAILTO:rsream@gmail.com
END:VEVENT
BEGIN:VEVENT
DTSTART;TZID=America/Chicago:20240303T090000
DTEND;TZID=America/Chicago:20240303T110000
DTSTAMP:20260425T210744
CREATED:20240112T022220Z
LAST-MODIFIED:20240112T022220Z
UID:10000216-1709456400-1709463600@esperanto-chicago.org
SUMMARY:Kafeja Kunveno / Coffee Time (Online)
DESCRIPTION:Ni trinkos kafon kaj parolos Esperanton! Ne zorgu pri via lingva nivelo\, ni parolas ankaŭ la anglan! – We will drink coffee and speak Esperanto! Don’t worry if you don’t speak Esperanto yet\, we also speak English. \nContact us at: esperanto-chicago@googlegroups.com  \nWe will meet online!  Use the link below:\nhttp://esperanto-chicago.org/retkunveno \nTo join The Chicago Esperanto Society click here: http://esperanto-chicago.org/members/
URL:http://esperanto-chicago.org/event/kafeja-kunveno-coffee-time-online-81/
LOCATION:IL
CATEGORIES:Kafeja Kunveno
ATTACH;FMTTYPE=image/jpeg:http://esperanto-chicago.org/wordpress/wp-content/uploads/2022/03/2022-03-16-14_51_42-Titoloj-Google-Slides.jpg
ORGANIZER;CN="Randy Ream":MAILTO:rsream@gmail.com
END:VEVENT
BEGIN:VEVENT
DTSTART;TZID=America/Chicago:20240229T193000
DTEND;TZID=America/Chicago:20240229T203000
DTSTAMP:20260425T210744
CREATED:20240112T022207Z
LAST-MODIFIED:20240112T022207Z
UID:10000215-1709235000-1709238600@esperanto-chicago.org
SUMMARY:Klubo de Mortaj Krokodiloj (Online)
DESCRIPTION:Ni kunvenos rete.   We will meet online.\nContact us at: esperanto-chicago@googlegroups.com  \nUse this link to join the online meeting: \nesperanto-chicago.org/retkunveno
URL:http://esperanto-chicago.org/event/klubo-de-mortaj-krokodiloj-online-84/
LOCATION:IL
CATEGORIES:Klubo de Mortaj Krokodiloj
ATTACH;FMTTYPE=image/jpeg:http://esperanto-chicago.org/wordpress/wp-content/uploads/2022/03/2022-03-16-14_12_41-Untitled-presentation-Google-Slides.jpg
ORGANIZER;CN="Eric Killian":MAILTO:ericesperanto@gmail.com
END:VEVENT
BEGIN:VEVENT
DTSTART;TZID=America/Chicago:20240225T090000
DTEND;TZID=America/Chicago:20240225T110000
DTSTAMP:20260425T210744
CREATED:20240112T022206Z
LAST-MODIFIED:20240112T022206Z
UID:10000214-1708851600-1708858800@esperanto-chicago.org
SUMMARY:Kafeja Kunveno / Coffee Time (Online)
DESCRIPTION:Ni trinkos kafon kaj parolos Esperanton! Ne zorgu pri via lingva nivelo\, ni parolas ankaŭ la anglan! – We will drink coffee and speak Esperanto! Don’t worry if you don’t speak Esperanto yet\, we also speak English. \nContact us at: esperanto-chicago@googlegroups.com  \nWe will meet online!  Use the link below:\nhttp://esperanto-chicago.org/retkunveno \nTo join The Chicago Esperanto Society click here: http://esperanto-chicago.org/members/
URL:http://esperanto-chicago.org/event/kafeja-kunveno-coffee-time-online-80/
LOCATION:IL
CATEGORIES:Kafeja Kunveno
ATTACH;FMTTYPE=image/jpeg:http://esperanto-chicago.org/wordpress/wp-content/uploads/2022/03/2022-03-16-14_51_42-Titoloj-Google-Slides.jpg
ORGANIZER;CN="Randy Ream":MAILTO:rsream@gmail.com
END:VEVENT
BEGIN:VEVENT
DTSTART;TZID=America/Chicago:20240222T193000
DTEND;TZID=America/Chicago:20240222T203000
DTSTAMP:20260425T210744
CREATED:20240112T022206Z
LAST-MODIFIED:20240112T022206Z
UID:10000213-1708630200-1708633800@esperanto-chicago.org
SUMMARY:Klubo de Mortaj Krokodiloj (Online)
DESCRIPTION:Ni kunvenos rete.   We will meet online.\nContact us at: esperanto-chicago@googlegroups.com  \nUse this link to join the online meeting: \nesperanto-chicago.org/retkunveno
URL:http://esperanto-chicago.org/event/klubo-de-mortaj-krokodiloj-online-83/
LOCATION:IL
CATEGORIES:Klubo de Mortaj Krokodiloj
ATTACH;FMTTYPE=image/jpeg:http://esperanto-chicago.org/wordpress/wp-content/uploads/2022/03/2022-03-16-14_12_41-Untitled-presentation-Google-Slides.jpg
ORGANIZER;CN="Eric Killian":MAILTO:ericesperanto@gmail.com
END:VEVENT
BEGIN:VEVENT
DTSTART;TZID=America/Chicago:20240218T090000
DTEND;TZID=America/Chicago:20240218T110000
DTSTAMP:20260425T210744
CREATED:20240112T022206Z
LAST-MODIFIED:20240112T022206Z
UID:10000212-1708246800-1708254000@esperanto-chicago.org
SUMMARY:Kafeja Kunveno / Coffee Time (Online)
DESCRIPTION:Ni trinkos kafon kaj parolos Esperanton! Ne zorgu pri via lingva nivelo\, ni parolas ankaŭ la anglan! – We will drink coffee and speak Esperanto! Don’t worry if you don’t speak Esperanto yet\, we also speak English. \nContact us at: esperanto-chicago@googlegroups.com  \nWe will meet online!  Use the link below:\nhttp://esperanto-chicago.org/retkunveno \nTo join The Chicago Esperanto Society click here: http://esperanto-chicago.org/members/
URL:http://esperanto-chicago.org/event/kafeja-kunveno-coffee-time-online-79/
LOCATION:IL
CATEGORIES:Kafeja Kunveno
ATTACH;FMTTYPE=image/jpeg:http://esperanto-chicago.org/wordpress/wp-content/uploads/2022/03/2022-03-16-14_51_42-Titoloj-Google-Slides.jpg
ORGANIZER;CN="Randy Ream":MAILTO:rsream@gmail.com
END:VEVENT
BEGIN:VEVENT
DTSTART;TZID=America/Chicago:20240215T193000
DTEND;TZID=America/Chicago:20240215T203000
DTSTAMP:20260425T210744
CREATED:20240112T022205Z
LAST-MODIFIED:20240112T022205Z
UID:10000211-1708025400-1708029000@esperanto-chicago.org
SUMMARY:Klubo de Mortaj Krokodiloj (Online)
DESCRIPTION:Ni kunvenos rete.   We will meet online.\nContact us at: esperanto-chicago@googlegroups.com  \nUse this link to join the online meeting: \nesperanto-chicago.org/retkunveno
URL:http://esperanto-chicago.org/event/klubo-de-mortaj-krokodiloj-online-82/
LOCATION:IL
CATEGORIES:Klubo de Mortaj Krokodiloj
ATTACH;FMTTYPE=image/jpeg:http://esperanto-chicago.org/wordpress/wp-content/uploads/2022/03/2022-03-16-14_12_41-Untitled-presentation-Google-Slides.jpg
ORGANIZER;CN="Eric Killian":MAILTO:ericesperanto@gmail.com
END:VEVENT
BEGIN:VEVENT
DTSTART;TZID=America/Chicago:20240211T090000
DTEND;TZID=America/Chicago:20240211T110000
DTSTAMP:20260425T210744
CREATED:20240112T022204Z
LAST-MODIFIED:20240112T022204Z
UID:10000210-1707642000-1707649200@esperanto-chicago.org
SUMMARY:Kafeja Kunveno / Coffee Time (Online)
DESCRIPTION:Ni trinkos kafon kaj parolos Esperanton! Ne zorgu pri via lingva nivelo\, ni parolas ankaŭ la anglan! – We will drink coffee and speak Esperanto! Don’t worry if you don’t speak Esperanto yet\, we also speak English. \nContact us at: esperanto-chicago@googlegroups.com  \nWe will meet online!  Use the link below:\nhttp://esperanto-chicago.org/retkunveno \nTo join The Chicago Esperanto Society click here: http://esperanto-chicago.org/members/
URL:http://esperanto-chicago.org/event/kafeja-kunveno-coffee-time-online-78/
LOCATION:IL
CATEGORIES:Kafeja Kunveno
ATTACH;FMTTYPE=image/jpeg:http://esperanto-chicago.org/wordpress/wp-content/uploads/2022/03/2022-03-16-14_51_42-Titoloj-Google-Slides.jpg
ORGANIZER;CN="Randy Ream":MAILTO:rsream@gmail.com
END:VEVENT
BEGIN:VEVENT
DTSTART;TZID=America/Chicago:20240208T193000
DTEND;TZID=America/Chicago:20240208T203000
DTSTAMP:20260425T210744
CREATED:20240112T022203Z
LAST-MODIFIED:20240112T022203Z
UID:10000209-1707420600-1707424200@esperanto-chicago.org
SUMMARY:Klubo de Mortaj Krokodiloj (Online)
DESCRIPTION:Ni kunvenos rete.   We will meet online.\nContact us at: esperanto-chicago@googlegroups.com  \nUse this link to join the online meeting: \nesperanto-chicago.org/retkunveno
URL:http://esperanto-chicago.org/event/klubo-de-mortaj-krokodiloj-online-81/
LOCATION:IL
CATEGORIES:Klubo de Mortaj Krokodiloj
ATTACH;FMTTYPE=image/jpeg:http://esperanto-chicago.org/wordpress/wp-content/uploads/2022/03/2022-03-16-14_12_41-Untitled-presentation-Google-Slides.jpg
ORGANIZER;CN="Eric Killian":MAILTO:ericesperanto@gmail.com
END:VEVENT
BEGIN:VEVENT
DTSTART;TZID=America/Chicago:20240204T090000
DTEND;TZID=America/Chicago:20240204T110000
DTSTAMP:20260425T210744
CREATED:20240112T022203Z
LAST-MODIFIED:20240112T022203Z
UID:10000208-1707037200-1707044400@esperanto-chicago.org
SUMMARY:Kafeja Kunveno / Coffee Time (Online)
DESCRIPTION:Ni trinkos kafon kaj parolos Esperanton! Ne zorgu pri via lingva nivelo\, ni parolas ankaŭ la anglan! – We will drink coffee and speak Esperanto! Don’t worry if you don’t speak Esperanto yet\, we also speak English. \nContact us at: esperanto-chicago@googlegroups.com  \nWe will meet online!  Use the link below:\nhttp://esperanto-chicago.org/retkunveno \nTo join The Chicago Esperanto Society click here: http://esperanto-chicago.org/members/
URL:http://esperanto-chicago.org/event/kafeja-kunveno-coffee-time-online-77/
LOCATION:IL
CATEGORIES:Kafeja Kunveno
ATTACH;FMTTYPE=image/jpeg:http://esperanto-chicago.org/wordpress/wp-content/uploads/2022/03/2022-03-16-14_51_42-Titoloj-Google-Slides.jpg
ORGANIZER;CN="Randy Ream":MAILTO:rsream@gmail.com
END:VEVENT
BEGIN:VEVENT
DTSTART;TZID=America/Chicago:20240201T193000
DTEND;TZID=America/Chicago:20240201T203000
DTSTAMP:20260425T210744
CREATED:20240112T022203Z
LAST-MODIFIED:20240112T022203Z
UID:10000207-1706815800-1706819400@esperanto-chicago.org
SUMMARY:Klubo de Mortaj Krokodiloj (Online)
DESCRIPTION:Ni kunvenos rete.   We will meet online.\nContact us at: esperanto-chicago@googlegroups.com  \nUse this link to join the online meeting: \nesperanto-chicago.org/retkunveno
URL:http://esperanto-chicago.org/event/klubo-de-mortaj-krokodiloj-online-80/
LOCATION:IL
CATEGORIES:Klubo de Mortaj Krokodiloj
ATTACH;FMTTYPE=image/jpeg:http://esperanto-chicago.org/wordpress/wp-content/uploads/2022/03/2022-03-16-14_12_41-Untitled-presentation-Google-Slides.jpg
ORGANIZER;CN="Eric Killian":MAILTO:ericesperanto@gmail.com
END:VEVENT
BEGIN:VEVENT
DTSTART;TZID=America/Chicago:20240125T193000
DTEND;TZID=America/Chicago:20240125T203000
DTSTAMP:20260425T210744
CREATED:20240112T022159Z
LAST-MODIFIED:20240112T022159Z
UID:10000205-1706211000-1706214600@esperanto-chicago.org
SUMMARY:Klubo de Mortaj Krokodiloj (Online)
DESCRIPTION:Ni kunvenos rete.   We will meet online.\nContact us at: esperanto-chicago@googlegroups.com  \nUse this link to join the online meeting: \nesperanto-chicago.org/retkunveno
URL:http://esperanto-chicago.org/event/klubo-de-mortaj-krokodiloj-online-79/
LOCATION:IL
CATEGORIES:Klubo de Mortaj Krokodiloj
ATTACH;FMTTYPE=image/jpeg:http://esperanto-chicago.org/wordpress/wp-content/uploads/2022/03/2022-03-16-14_12_41-Untitled-presentation-Google-Slides.jpg
ORGANIZER;CN="Eric Killian":MAILTO:ericesperanto@gmail.com
END:VEVENT
BEGIN:VEVENT
DTSTART;TZID=America/Chicago:20240123T190000
DTEND;TZID=America/Chicago:20240123T210000
DTSTAMP:20260425T210744
CREATED:20240112T022157Z
LAST-MODIFIED:20240112T022157Z
UID:10000201-1706036400-1706043600@esperanto-chicago.org
SUMMARY:Monata Kunveno (Online)
DESCRIPTION:Our monthly meeting!\nContact us at: esperanto-chicago@googlegroups.com \nhttp://esperanto-chicago.org/retkunveno
URL:http://esperanto-chicago.org/event/monata-kunveno-online-10/
LOCATION:IL
CATEGORIES:Monata Kunveno
END:VEVENT
BEGIN:VEVENT
DTSTART;TZID=America/Chicago:20240121T090000
DTEND;TZID=America/Chicago:20240121T110000
DTSTAMP:20260425T210744
CREATED:20240112T022159Z
LAST-MODIFIED:20240112T022159Z
UID:10000204-1705827600-1705834800@esperanto-chicago.org
SUMMARY:Kafeja Kunveno / Coffee Time (Online)
DESCRIPTION:Ni trinkos kafon kaj parolos Esperanton! Ne zorgu pri via lingva nivelo\, ni parolas ankaŭ la anglan! – We will drink coffee and speak Esperanto! Don’t worry if you don’t speak Esperanto yet\, we also speak English. \nContact us at: esperanto-chicago@googlegroups.com  \nWe will meet online!  Use the link below:\nhttp://esperanto-chicago.org/retkunveno \nTo join The Chicago Esperanto Society click here: http://esperanto-chicago.org/members/
URL:http://esperanto-chicago.org/event/kafeja-kunveno-coffee-time-online-75/
LOCATION:IL
CATEGORIES:Kafeja Kunveno
ATTACH;FMTTYPE=image/jpeg:http://esperanto-chicago.org/wordpress/wp-content/uploads/2022/03/2022-03-16-14_51_42-Titoloj-Google-Slides.jpg
ORGANIZER;CN="Randy Ream":MAILTO:rsream@gmail.com
END:VEVENT
BEGIN:VEVENT
DTSTART;TZID=America/Chicago:20240118T193000
DTEND;TZID=America/Chicago:20240118T203000
DTSTAMP:20260425T210744
CREATED:20240112T022158Z
LAST-MODIFIED:20240112T022158Z
UID:10000203-1705606200-1705609800@esperanto-chicago.org
SUMMARY:Klubo de Mortaj Krokodiloj (Online)
DESCRIPTION:Ni kunvenos rete.   We will meet online.\nContact us at: esperanto-chicago@googlegroups.com  \nUse this link to join the online meeting: \nesperanto-chicago.org/retkunveno
URL:http://esperanto-chicago.org/event/klubo-de-mortaj-krokodiloj-online-78/
LOCATION:IL
CATEGORIES:Klubo de Mortaj Krokodiloj
ATTACH;FMTTYPE=image/jpeg:http://esperanto-chicago.org/wordpress/wp-content/uploads/2022/03/2022-03-16-14_12_41-Untitled-presentation-Google-Slides.jpg
ORGANIZER;CN="Eric Killian":MAILTO:ericesperanto@gmail.com
END:VEVENT
BEGIN:VEVENT
DTSTART;TZID=America/Chicago:20240114T090000
DTEND;TZID=America/Chicago:20240114T110000
DTSTAMP:20260425T210744
CREATED:20240112T022158Z
LAST-MODIFIED:20240112T022158Z
UID:10000202-1705222800-1705230000@esperanto-chicago.org
SUMMARY:Kafeja Kunveno / Coffee Time (Online)
DESCRIPTION:Ni trinkos kafon kaj parolos Esperanton! Ne zorgu pri via lingva nivelo\, ni parolas ankaŭ la anglan! – We will drink coffee and speak Esperanto! Don’t worry if you don’t speak Esperanto yet\, we also speak English. \nContact us at: esperanto-chicago@googlegroups.com  \nWe will meet online!  Use the link below:\nhttp://esperanto-chicago.org/retkunveno \nTo join The Chicago Esperanto Society click here: http://esperanto-chicago.org/members/
URL:http://esperanto-chicago.org/event/kafeja-kunveno-coffee-time-online-74/
LOCATION:IL
CATEGORIES:Kafeja Kunveno
ATTACH;FMTTYPE=image/jpeg:http://esperanto-chicago.org/wordpress/wp-content/uploads/2022/03/2022-03-16-14_51_42-Titoloj-Google-Slides.jpg
ORGANIZER;CN="Randy Ream":MAILTO:rsream@gmail.com
END:VEVENT
BEGIN:VEVENT
DTSTART;TZID=America/Chicago:20240111T193000
DTEND;TZID=America/Chicago:20240111T203000
DTSTAMP:20260425T210744
CREATED:20231110T014306Z
LAST-MODIFIED:20231110T014306Z
UID:10000185-1705001400-1705005000@esperanto-chicago.org
SUMMARY:Klubo de Mortaj Krokodiloj (Online)
DESCRIPTION:Ni kunvenos rete.   We will meet online.\nContact us at: esperanto-chicago@googlegroups.com  \nUse this link to join the online meeting: \nesperanto-chicago.org/retkunveno
URL:http://esperanto-chicago.org/event/klubo-de-mortaj-krokodiloj-online-77/
LOCATION:IL
CATEGORIES:Klubo de Mortaj Krokodiloj
ATTACH;FMTTYPE=image/jpeg:http://esperanto-chicago.org/wordpress/wp-content/uploads/2022/03/2022-03-16-14_12_41-Untitled-presentation-Google-Slides.jpg
ORGANIZER;CN="Eric Killian":MAILTO:ericesperanto@gmail.com
END:VEVENT
BEGIN:VEVENT
DTSTART;TZID=America/Chicago:20240107T090000
DTEND;TZID=America/Chicago:20240107T110000
DTSTAMP:20260425T210744
CREATED:20231110T014306Z
LAST-MODIFIED:20231110T014306Z
UID:10000184-1704618000-1704625200@esperanto-chicago.org
SUMMARY:Kafeja Kunveno / Coffee Time (Online)
DESCRIPTION:Ni trinkos kafon kaj parolos Esperanton! Ne zorgu pri via lingva nivelo\, ni parolas ankaŭ la anglan! – We will drink coffee and speak Esperanto! Don’t worry if you don’t speak Esperanto yet\, we also speak English. \nContact us at: esperanto-chicago@googlegroups.com  \nWe will meet online!  Use the link below:\nhttp://esperanto-chicago.org/retkunveno \nTo join The Chicago Esperanto Society click here: http://esperanto-chicago.org/members/
URL:http://esperanto-chicago.org/event/kafeja-kunveno-coffee-time-online-73/
LOCATION:IL
CATEGORIES:Kafeja Kunveno
ATTACH;FMTTYPE=image/jpeg:http://esperanto-chicago.org/wordpress/wp-content/uploads/2022/03/2022-03-16-14_51_42-Titoloj-Google-Slides.jpg
ORGANIZER;CN="Randy Ream":MAILTO:rsream@gmail.com
END:VEVENT
BEGIN:VEVENT
DTSTART;TZID=America/Chicago:20240104T193000
DTEND;TZID=America/Chicago:20240104T203000
DTSTAMP:20260425T210744
CREATED:20231110T014305Z
LAST-MODIFIED:20231110T014305Z
UID:10000183-1704396600-1704400200@esperanto-chicago.org
SUMMARY:Klubo de Mortaj Krokodiloj (Online)
DESCRIPTION:Ni kunvenos rete.   We will meet online.\nContact us at: esperanto-chicago@googlegroups.com  \nUse this link to join the online meeting: \nesperanto-chicago.org/retkunveno
URL:http://esperanto-chicago.org/event/klubo-de-mortaj-krokodiloj-online-76/
LOCATION:IL
CATEGORIES:Klubo de Mortaj Krokodiloj
ATTACH;FMTTYPE=image/jpeg:http://esperanto-chicago.org/wordpress/wp-content/uploads/2022/03/2022-03-16-14_12_41-Untitled-presentation-Google-Slides.jpg
ORGANIZER;CN="Eric Killian":MAILTO:ericesperanto@gmail.com
END:VEVENT
BEGIN:VEVENT
DTSTART;TZID=America/Chicago:20231231T090000
DTEND;TZID=America/Chicago:20231231T110000
DTSTAMP:20260425T210744
CREATED:20231110T014305Z
LAST-MODIFIED:20231110T014305Z
UID:10000182-1704013200-1704020400@esperanto-chicago.org
SUMMARY:Kafeja Kunveno / Coffee Time (Online)
DESCRIPTION:Ni trinkos kafon kaj parolos Esperanton! Ne zorgu pri via lingva nivelo\, ni parolas ankaŭ la anglan! – We will drink coffee and speak Esperanto! Don’t worry if you don’t speak Esperanto yet\, we also speak English. \nContact us at: esperanto-chicago@googlegroups.com  \nWe will meet online!  Use the link below:\nhttp://esperanto-chicago.org/retkunveno \nTo join The Chicago Esperanto Society click here: http://esperanto-chicago.org/members/
URL:http://esperanto-chicago.org/event/kafeja-kunveno-coffee-time-online-72/
LOCATION:IL
CATEGORIES:Kafeja Kunveno
ATTACH;FMTTYPE=image/jpeg:http://esperanto-chicago.org/wordpress/wp-content/uploads/2022/03/2022-03-16-14_51_42-Titoloj-Google-Slides.jpg
ORGANIZER;CN="Randy Ream":MAILTO:rsream@gmail.com
END:VEVENT
BEGIN:VEVENT
DTSTART;TZID=America/Chicago:20231224T090000
DTEND;TZID=America/Chicago:20231224T110000
DTSTAMP:20260425T210744
CREATED:20231110T014218Z
LAST-MODIFIED:20231110T014218Z
UID:10000180-1703408400-1703415600@esperanto-chicago.org
SUMMARY:Kafeja Kunveno / Coffee Time (Online)
DESCRIPTION:Ni trinkos kafon kaj parolos Esperanton! Ne zorgu pri via lingva nivelo\, ni parolas ankaŭ la anglan! – We will drink coffee and speak Esperanto! Don’t worry if you don’t speak Esperanto yet\, we also speak English. \nContact us at: esperanto-chicago@googlegroups.com  \nWe will meet online!  Use the link below:\nhttp://esperanto-chicago.org/retkunveno \nTo join The Chicago Esperanto Society click here: http://esperanto-chicago.org/members/
URL:http://esperanto-chicago.org/event/kafeja-kunveno-coffee-time-online-71/
LOCATION:IL
CATEGORIES:Kafeja Kunveno
ATTACH;FMTTYPE=image/jpeg:http://esperanto-chicago.org/wordpress/wp-content/uploads/2022/03/2022-03-16-14_51_42-Titoloj-Google-Slides.jpg
ORGANIZER;CN="Randy Ream":MAILTO:rsream@gmail.com
END:VEVENT
BEGIN:VEVENT
DTSTART;TZID=America/Chicago:20231221T193000
DTEND;TZID=America/Chicago:20231221T203000
DTSTAMP:20260425T210744
CREATED:20231110T014217Z
LAST-MODIFIED:20231110T014217Z
UID:10000179-1703187000-1703190600@esperanto-chicago.org
SUMMARY:Klubo de Mortaj Krokodiloj (Online)
DESCRIPTION:Ni kunvenos rete.   We will meet online.\nContact us at: esperanto-chicago@googlegroups.com  \nUse this link to join the online meeting: \nesperanto-chicago.org/retkunveno
URL:http://esperanto-chicago.org/event/klubo-de-mortaj-krokodiloj-online-74/
LOCATION:IL
CATEGORIES:Klubo de Mortaj Krokodiloj
ATTACH;FMTTYPE=image/jpeg:http://esperanto-chicago.org/wordpress/wp-content/uploads/2022/03/2022-03-16-14_12_41-Untitled-presentation-Google-Slides.jpg
ORGANIZER;CN="Eric Killian":MAILTO:ericesperanto@gmail.com
END:VEVENT
BEGIN:VEVENT
DTSTART;TZID=America/Chicago:20231217T120000
DTEND;TZID=America/Chicago:20231217T150000
DTSTAMP:20260425T210744
CREATED:20221208T132037Z
LAST-MODIFIED:20231215T013348Z
UID:10000099-1702814400-1702825200@esperanto-chicago.org
SUMMARY:Zamenhof-Tago!
DESCRIPTION:Join us as we celebrate Zamenhof-tago!  \n  \nWe will meet at Shiki Buffet in Cicero for our annual event.  \nThe cost is $19.92 per person\, and can be paid at the door. \n  \n\n\n\n		\n				\n						\n		\n								\n			\n		\n							\n			\n				\n						\n		\n								\n			\n		\n							\n			\n				\n						\n		\n								\n			\n		\n							\n			\n				\n						\n		\n								\n			\n		\n							\n			\n				\n						\n		\n								\n			\n		\n							\n			\n				\n						\n		\n								\n			\n		\n							\n			\n				\n						\n		\n								\n			\n		\n							\n			\n				\n						\n		\n								\n			\n		\n							\n			\n				\n						\n		\n								\n			\n		\n							\n			\n				\n						\n		\n								\n			\n		\n							\n			\n				\n						\n		\n								\n			\n		\n							\n			\n				\n						\n		\n								\n			\n		\n							\n			\n				\n						\n		\n								\n			\n		\n							\n			\n				\n						\n		\n								\n			\n		\n							\n			\n				\n						\n		\n								\n			\n		\n							\n			\n				\n						\n		\n								\n			\n		\n							\n			\n				\n						\n		\n								\n			\n		\n							\n			\n				\n						\n		\n								\n			\n		\n							\n			\n				\n						\n		\n								\n			\n		\n							\n			\n				\n						\n		\n								\n			\n		\n							\n			\n	\n	\n\n		\n		[Show slideshow]\n\n	\n	\n		\n		1\n2\n...\n6\n►	\n\n  \n 
URL:http://esperanto-chicago.org/event/zamenhof-tago/
LOCATION:Shiki Buffet\, 4633 W Cermak Rd\, Cicero\, IL\, 60804
ATTACH;FMTTYPE=image/jpeg:http://esperanto-chicago.org/wordpress/wp-content/uploads/2022/12/2022-12-08-07_16_36-zmenhof-Bing-images.jpg
ORGANIZER;CN="Eric Killian":MAILTO:ericesperanto@gmail.com
END:VEVENT
BEGIN:VEVENT
DTSTART;TZID=America/Chicago:20231214T193000
DTEND;TZID=America/Chicago:20231214T203000
DTSTAMP:20260425T210744
CREATED:20231110T014216Z
LAST-MODIFIED:20231110T014216Z
UID:10000178-1702582200-1702585800@esperanto-chicago.org
SUMMARY:Klubo de Mortaj Krokodiloj (Online)
DESCRIPTION:Ni kunvenos rete.   We will meet online.\nContact us at: esperanto-chicago@googlegroups.com  \nUse this link to join the online meeting: \nesperanto-chicago.org/retkunveno
URL:http://esperanto-chicago.org/event/klubo-de-mortaj-krokodiloj-online-73/
LOCATION:IL
CATEGORIES:Klubo de Mortaj Krokodiloj
ATTACH;FMTTYPE=image/jpeg:http://esperanto-chicago.org/wordpress/wp-content/uploads/2022/03/2022-03-16-14_12_41-Untitled-presentation-Google-Slides.jpg
ORGANIZER;CN="Eric Killian":MAILTO:ericesperanto@gmail.com
END:VEVENT
BEGIN:VEVENT
DTSTART;TZID=America/Chicago:20231210T090000
DTEND;TZID=America/Chicago:20231210T110000
DTSTAMP:20260425T210744
CREATED:20231110T014201Z
LAST-MODIFIED:20231110T014201Z
UID:10000177-1702198800-1702206000@esperanto-chicago.org
SUMMARY:Kafeja Kunveno / Coffee Time (Online)
DESCRIPTION:Ni trinkos kafon kaj parolos Esperanton! Ne zorgu pri via lingva nivelo\, ni parolas ankaŭ la anglan! – We will drink coffee and speak Esperanto! Don’t worry if you don’t speak Esperanto yet\, we also speak English. \nContact us at: esperanto-chicago@googlegroups.com  \nWe will meet online!  Use the link below:\nhttp://esperanto-chicago.org/retkunveno \nTo join The Chicago Esperanto Society click here: http://esperanto-chicago.org/members/
URL:http://esperanto-chicago.org/event/kafeja-kunveno-coffee-time-online-69/
LOCATION:IL
CATEGORIES:Kafeja Kunveno
ATTACH;FMTTYPE=image/jpeg:http://esperanto-chicago.org/wordpress/wp-content/uploads/2022/03/2022-03-16-14_51_42-Titoloj-Google-Slides.jpg
ORGANIZER;CN="Randy Ream":MAILTO:rsream@gmail.com
END:VEVENT
BEGIN:VEVENT
DTSTART;TZID=America/Chicago:20231207T193000
DTEND;TZID=America/Chicago:20231207T203000
DTSTAMP:20260425T210744
CREATED:20231110T014201Z
LAST-MODIFIED:20231110T014201Z
UID:10000176-1701977400-1701981000@esperanto-chicago.org
SUMMARY:Klubo de Mortaj Krokodiloj (Online)
DESCRIPTION:Ni kunvenos rete.   We will meet online.\nContact us at: esperanto-chicago@googlegroups.com  \nUse this link to join the online meeting: \nesperanto-chicago.org/retkunveno
URL:http://esperanto-chicago.org/event/klubo-de-mortaj-krokodiloj-online-72/
LOCATION:IL
CATEGORIES:Klubo de Mortaj Krokodiloj
ATTACH;FMTTYPE=image/jpeg:http://esperanto-chicago.org/wordpress/wp-content/uploads/2022/03/2022-03-16-14_12_41-Untitled-presentation-Google-Slides.jpg
ORGANIZER;CN="Eric Killian":MAILTO:ericesperanto@gmail.com
END:VEVENT
BEGIN:VEVENT
DTSTART;TZID=America/Chicago:20231203T090000
DTEND;TZID=America/Chicago:20231203T110000
DTSTAMP:20260425T210744
CREATED:20231110T014200Z
LAST-MODIFIED:20231110T014200Z
UID:10000175-1701594000-1701601200@esperanto-chicago.org
SUMMARY:Kafeja Kunveno / Coffee Time (Online)
DESCRIPTION:Ni trinkos kafon kaj parolos Esperanton! Ne zorgu pri via lingva nivelo\, ni parolas ankaŭ la anglan! – We will drink coffee and speak Esperanto! Don’t worry if you don’t speak Esperanto yet\, we also speak English. \nContact us at: esperanto-chicago@googlegroups.com  \nWe will meet online!  Use the link below:\nhttp://esperanto-chicago.org/retkunveno \nTo join The Chicago Esperanto Society click here: http://esperanto-chicago.org/members/
URL:http://esperanto-chicago.org/event/kafeja-kunveno-coffee-time-online-68/
LOCATION:IL
CATEGORIES:Kafeja Kunveno
ATTACH;FMTTYPE=image/jpeg:http://esperanto-chicago.org/wordpress/wp-content/uploads/2022/03/2022-03-16-14_51_42-Titoloj-Google-Slides.jpg
ORGANIZER;CN="Randy Ream":MAILTO:rsream@gmail.com
END:VEVENT
BEGIN:VEVENT
DTSTART;TZID=America/Chicago:20231130T193000
DTEND;TZID=America/Chicago:20231130T203000
DTSTAMP:20260425T210744
CREATED:20231110T014200Z
LAST-MODIFIED:20231110T014200Z
UID:10000174-1701372600-1701376200@esperanto-chicago.org
SUMMARY:Klubo de Mortaj Krokodiloj (Online)
DESCRIPTION:Ni kunvenos rete.   We will meet online.\nContact us at: esperanto-chicago@googlegroups.com  \nUse this link to join the online meeting: \nesperanto-chicago.org/retkunveno
URL:http://esperanto-chicago.org/event/klubo-de-mortaj-krokodiloj-online-71/
LOCATION:IL
CATEGORIES:Klubo de Mortaj Krokodiloj
ATTACH;FMTTYPE=image/jpeg:http://esperanto-chicago.org/wordpress/wp-content/uploads/2022/03/2022-03-16-14_12_41-Untitled-presentation-Google-Slides.jpg
ORGANIZER;CN="Eric Killian":MAILTO:ericesperanto@gmail.com
END:VEVENT
BEGIN:VEVENT
DTSTART;TZID=America/Chicago:20231128T190000
DTEND;TZID=America/Chicago:20231128T210000
DTSTAMP:20260425T210744
CREATED:20231110T014156Z
LAST-MODIFIED:20231110T014156Z
UID:10000169-1701198000-1701205200@esperanto-chicago.org
SUMMARY:Monata Kunveno (Online)
DESCRIPTION:Our monthly meeting!\nContact us at: esperanto-chicago@googlegroups.com \nhttp://esperanto-chicago.org/retkunveno
URL:http://esperanto-chicago.org/event/monata-kunveno-online-9/
LOCATION:IL
CATEGORIES:Monata Kunveno
END:VEVENT
END:VCALENDAR