BEGIN:VCALENDAR
VERSION:2.0
PRODID:-//La Esperanto-Societo de Ĉikago - ECPv6.15.20//NONSGML v1.0//EN
CALSCALE:GREGORIAN
METHOD:PUBLISH
X-WR-CALNAME:La Esperanto-Societo de Ĉikago
X-ORIGINAL-URL:http://esperanto-chicago.org
X-WR-CALDESC:Events for La Esperanto-Societo de Ĉikago
REFRESH-INTERVAL;VALUE=DURATION:PT1H
X-Robots-Tag:noindex
X-PUBLISHED-TTL:PT1H
BEGIN:VTIMEZONE
TZID:America/Chicago
BEGIN:DAYLIGHT
TZOFFSETFROM:-0600
TZOFFSETTO:-0500
TZNAME:CDT
DTSTART:20220313T080000
END:DAYLIGHT
BEGIN:STANDARD
TZOFFSETFROM:-0500
TZOFFSETTO:-0600
TZNAME:CST
DTSTART:20221106T070000
END:STANDARD
BEGIN:DAYLIGHT
TZOFFSETFROM:-0600
TZOFFSETTO:-0500
TZNAME:CDT
DTSTART:20230312T080000
END:DAYLIGHT
BEGIN:STANDARD
TZOFFSETFROM:-0500
TZOFFSETTO:-0600
TZNAME:CST
DTSTART:20231105T070000
END:STANDARD
BEGIN:DAYLIGHT
TZOFFSETFROM:-0600
TZOFFSETTO:-0500
TZNAME:CDT
DTSTART:20240310T080000
END:DAYLIGHT
BEGIN:STANDARD
TZOFFSETFROM:-0500
TZOFFSETTO:-0600
TZNAME:CST
DTSTART:20241103T070000
END:STANDARD
END:VTIMEZONE
BEGIN:VEVENT
DTSTART;TZID=America/Chicago:20231126T090000
DTEND;TZID=America/Chicago:20231126T110000
DTSTAMP:20260425T205944
CREATED:20231110T014200Z
LAST-MODIFIED:20231110T014200Z
UID:10000173-1700989200-1700996400@esperanto-chicago.org
SUMMARY:Kafeja Kunveno / Coffee Time (Online)
DESCRIPTION:Ni trinkos kafon kaj parolos Esperanton! Ne zorgu pri via lingva nivelo\, ni parolas ankaŭ la anglan! – We will drink coffee and speak Esperanto! Don’t worry if you don’t speak Esperanto yet\, we also speak English. \nContact us at: esperanto-chicago@googlegroups.com  \nWe will meet online!  Use the link below:\nhttp://esperanto-chicago.org/retkunveno \nTo join The Chicago Esperanto Society click here: http://esperanto-chicago.org/members/
URL:http://esperanto-chicago.org/event/kafeja-kunveno-coffee-time-online-67/
CATEGORIES:Kafeja Kunveno
ATTACH;FMTTYPE=image/jpeg:http://esperanto-chicago.org/wordpress/wp-content/uploads/2022/03/2022-03-16-14_51_42-Titoloj-Google-Slides.jpg
ORGANIZER;CN="Randy Ream":MAILTO:rsream@gmail.com
END:VEVENT
BEGIN:VEVENT
DTSTART;TZID=America/Chicago:20231119T090000
DTEND;TZID=America/Chicago:20231119T110000
DTSTAMP:20260425T205944
CREATED:20231110T014157Z
LAST-MODIFIED:20231110T014157Z
UID:10000172-1700384400-1700391600@esperanto-chicago.org
SUMMARY:Kafeja Kunveno / Coffee Time (Online)
DESCRIPTION:Ni trinkos kafon kaj parolos Esperanton! Ne zorgu pri via lingva nivelo\, ni parolas ankaŭ la anglan! – We will drink coffee and speak Esperanto! Don’t worry if you don’t speak Esperanto yet\, we also speak English. \nContact us at: esperanto-chicago@googlegroups.com  \nWe will meet online!  Use the link below:\nhttp://esperanto-chicago.org/retkunveno \nTo join The Chicago Esperanto Society click here: http://esperanto-chicago.org/members/
URL:http://esperanto-chicago.org/event/kafeja-kunveno-coffee-time-online-66/
CATEGORIES:Kafeja Kunveno
ATTACH;FMTTYPE=image/jpeg:http://esperanto-chicago.org/wordpress/wp-content/uploads/2022/03/2022-03-16-14_51_42-Titoloj-Google-Slides.jpg
ORGANIZER;CN="Randy Ream":MAILTO:rsream@gmail.com
END:VEVENT
BEGIN:VEVENT
DTSTART;TZID=America/Chicago:20231116T193000
DTEND;TZID=America/Chicago:20231116T203000
DTSTAMP:20260425T205944
CREATED:20231110T014157Z
LAST-MODIFIED:20231110T014157Z
UID:10000171-1700163000-1700166600@esperanto-chicago.org
SUMMARY:Klubo de Mortaj Krokodiloj (Online)
DESCRIPTION:Ni kunvenos rete.   We will meet online.\nContact us at: esperanto-chicago@googlegroups.com  \nUse this link to join the online meeting: \nesperanto-chicago.org/retkunveno
URL:http://esperanto-chicago.org/event/klubo-de-mortaj-krokodiloj-online-69/
CATEGORIES:Klubo de Mortaj Krokodiloj
ATTACH;FMTTYPE=image/jpeg:http://esperanto-chicago.org/wordpress/wp-content/uploads/2022/03/2022-03-16-14_12_41-Untitled-presentation-Google-Slides.jpg
ORGANIZER;CN="Eric Killian":MAILTO:ericesperanto@gmail.com
END:VEVENT
BEGIN:VEVENT
DTSTART;TZID=America/Chicago:20231112T090000
DTEND;TZID=America/Chicago:20231112T110000
DTSTAMP:20260425T205944
CREATED:20231110T014156Z
LAST-MODIFIED:20231110T014156Z
UID:10000170-1699779600-1699786800@esperanto-chicago.org
SUMMARY:Kafeja Kunveno / Coffee Time (Online)
DESCRIPTION:Ni trinkos kafon kaj parolos Esperanton! Ne zorgu pri via lingva nivelo\, ni parolas ankaŭ la anglan! – We will drink coffee and speak Esperanto! Don’t worry if you don’t speak Esperanto yet\, we also speak English. \nContact us at: esperanto-chicago@googlegroups.com  \nWe will meet online!  Use the link below:\nhttp://esperanto-chicago.org/retkunveno \nTo join The Chicago Esperanto Society click here: http://esperanto-chicago.org/members/
URL:http://esperanto-chicago.org/event/kafeja-kunveno-coffee-time-online-65/
CATEGORIES:Kafeja Kunveno
ATTACH;FMTTYPE=image/jpeg:http://esperanto-chicago.org/wordpress/wp-content/uploads/2022/03/2022-03-16-14_51_42-Titoloj-Google-Slides.jpg
ORGANIZER;CN="Randy Ream":MAILTO:rsream@gmail.com
END:VEVENT
BEGIN:VEVENT
DTSTART;TZID=America/Chicago:20231109T193000
DTEND;TZID=America/Chicago:20231109T203000
DTSTAMP:20260425T205944
CREATED:20230901T012641Z
LAST-MODIFIED:20230901T012641Z
UID:10000166-1699558200-1699561800@esperanto-chicago.org
SUMMARY:Klubo de Mortaj Krokodiloj (Online)
DESCRIPTION:Ni kunvenos rete.   We will meet online.\nContact us at: esperanto-chicago@googlegroups.com  \nUse this link to join the online meeting: \nesperanto-chicago.org/retkunveno
URL:http://esperanto-chicago.org/event/klubo-de-mortaj-krokodiloj-online-68/
CATEGORIES:Klubo de Mortaj Krokodiloj
ATTACH;FMTTYPE=image/jpeg:http://esperanto-chicago.org/wordpress/wp-content/uploads/2022/03/2022-03-16-14_12_41-Untitled-presentation-Google-Slides.jpg
ORGANIZER;CN="Eric Killian":MAILTO:ericesperanto@gmail.com
END:VEVENT
BEGIN:VEVENT
DTSTART;TZID=America/Chicago:20231105T090000
DTEND;TZID=America/Chicago:20231105T110000
DTSTAMP:20260425T205944
CREATED:20230901T012641Z
LAST-MODIFIED:20230901T012641Z
UID:10000165-1699174800-1699182000@esperanto-chicago.org
SUMMARY:Kafeja Kunveno / Coffee Time (Online)
DESCRIPTION:Ni trinkos kafon kaj parolos Esperanton! Ne zorgu pri via lingva nivelo\, ni parolas ankaŭ la anglan! – We will drink coffee and speak Esperanto! Don’t worry if you don’t speak Esperanto yet\, we also speak English. \nContact us at: esperanto-chicago@googlegroups.com  \nWe will meet online!  Use the link below:\nhttp://esperanto-chicago.org/retkunveno \nTo join The Chicago Esperanto Society click here: http://esperanto-chicago.org/members/
URL:http://esperanto-chicago.org/event/kafeja-kunveno-coffee-time-online-64/
CATEGORIES:Kafeja Kunveno
ATTACH;FMTTYPE=image/jpeg:http://esperanto-chicago.org/wordpress/wp-content/uploads/2022/03/2022-03-16-14_51_42-Titoloj-Google-Slides.jpg
ORGANIZER;CN="Randy Ream":MAILTO:rsream@gmail.com
END:VEVENT
BEGIN:VEVENT
DTSTART;TZID=America/Chicago:20231102T193000
DTEND;TZID=America/Chicago:20231102T203000
DTSTAMP:20260425T205944
CREATED:20230901T012640Z
LAST-MODIFIED:20230901T012640Z
UID:10000164-1698953400-1698957000@esperanto-chicago.org
SUMMARY:Klubo de Mortaj Krokodiloj (Online)
DESCRIPTION:Ni kunvenos rete.   We will meet online.\nContact us at: esperanto-chicago@googlegroups.com  \nUse this link to join the online meeting: \nesperanto-chicago.org/retkunveno
URL:http://esperanto-chicago.org/event/klubo-de-mortaj-krokodiloj-online-67/
CATEGORIES:Klubo de Mortaj Krokodiloj
ATTACH;FMTTYPE=image/jpeg:http://esperanto-chicago.org/wordpress/wp-content/uploads/2022/03/2022-03-16-14_12_41-Untitled-presentation-Google-Slides.jpg
ORGANIZER;CN="Eric Killian":MAILTO:ericesperanto@gmail.com
END:VEVENT
BEGIN:VEVENT
DTSTART;TZID=America/Chicago:20231029T090000
DTEND;TZID=America/Chicago:20231029T110000
DTSTAMP:20260425T205944
CREATED:20230901T012640Z
LAST-MODIFIED:20230901T012640Z
UID:10000163-1698570000-1698577200@esperanto-chicago.org
SUMMARY:Kafeja Kunveno / Coffee Time (Online)
DESCRIPTION:Ni trinkos kafon kaj parolos Esperanton! Ne zorgu pri via lingva nivelo\, ni parolas ankaŭ la anglan! – We will drink coffee and speak Esperanto! Don’t worry if you don’t speak Esperanto yet\, we also speak English. \nContact us at: esperanto-chicago@googlegroups.com  \nWe will meet online!  Use the link below:\nhttp://esperanto-chicago.org/retkunveno \nTo join The Chicago Esperanto Society click here: http://esperanto-chicago.org/members/
URL:http://esperanto-chicago.org/event/kafeja-kunveno-coffee-time-online-63/
CATEGORIES:Kafeja Kunveno
ATTACH;FMTTYPE=image/jpeg:http://esperanto-chicago.org/wordpress/wp-content/uploads/2022/03/2022-03-16-14_51_42-Titoloj-Google-Slides.jpg
ORGANIZER;CN="Randy Ream":MAILTO:rsream@gmail.com
END:VEVENT
BEGIN:VEVENT
DTSTART;TZID=America/Chicago:20231026T193000
DTEND;TZID=America/Chicago:20231026T203000
DTSTAMP:20260425T205944
CREATED:20230901T012626Z
LAST-MODIFIED:20230901T012626Z
UID:10000162-1698348600-1698352200@esperanto-chicago.org
SUMMARY:Klubo de Mortaj Krokodiloj (Online)
DESCRIPTION:Ni kunvenos rete.   We will meet online.\nContact us at: esperanto-chicago@googlegroups.com  \nUse this link to join the online meeting: \nesperanto-chicago.org/retkunveno
URL:http://esperanto-chicago.org/event/klubo-de-mortaj-krokodiloj-online-66/
CATEGORIES:Klubo de Mortaj Krokodiloj
ATTACH;FMTTYPE=image/jpeg:http://esperanto-chicago.org/wordpress/wp-content/uploads/2022/03/2022-03-16-14_12_41-Untitled-presentation-Google-Slides.jpg
ORGANIZER;CN="Eric Killian":MAILTO:ericesperanto@gmail.com
END:VEVENT
BEGIN:VEVENT
DTSTART;TZID=America/Chicago:20231022T090000
DTEND;TZID=America/Chicago:20231022T110000
DTSTAMP:20260425T205944
CREATED:20230901T012626Z
LAST-MODIFIED:20230901T012626Z
UID:10000161-1697965200-1697972400@esperanto-chicago.org
SUMMARY:Kafeja Kunveno / Coffee Time (Online)
DESCRIPTION:Ni trinkos kafon kaj parolos Esperanton! Ne zorgu pri via lingva nivelo\, ni parolas ankaŭ la anglan! – We will drink coffee and speak Esperanto! Don’t worry if you don’t speak Esperanto yet\, we also speak English. \nContact us at: esperanto-chicago@googlegroups.com  \nWe will meet online!  Use the link below:\nhttp://esperanto-chicago.org/retkunveno \nTo join The Chicago Esperanto Society click here: http://esperanto-chicago.org/members/
URL:http://esperanto-chicago.org/event/kafeja-kunveno-coffee-time-online-62/
CATEGORIES:Kafeja Kunveno
ATTACH;FMTTYPE=image/jpeg:http://esperanto-chicago.org/wordpress/wp-content/uploads/2022/03/2022-03-16-14_51_42-Titoloj-Google-Slides.jpg
ORGANIZER;CN="Randy Ream":MAILTO:rsream@gmail.com
END:VEVENT
BEGIN:VEVENT
DTSTART;TZID=America/Chicago:20231019T193000
DTEND;TZID=America/Chicago:20231019T203000
DTSTAMP:20260425T205944
CREATED:20230901T012625Z
LAST-MODIFIED:20230901T012625Z
UID:10000160-1697743800-1697747400@esperanto-chicago.org
SUMMARY:Klubo de Mortaj Krokodiloj (Online)
DESCRIPTION:Ni kunvenos rete.   We will meet online.\nContact us at: esperanto-chicago@googlegroups.com  \nUse this link to join the online meeting: \nesperanto-chicago.org/retkunveno
URL:http://esperanto-chicago.org/event/klubo-de-mortaj-krokodiloj-online-65/
CATEGORIES:Klubo de Mortaj Krokodiloj
ATTACH;FMTTYPE=image/jpeg:http://esperanto-chicago.org/wordpress/wp-content/uploads/2022/03/2022-03-16-14_12_41-Untitled-presentation-Google-Slides.jpg
ORGANIZER;CN="Eric Killian":MAILTO:ericesperanto@gmail.com
END:VEVENT
BEGIN:VEVENT
DTSTART;TZID=America/Chicago:20231015T090000
DTEND;TZID=America/Chicago:20231015T110000
DTSTAMP:20260425T205944
CREATED:20230901T012625Z
LAST-MODIFIED:20230901T012625Z
UID:10000159-1697360400-1697367600@esperanto-chicago.org
SUMMARY:Kafeja Kunveno / Coffee Time (Online)
DESCRIPTION:Ni trinkos kafon kaj parolos Esperanton! Ne zorgu pri via lingva nivelo\, ni parolas ankaŭ la anglan! – We will drink coffee and speak Esperanto! Don’t worry if you don’t speak Esperanto yet\, we also speak English. \nContact us at: esperanto-chicago@googlegroups.com  \nWe will meet online!  Use the link below:\nhttp://esperanto-chicago.org/retkunveno \nTo join The Chicago Esperanto Society click here: http://esperanto-chicago.org/members/
URL:http://esperanto-chicago.org/event/kafeja-kunveno-coffee-time-online-61/
CATEGORIES:Kafeja Kunveno
ATTACH;FMTTYPE=image/jpeg:http://esperanto-chicago.org/wordpress/wp-content/uploads/2022/03/2022-03-16-14_51_42-Titoloj-Google-Slides.jpg
ORGANIZER;CN="Randy Ream":MAILTO:rsream@gmail.com
END:VEVENT
BEGIN:VEVENT
DTSTART;TZID=America/Chicago:20231012T193000
DTEND;TZID=America/Chicago:20231012T203000
DTSTAMP:20260425T205944
CREATED:20230901T012625Z
LAST-MODIFIED:20230901T012625Z
UID:10000158-1697139000-1697142600@esperanto-chicago.org
SUMMARY:Klubo de Mortaj Krokodiloj (Online)
DESCRIPTION:Ni kunvenos rete.   We will meet online.\nContact us at: esperanto-chicago@googlegroups.com  \nUse this link to join the online meeting: \nesperanto-chicago.org/retkunveno
URL:http://esperanto-chicago.org/event/klubo-de-mortaj-krokodiloj-online-64/
CATEGORIES:Klubo de Mortaj Krokodiloj
ATTACH;FMTTYPE=image/jpeg:http://esperanto-chicago.org/wordpress/wp-content/uploads/2022/03/2022-03-16-14_12_41-Untitled-presentation-Google-Slides.jpg
ORGANIZER;CN="Eric Killian":MAILTO:ericesperanto@gmail.com
END:VEVENT
BEGIN:VEVENT
DTSTART;TZID=America/Chicago:20231008T090000
DTEND;TZID=America/Chicago:20231008T110000
DTSTAMP:20260425T205944
CREATED:20230901T012610Z
LAST-MODIFIED:20230901T012610Z
UID:10000157-1696755600-1696762800@esperanto-chicago.org
SUMMARY:Kafeja Kunveno / Coffee Time (Online)
DESCRIPTION:Ni trinkos kafon kaj parolos Esperanton! Ne zorgu pri via lingva nivelo\, ni parolas ankaŭ la anglan! – We will drink coffee and speak Esperanto! Don’t worry if you don’t speak Esperanto yet\, we also speak English. \nContact us at: esperanto-chicago@googlegroups.com  \nWe will meet online!  Use the link below:\nhttp://esperanto-chicago.org/retkunveno \nTo join The Chicago Esperanto Society click here: http://esperanto-chicago.org/members/
URL:http://esperanto-chicago.org/event/kafeja-kunveno-coffee-time-online-60/
CATEGORIES:Kafeja Kunveno
ATTACH;FMTTYPE=image/jpeg:http://esperanto-chicago.org/wordpress/wp-content/uploads/2022/03/2022-03-16-14_51_42-Titoloj-Google-Slides.jpg
ORGANIZER;CN="Randy Ream":MAILTO:rsream@gmail.com
END:VEVENT
BEGIN:VEVENT
DTSTART;TZID=America/Chicago:20231005T193000
DTEND;TZID=America/Chicago:20231005T203000
DTSTAMP:20260425T205944
CREATED:20230901T012610Z
LAST-MODIFIED:20230901T012610Z
UID:10000156-1696534200-1696537800@esperanto-chicago.org
SUMMARY:Klubo de Mortaj Krokodiloj (Online)
DESCRIPTION:Ni kunvenos rete.   We will meet online.\nContact us at: esperanto-chicago@googlegroups.com  \nUse this link to join the online meeting: \nesperanto-chicago.org/retkunveno
URL:http://esperanto-chicago.org/event/klubo-de-mortaj-krokodiloj-online-63/
CATEGORIES:Klubo de Mortaj Krokodiloj
ATTACH;FMTTYPE=image/jpeg:http://esperanto-chicago.org/wordpress/wp-content/uploads/2022/03/2022-03-16-14_12_41-Untitled-presentation-Google-Slides.jpg
ORGANIZER;CN="Eric Killian":MAILTO:ericesperanto@gmail.com
END:VEVENT
BEGIN:VEVENT
DTSTART;TZID=America/Chicago:20231001T090000
DTEND;TZID=America/Chicago:20231001T110000
DTSTAMP:20260425T205944
CREATED:20230901T012609Z
LAST-MODIFIED:20230901T012609Z
UID:10000155-1696150800-1696158000@esperanto-chicago.org
SUMMARY:Kafeja Kunveno / Coffee Time (Online)
DESCRIPTION:Ni trinkos kafon kaj parolos Esperanton! Ne zorgu pri via lingva nivelo\, ni parolas ankaŭ la anglan! – We will drink coffee and speak Esperanto! Don’t worry if you don’t speak Esperanto yet\, we also speak English. \nContact us at: esperanto-chicago@googlegroups.com  \nWe will meet online!  Use the link below:\nhttp://esperanto-chicago.org/retkunveno \nTo join The Chicago Esperanto Society click here: http://esperanto-chicago.org/members/
URL:http://esperanto-chicago.org/event/kafeja-kunveno-coffee-time-online-59/
CATEGORIES:Kafeja Kunveno
ATTACH;FMTTYPE=image/jpeg:http://esperanto-chicago.org/wordpress/wp-content/uploads/2022/03/2022-03-16-14_51_42-Titoloj-Google-Slides.jpg
ORGANIZER;CN="Randy Ream":MAILTO:rsream@gmail.com
END:VEVENT
BEGIN:VEVENT
DTSTART;TZID=America/Chicago:20230928T193000
DTEND;TZID=America/Chicago:20230928T203000
DTSTAMP:20260425T205944
CREATED:20230901T012609Z
LAST-MODIFIED:20230901T012609Z
UID:10000154-1695929400-1695933000@esperanto-chicago.org
SUMMARY:Klubo de Mortaj Krokodiloj (Online)
DESCRIPTION:Ni kunvenos rete.   We will meet online.\nContact us at: esperanto-chicago@googlegroups.com  \nUse this link to join the online meeting: \nesperanto-chicago.org/retkunveno
URL:http://esperanto-chicago.org/event/klubo-de-mortaj-krokodiloj-online-62/
CATEGORIES:Klubo de Mortaj Krokodiloj
ATTACH;FMTTYPE=image/jpeg:http://esperanto-chicago.org/wordpress/wp-content/uploads/2022/03/2022-03-16-14_12_41-Untitled-presentation-Google-Slides.jpg
ORGANIZER;CN="Eric Killian":MAILTO:ericesperanto@gmail.com
END:VEVENT
BEGIN:VEVENT
DTSTART;TZID=America/Chicago:20230924T090000
DTEND;TZID=America/Chicago:20230924T110000
DTSTAMP:20260425T205944
CREATED:20230901T012609Z
LAST-MODIFIED:20230901T012609Z
UID:10000153-1695546000-1695553200@esperanto-chicago.org
SUMMARY:Kafeja Kunveno / Coffee Time (Online)
DESCRIPTION:Ni trinkos kafon kaj parolos Esperanton! Ne zorgu pri via lingva nivelo\, ni parolas ankaŭ la anglan! – We will drink coffee and speak Esperanto! Don’t worry if you don’t speak Esperanto yet\, we also speak English. \nContact us at: esperanto-chicago@googlegroups.com  \nWe will meet online!  Use the link below:\nhttp://esperanto-chicago.org/retkunveno \nTo join The Chicago Esperanto Society click here: http://esperanto-chicago.org/members/
URL:http://esperanto-chicago.org/event/kafeja-kunveno-coffee-time-online-58/
CATEGORIES:Kafeja Kunveno
ATTACH;FMTTYPE=image/jpeg:http://esperanto-chicago.org/wordpress/wp-content/uploads/2022/03/2022-03-16-14_51_42-Titoloj-Google-Slides.jpg
ORGANIZER;CN="Randy Ream":MAILTO:rsream@gmail.com
END:VEVENT
BEGIN:VEVENT
DTSTART;TZID=America/Chicago:20230921T193000
DTEND;TZID=America/Chicago:20230921T203000
DTSTAMP:20260425T205944
CREATED:20230901T012608Z
LAST-MODIFIED:20230901T012608Z
UID:10000152-1695324600-1695328200@esperanto-chicago.org
SUMMARY:Klubo de Mortaj Krokodiloj (Online)
DESCRIPTION:Ni kunvenos rete.   We will meet online.\nContact us at: esperanto-chicago@googlegroups.com  \nUse this link to join the online meeting: \nesperanto-chicago.org/retkunveno
URL:http://esperanto-chicago.org/event/klubo-de-mortaj-krokodiloj-online-61/
CATEGORIES:Klubo de Mortaj Krokodiloj
ATTACH;FMTTYPE=image/jpeg:http://esperanto-chicago.org/wordpress/wp-content/uploads/2022/03/2022-03-16-14_12_41-Untitled-presentation-Google-Slides.jpg
ORGANIZER;CN="Eric Killian":MAILTO:ericesperanto@gmail.com
END:VEVENT
BEGIN:VEVENT
DTSTART;TZID=America/Chicago:20230917T090000
DTEND;TZID=America/Chicago:20230917T110000
DTSTAMP:20260425T205944
CREATED:20230901T012607Z
LAST-MODIFIED:20230901T012607Z
UID:10000151-1694941200-1694948400@esperanto-chicago.org
SUMMARY:Kafeja Kunveno / Coffee Time (Online)
DESCRIPTION:Ni trinkos kafon kaj parolos Esperanton! Ne zorgu pri via lingva nivelo\, ni parolas ankaŭ la anglan! – We will drink coffee and speak Esperanto! Don’t worry if you don’t speak Esperanto yet\, we also speak English. \nContact us at: esperanto-chicago@googlegroups.com  \nWe will meet online!  Use the link below:\nhttp://esperanto-chicago.org/retkunveno \nTo join The Chicago Esperanto Society click here: http://esperanto-chicago.org/members/
URL:http://esperanto-chicago.org/event/kafeja-kunveno-coffee-time-online-57/
CATEGORIES:Kafeja Kunveno
ATTACH;FMTTYPE=image/jpeg:http://esperanto-chicago.org/wordpress/wp-content/uploads/2022/03/2022-03-16-14_51_42-Titoloj-Google-Slides.jpg
ORGANIZER;CN="Randy Ream":MAILTO:rsream@gmail.com
END:VEVENT
BEGIN:VEVENT
DTSTART;TZID=America/Chicago:20230914T193000
DTEND;TZID=America/Chicago:20230914T203000
DTSTAMP:20260425T205944
CREATED:20230901T012607Z
LAST-MODIFIED:20230901T012607Z
UID:10000050-1694719800-1694723400@esperanto-chicago.org
SUMMARY:Klubo de Mortaj Krokodiloj (Online)
DESCRIPTION:Ni kunvenos rete.   We will meet online.\nContact us at: esperanto-chicago@googlegroups.com  \nUse this link to join the online meeting: \nesperanto-chicago.org/retkunveno
URL:http://esperanto-chicago.org/event/klubo-de-mortaj-krokodiloj-online-60/
CATEGORIES:Klubo de Mortaj Krokodiloj
ATTACH;FMTTYPE=image/jpeg:http://esperanto-chicago.org/wordpress/wp-content/uploads/2022/03/2022-03-16-14_12_41-Untitled-presentation-Google-Slides.jpg
ORGANIZER;CN="Eric Killian":MAILTO:ericesperanto@gmail.com
END:VEVENT
BEGIN:VEVENT
DTSTART;TZID=America/Chicago:20230910T090000
DTEND;TZID=America/Chicago:20230910T110000
DTSTAMP:20260425T205944
CREATED:20230901T012606Z
LAST-MODIFIED:20230901T012606Z
UID:10000049-1694336400-1694343600@esperanto-chicago.org
SUMMARY:Kafeja Kunveno / Coffee Time (Online)
DESCRIPTION:Ni trinkos kafon kaj parolos Esperanton! Ne zorgu pri via lingva nivelo\, ni parolas ankaŭ la anglan! – We will drink coffee and speak Esperanto! Don’t worry if you don’t speak Esperanto yet\, we also speak English. \nContact us at: esperanto-chicago@googlegroups.com  \nWe will meet online!  Use the link below:\nhttp://esperanto-chicago.org/retkunveno \nTo join The Chicago Esperanto Society click here: http://esperanto-chicago.org/members/
URL:http://esperanto-chicago.org/event/kafeja-kunveno-coffee-time-online-56/
CATEGORIES:Kafeja Kunveno
ATTACH;FMTTYPE=image/jpeg:http://esperanto-chicago.org/wordpress/wp-content/uploads/2022/03/2022-03-16-14_51_42-Titoloj-Google-Slides.jpg
ORGANIZER;CN="Randy Ream":MAILTO:rsream@gmail.com
END:VEVENT
BEGIN:VEVENT
DTSTART;TZID=America/Chicago:20230907T193000
DTEND;TZID=America/Chicago:20230907T203000
DTSTAMP:20260425T205944
CREATED:20230702T153248Z
LAST-MODIFIED:20230702T153248Z
UID:10000044-1694115000-1694118600@esperanto-chicago.org
SUMMARY:Klubo de Mortaj Krokodiloj (Online)
DESCRIPTION:Ni kunvenos rete.   We will meet online.\nContact us at: esperanto-chicago@googlegroups.com  \nUse this link to join the online meeting: \nesperanto-chicago.org/retkunveno
URL:http://esperanto-chicago.org/event/klubo-de-mortaj-krokodiloj-online-59/
CATEGORIES:Klubo de Mortaj Krokodiloj
ATTACH;FMTTYPE=image/jpeg:http://esperanto-chicago.org/wordpress/wp-content/uploads/2022/03/2022-03-16-14_12_41-Untitled-presentation-Google-Slides.jpg
ORGANIZER;CN="Eric Killian":MAILTO:ericesperanto@gmail.com
END:VEVENT
BEGIN:VEVENT
DTSTART;TZID=America/Chicago:20230903T090000
DTEND;TZID=America/Chicago:20230903T110000
DTSTAMP:20260425T205944
CREATED:20230702T153247Z
LAST-MODIFIED:20230702T153247Z
UID:10000043-1693731600-1693738800@esperanto-chicago.org
SUMMARY:Kafeja Kunveno / Coffee Time (Online)
DESCRIPTION:Ni trinkos kafon kaj parolos Esperanton! Ne zorgu pri via lingva nivelo\, ni parolas ankaŭ la anglan! – We will drink coffee and speak Esperanto! Don’t worry if you don’t speak Esperanto yet\, we also speak English. \nContact us at: esperanto-chicago@googlegroups.com  \nWe will meet online!  Use the link below:\nhttp://esperanto-chicago.org/retkunveno \nTo join The Chicago Esperanto Society click here: http://esperanto-chicago.org/members/
URL:http://esperanto-chicago.org/event/kafeja-kunveno-coffee-time-online-55/
CATEGORIES:Kafeja Kunveno
ATTACH;FMTTYPE=image/jpeg:http://esperanto-chicago.org/wordpress/wp-content/uploads/2022/03/2022-03-16-14_51_42-Titoloj-Google-Slides.jpg
ORGANIZER;CN="Randy Ream":MAILTO:rsream@gmail.com
END:VEVENT
BEGIN:VEVENT
DTSTART;TZID=America/Chicago:20230831T193000
DTEND;TZID=America/Chicago:20230831T203000
DTSTAMP:20260425T205944
CREATED:20230702T153246Z
LAST-MODIFIED:20230702T153246Z
UID:10000042-1693510200-1693513800@esperanto-chicago.org
SUMMARY:Klubo de Mortaj Krokodiloj (Online)
DESCRIPTION:Ni kunvenos rete.   We will meet online.\nContact us at: esperanto-chicago@googlegroups.com  \nUse this link to join the online meeting: \nesperanto-chicago.org/retkunveno
URL:http://esperanto-chicago.org/event/klubo-de-mortaj-krokodiloj-online-58/
CATEGORIES:Klubo de Mortaj Krokodiloj
ATTACH;FMTTYPE=image/jpeg:http://esperanto-chicago.org/wordpress/wp-content/uploads/2022/03/2022-03-16-14_12_41-Untitled-presentation-Google-Slides.jpg
ORGANIZER;CN="Eric Killian":MAILTO:ericesperanto@gmail.com
END:VEVENT
BEGIN:VEVENT
DTSTART;TZID=America/Chicago:20230827T090000
DTEND;TZID=America/Chicago:20230827T110000
DTSTAMP:20260425T205944
CREATED:20230702T153246Z
LAST-MODIFIED:20230702T153246Z
UID:10000041-1693126800-1693134000@esperanto-chicago.org
SUMMARY:Kafeja Kunveno / Coffee Time (Online)
DESCRIPTION:Ni trinkos kafon kaj parolos Esperanton! Ne zorgu pri via lingva nivelo\, ni parolas ankaŭ la anglan! – We will drink coffee and speak Esperanto! Don’t worry if you don’t speak Esperanto yet\, we also speak English. \nContact us at: esperanto-chicago@googlegroups.com  \nWe will meet online!  Use the link below:\nhttp://esperanto-chicago.org/retkunveno \nTo join The Chicago Esperanto Society click here: http://esperanto-chicago.org/members/
URL:http://esperanto-chicago.org/event/kafeja-kunveno-coffee-time-online-54/
CATEGORIES:Kafeja Kunveno
ATTACH;FMTTYPE=image/jpeg:http://esperanto-chicago.org/wordpress/wp-content/uploads/2022/03/2022-03-16-14_51_42-Titoloj-Google-Slides.jpg
ORGANIZER;CN="Randy Ream":MAILTO:rsream@gmail.com
END:VEVENT
BEGIN:VEVENT
DTSTART;TZID=America/Chicago:20230824T193000
DTEND;TZID=America/Chicago:20230824T203000
DTSTAMP:20260425T205944
CREATED:20230702T153241Z
LAST-MODIFIED:20230702T153241Z
UID:10000150-1692905400-1692909000@esperanto-chicago.org
SUMMARY:Klubo de Mortaj Krokodiloj (Online)
DESCRIPTION:Ni kunvenos rete.   We will meet online.\nContact us at: esperanto-chicago@googlegroups.com  \nUse this link to join the online meeting: \nesperanto-chicago.org/retkunveno
URL:http://esperanto-chicago.org/event/klubo-de-mortaj-krokodiloj-online-57/
CATEGORIES:Klubo de Mortaj Krokodiloj
ATTACH;FMTTYPE=image/jpeg:http://esperanto-chicago.org/wordpress/wp-content/uploads/2022/03/2022-03-16-14_12_41-Untitled-presentation-Google-Slides.jpg
ORGANIZER;CN="Eric Killian":MAILTO:ericesperanto@gmail.com
END:VEVENT
BEGIN:VEVENT
DTSTART;TZID=America/Chicago:20230820T090000
DTEND;TZID=America/Chicago:20230820T110000
DTSTAMP:20260425T205944
CREATED:20230702T153240Z
LAST-MODIFIED:20230702T153240Z
UID:10000149-1692522000-1692529200@esperanto-chicago.org
SUMMARY:Kafeja Kunveno / Coffee Time (Online)
DESCRIPTION:Ni trinkos kafon kaj parolos Esperanton! Ne zorgu pri via lingva nivelo\, ni parolas ankaŭ la anglan! – We will drink coffee and speak Esperanto! Don’t worry if you don’t speak Esperanto yet\, we also speak English. \nContact us at: esperanto-chicago@googlegroups.com  \nWe will meet online!  Use the link below:\nhttp://esperanto-chicago.org/retkunveno \nTo join The Chicago Esperanto Society click here: http://esperanto-chicago.org/members/
URL:http://esperanto-chicago.org/event/kafeja-kunveno-coffee-time-online-53/
CATEGORIES:Kafeja Kunveno
ATTACH;FMTTYPE=image/jpeg:http://esperanto-chicago.org/wordpress/wp-content/uploads/2022/03/2022-03-16-14_51_42-Titoloj-Google-Slides.jpg
ORGANIZER;CN="Randy Ream":MAILTO:rsream@gmail.com
END:VEVENT
BEGIN:VEVENT
DTSTART;TZID=America/Chicago:20230817T193000
DTEND;TZID=America/Chicago:20230817T203000
DTSTAMP:20260425T205944
CREATED:20230702T153240Z
LAST-MODIFIED:20230702T153240Z
UID:10000148-1692300600-1692304200@esperanto-chicago.org
SUMMARY:Klubo de Mortaj Krokodiloj (Online)
DESCRIPTION:Ni kunvenos rete.   We will meet online.\nContact us at: esperanto-chicago@googlegroups.com  \nUse this link to join the online meeting: \nesperanto-chicago.org/retkunveno
URL:http://esperanto-chicago.org/event/klubo-de-mortaj-krokodiloj-online-56/
CATEGORIES:Klubo de Mortaj Krokodiloj
ATTACH;FMTTYPE=image/jpeg:http://esperanto-chicago.org/wordpress/wp-content/uploads/2022/03/2022-03-16-14_12_41-Untitled-presentation-Google-Slides.jpg
ORGANIZER;CN="Eric Killian":MAILTO:ericesperanto@gmail.com
END:VEVENT
BEGIN:VEVENT
DTSTART;TZID=America/Chicago:20230813T090000
DTEND;TZID=America/Chicago:20230813T110000
DTSTAMP:20260425T205944
CREATED:20230702T153239Z
LAST-MODIFIED:20230702T153239Z
UID:10000147-1691917200-1691924400@esperanto-chicago.org
SUMMARY:Kafeja Kunveno / Coffee Time (Online)
DESCRIPTION:Ni trinkos kafon kaj parolos Esperanton! Ne zorgu pri via lingva nivelo\, ni parolas ankaŭ la anglan! – We will drink coffee and speak Esperanto! Don’t worry if you don’t speak Esperanto yet\, we also speak English. \nContact us at: esperanto-chicago@googlegroups.com  \nWe will meet online!  Use the link below:\nhttp://esperanto-chicago.org/retkunveno \nTo join The Chicago Esperanto Society click here: http://esperanto-chicago.org/members/
URL:http://esperanto-chicago.org/event/kafeja-kunveno-coffee-time-online-52/
CATEGORIES:Kafeja Kunveno
ATTACH;FMTTYPE=image/jpeg:http://esperanto-chicago.org/wordpress/wp-content/uploads/2022/03/2022-03-16-14_51_42-Titoloj-Google-Slides.jpg
ORGANIZER;CN="Randy Ream":MAILTO:rsream@gmail.com
END:VEVENT
END:VCALENDAR