BEGIN:VCALENDAR
VERSION:2.0
PRODID:-//La Esperanto-Societo de Ĉikago - ECPv6.15.20//NONSGML v1.0//EN
CALSCALE:GREGORIAN
METHOD:PUBLISH
X-WR-CALNAME:La Esperanto-Societo de Ĉikago
X-ORIGINAL-URL:http://esperanto-chicago.org
X-WR-CALDESC:Events for La Esperanto-Societo de Ĉikago
REFRESH-INTERVAL;VALUE=DURATION:PT1H
X-Robots-Tag:noindex
X-PUBLISHED-TTL:PT1H
BEGIN:VTIMEZONE
TZID:America/Chicago
BEGIN:DAYLIGHT
TZOFFSETFROM:-0600
TZOFFSETTO:-0500
TZNAME:CDT
DTSTART:20230312T080000
END:DAYLIGHT
BEGIN:STANDARD
TZOFFSETFROM:-0500
TZOFFSETTO:-0600
TZNAME:CST
DTSTART:20231105T070000
END:STANDARD
BEGIN:DAYLIGHT
TZOFFSETFROM:-0600
TZOFFSETTO:-0500
TZNAME:CDT
DTSTART:20240310T080000
END:DAYLIGHT
BEGIN:STANDARD
TZOFFSETFROM:-0500
TZOFFSETTO:-0600
TZNAME:CST
DTSTART:20241103T070000
END:STANDARD
BEGIN:DAYLIGHT
TZOFFSETFROM:-0600
TZOFFSETTO:-0500
TZNAME:CDT
DTSTART:20250309T080000
END:DAYLIGHT
BEGIN:STANDARD
TZOFFSETFROM:-0500
TZOFFSETTO:-0600
TZNAME:CST
DTSTART:20251102T070000
END:STANDARD
END:VTIMEZONE
BEGIN:VEVENT
DTSTART;TZID=America/Chicago:20240725T193000
DTEND;TZID=America/Chicago:20240725T203000
DTSTAMP:20260425T112720
CREATED:20240526T143003Z
LAST-MODIFIED:20240726T010309Z
UID:10000261-1721935800-1721939400@esperanto-chicago.org
SUMMARY:Klubo de Mortaj Krokodiloj (Online)
DESCRIPTION:Klubo de Mortaj Krokodiloj (Online Meeting) \nEsperanto: \nAliĝu al nia reta kunveno de la Klubo de Mortaj Krokodiloj! Ĉiusemajne\, esperantistoj el diversaj mondopartoj kunvenas por gaja kaj neformala konversacio en Esperanto. Estas bonega ŝanco uzi la lingvon kaj konektiĝi kun nia internacia komunumo. \nEnglish: \nJoin our online meeting of the Dead Crocodile Club! Each week\, Esperanto speakers from around the world gather for a fun and informal discussion in Esperanto. It’s a great opportunity to practice the language and connect with our international community. \nContact us at: esperanto-chicago@googlegroups.com \nJoin the online meeting using this link:\nesperanto-chicago.org/retkunveno \n  \nAbout Esperanto: Esperanto is a constructed international language designed for easy learning and global communication. It offers a unique window into diverse cultures and fosters friendships worldwide. \nAbout Esperanto Society of Chicago: Since 1954\, the Esperanto Society of Chicago is a welcoming community dedicated to promoting Esperanto language and culture in the Chicagoland area. We organize events\, language meetups\, and cultural exchanges to support both beginners and fluent speakers. \nJoin the Chicago Esperanto Society: https://esperanto-chicago.org/members/ \nJoin our mailing list: https://docs.google.com/forms/d/e/1FAIpQLSdMSKYjEfxfL_rQEM3bEc1UnZY0jJbLDOE_gvwUgwwm63QUjw/viewform?usp=sf_link \n 
URL:http://esperanto-chicago.org/event/klubo-de-mortaj-krokodiloj-online-104/
CATEGORIES:Klubo de Mortaj Krokodiloj
ATTACH;FMTTYPE=image/jpeg:http://esperanto-chicago.org/wordpress/wp-content/uploads/2024/05/2024-07-25-11_11_52-Window.jpg
ORGANIZER;CN="Eric Killian":MAILTO:ericesperanto@gmail.com
END:VEVENT
BEGIN:VEVENT
DTSTART;TZID=America/Chicago:20240723T190000
DTEND;TZID=America/Chicago:20240723T200000
DTSTAMP:20260425T112720
CREATED:20240722T131542Z
LAST-MODIFIED:20240723T120230Z
UID:10000268-1721761200-1721764800@esperanto-chicago.org
SUMMARY:Monata Kunveno (Online)
DESCRIPTION:Our monthly meeting! \nContact us at: esperanto-chicago@googlegroups.com \nhttp://esperanto-chicago.org/retkunveno
URL:http://esperanto-chicago.org/event/monata-kunveno-online-13/
CATEGORIES:Monata Kunveno
END:VEVENT
BEGIN:VEVENT
DTSTART;TZID=America/Chicago:20240722T170000
DTEND;TZID=America/Chicago:20240722T183000
DTSTAMP:20260425T112720
CREATED:20240721T112635Z
LAST-MODIFIED:20240721T112637Z
UID:10000266-1721667600-1721673000@esperanto-chicago.org
SUMMARY:Manĝu\, Manĝu!
DESCRIPTION:Manĝu\, kaj babilu kun ni!\nVidu la menuon:  https://buona.com/menu/ \n==== \nYou don’t have to speak Esperanto to attend this event (We also speak English) \n  \nSee the menu: https://buona.com/menu/ \n  \n 
URL:http://esperanto-chicago.org/event/mangu-mangu-8/
LOCATION:Buona\, Oak Park\, 7025 W North Ave\, Chicago\, IL\, 60302\, United States
CATEGORIES:Manĝu, manĝu!
ATTACH;FMTTYPE=image/jpeg:http://esperanto-chicago.org/wordpress/wp-content/uploads/2022/03/2022-03-16-13_48_15-Untitled-presentation-Google-Slides.jpg
ORGANIZER;CN="Randy Ream":MAILTO:rsream@gmail.com
END:VEVENT
BEGIN:VEVENT
DTSTART;TZID=America/Chicago:20240721T090000
DTEND;TZID=America/Chicago:20240721T110000
DTSTAMP:20260425T112720
CREATED:20240526T143002Z
LAST-MODIFIED:20240526T143002Z
UID:10000260-1721552400-1721559600@esperanto-chicago.org
SUMMARY:Kafeja Kunveno / Coffee Time (Online)
DESCRIPTION:Ni trinkos kafon kaj parolos Esperanton! Ne zorgu pri via lingva nivelo\, ni parolas ankaŭ la anglan! – We will drink coffee and speak Esperanto! Don’t worry if you don’t speak Esperanto yet\, we also speak English. \nContact us at: esperanto-chicago@googlegroups.com  \nWe will meet online!  Use the link below:\nhttp://esperanto-chicago.org/retkunveno \nTo join The Chicago Esperanto Society click here: http://esperanto-chicago.org/members/
URL:http://esperanto-chicago.org/event/kafeja-kunveno-coffee-time-online-99/
CATEGORIES:Kafeja Kunveno
ATTACH;FMTTYPE=image/jpeg:http://esperanto-chicago.org/wordpress/wp-content/uploads/2022/03/2022-03-16-14_51_42-Titoloj-Google-Slides.jpg
ORGANIZER;CN="Randy Ream":MAILTO:rsream@gmail.com
END:VEVENT
BEGIN:VEVENT
DTSTART;TZID=America/Chicago:20240718T193000
DTEND;TZID=America/Chicago:20240718T203000
DTSTAMP:20260425T112720
CREATED:20240526T143001Z
LAST-MODIFIED:20240526T143001Z
UID:10000259-1721331000-1721334600@esperanto-chicago.org
SUMMARY:Klubo de Mortaj Krokodiloj (Online)
DESCRIPTION:Ni kunvenos rete.   We will meet online.  \nContact us at: esperanto-chicago@googlegroups.com  \nUse this link to join the online meeting: \nesperanto-chicago.org/retkunveno
URL:http://esperanto-chicago.org/event/klubo-de-mortaj-krokodiloj-online-103/
CATEGORIES:Klubo de Mortaj Krokodiloj
ATTACH;FMTTYPE=image/jpeg:http://esperanto-chicago.org/wordpress/wp-content/uploads/2022/03/2022-03-16-14_12_41-Untitled-presentation-Google-Slides.jpg
ORGANIZER;CN="Eric Killian":MAILTO:ericesperanto@gmail.com
END:VEVENT
BEGIN:VEVENT
DTSTART;TZID=America/Chicago:20240715T170000
DTEND;TZID=America/Chicago:20240715T183000
DTSTAMP:20260425T112720
CREATED:20240714T141726Z
LAST-MODIFIED:20240714T143236Z
UID:10000265-1721062800-1721068200@esperanto-chicago.org
SUMMARY:Manĝu\, Manĝu!
DESCRIPTION:Manĝu\, kaj babilu kun ni!\nVidu la menuon:  https://buona.com/menu/ \n==== \nYou don’t have to speak Esperanto to attend this event (We also speak English) \n  \nSee the menu: https://buona.com/menu/ \n  \n 
URL:http://esperanto-chicago.org/event/mangu-mangu-7/
LOCATION:Buona\, Oak Park\, 7025 W North Ave\, Chicago\, IL\, 60302\, United States
CATEGORIES:Manĝu, manĝu!
ATTACH;FMTTYPE=image/jpeg:http://esperanto-chicago.org/wordpress/wp-content/uploads/2022/03/2022-03-16-13_48_15-Untitled-presentation-Google-Slides.jpg
ORGANIZER;CN="Randy Ream":MAILTO:rsream@gmail.com
END:VEVENT
BEGIN:VEVENT
DTSTART;TZID=America/Chicago:20240714T090000
DTEND;TZID=America/Chicago:20240714T110000
DTSTAMP:20260425T112720
CREATED:20240526T142913Z
LAST-MODIFIED:20240526T142913Z
UID:10000258-1720947600-1720954800@esperanto-chicago.org
SUMMARY:Kafeja Kunveno / Coffee Time (Online)
DESCRIPTION:Ni trinkos kafon kaj parolos Esperanton! Ne zorgu pri via lingva nivelo\, ni parolas ankaŭ la anglan! – We will drink coffee and speak Esperanto! Don’t worry if you don’t speak Esperanto yet\, we also speak English. \nContact us at: esperanto-chicago@googlegroups.com  \nWe will meet online!  Use the link below:\nhttp://esperanto-chicago.org/retkunveno \nTo join The Chicago Esperanto Society click here: http://esperanto-chicago.org/members/
URL:http://esperanto-chicago.org/event/kafeja-kunveno-coffee-time-online-98/
CATEGORIES:Kafeja Kunveno
ATTACH;FMTTYPE=image/jpeg:http://esperanto-chicago.org/wordpress/wp-content/uploads/2022/03/2022-03-16-14_51_42-Titoloj-Google-Slides.jpg
ORGANIZER;CN="Randy Ream":MAILTO:rsream@gmail.com
END:VEVENT
BEGIN:VEVENT
DTSTART;TZID=America/Chicago:20240711T193000
DTEND;TZID=America/Chicago:20240711T203000
DTSTAMP:20260425T112720
CREATED:20240526T142913Z
LAST-MODIFIED:20240526T142913Z
UID:10000257-1720726200-1720729800@esperanto-chicago.org
SUMMARY:Klubo de Mortaj Krokodiloj (Online)
DESCRIPTION:Ni kunvenos rete.   We will meet online.  \nContact us at: esperanto-chicago@googlegroups.com  \nUse this link to join the online meeting: \nesperanto-chicago.org/retkunveno
URL:http://esperanto-chicago.org/event/klubo-de-mortaj-krokodiloj-online-102/
CATEGORIES:Klubo de Mortaj Krokodiloj
ATTACH;FMTTYPE=image/jpeg:http://esperanto-chicago.org/wordpress/wp-content/uploads/2022/03/2022-03-16-14_12_41-Untitled-presentation-Google-Slides.jpg
ORGANIZER;CN="Eric Killian":MAILTO:ericesperanto@gmail.com
END:VEVENT
BEGIN:VEVENT
DTSTART;TZID=America/Chicago:20240707T090000
DTEND;TZID=America/Chicago:20240707T110000
DTSTAMP:20260425T112720
CREATED:20240526T142912Z
LAST-MODIFIED:20240526T142912Z
UID:10000256-1720342800-1720350000@esperanto-chicago.org
SUMMARY:Kafeja Kunveno / Coffee Time (Online)
DESCRIPTION:Ni trinkos kafon kaj parolos Esperanton! Ne zorgu pri via lingva nivelo\, ni parolas ankaŭ la anglan! – We will drink coffee and speak Esperanto! Don’t worry if you don’t speak Esperanto yet\, we also speak English. \nContact us at: esperanto-chicago@googlegroups.com  \nWe will meet online!  Use the link below:\nhttp://esperanto-chicago.org/retkunveno \nTo join The Chicago Esperanto Society click here: http://esperanto-chicago.org/members/
URL:http://esperanto-chicago.org/event/kafeja-kunveno-coffee-time-online-97/
CATEGORIES:Kafeja Kunveno
ATTACH;FMTTYPE=image/jpeg:http://esperanto-chicago.org/wordpress/wp-content/uploads/2022/03/2022-03-16-14_51_42-Titoloj-Google-Slides.jpg
ORGANIZER;CN="Randy Ream":MAILTO:rsream@gmail.com
END:VEVENT
BEGIN:VEVENT
DTSTART;TZID=America/Chicago:20240704T193000
DTEND;TZID=America/Chicago:20240704T203000
DTSTAMP:20260425T112720
CREATED:20240526T142912Z
LAST-MODIFIED:20240526T142912Z
UID:10000255-1720121400-1720125000@esperanto-chicago.org
SUMMARY:Klubo de Mortaj Krokodiloj (Online)
DESCRIPTION:Ni kunvenos rete.   We will meet online.  \nContact us at: esperanto-chicago@googlegroups.com  \nUse this link to join the online meeting: \nesperanto-chicago.org/retkunveno
URL:http://esperanto-chicago.org/event/klubo-de-mortaj-krokodiloj-online-101/
CATEGORIES:Klubo de Mortaj Krokodiloj
ATTACH;FMTTYPE=image/jpeg:http://esperanto-chicago.org/wordpress/wp-content/uploads/2022/03/2022-03-16-14_12_41-Untitled-presentation-Google-Slides.jpg
ORGANIZER;CN="Eric Killian":MAILTO:ericesperanto@gmail.com
END:VEVENT
BEGIN:VEVENT
DTSTART;TZID=America/Chicago:20240701T170000
DTEND;TZID=America/Chicago:20240701T183000
DTSTAMP:20260425T112720
CREATED:20240630T151628Z
LAST-MODIFIED:20240630T151632Z
UID:10000264-1719853200-1719858600@esperanto-chicago.org
SUMMARY:Manĝu\, Manĝu!
DESCRIPTION:Manĝu\, kaj babilu kun ni!\n==== \nYou don’t have to speak Esperanto to attend this event (We also speak English)
URL:http://esperanto-chicago.org/event/mangu-mangu-6/
LOCATION:Buona\, Oak Park\, 7025 W North Ave\, Chicago\, IL\, 60302\, United States
CATEGORIES:Manĝu, manĝu!
ATTACH;FMTTYPE=image/jpeg:http://esperanto-chicago.org/wordpress/wp-content/uploads/2022/03/2022-03-16-13_48_15-Untitled-presentation-Google-Slides.jpg
END:VEVENT
BEGIN:VEVENT
DTSTART;TZID=America/Chicago:20240630T090000
DTEND;TZID=America/Chicago:20240630T110000
DTSTAMP:20260425T112720
CREATED:20240526T142911Z
LAST-MODIFIED:20240526T142911Z
UID:10000254-1719738000-1719745200@esperanto-chicago.org
SUMMARY:Kafeja Kunveno / Coffee Time (Online)
DESCRIPTION:Ni trinkos kafon kaj parolos Esperanton! Ne zorgu pri via lingva nivelo\, ni parolas ankaŭ la anglan! – We will drink coffee and speak Esperanto! Don’t worry if you don’t speak Esperanto yet\, we also speak English. \nContact us at: esperanto-chicago@googlegroups.com  \nWe will meet online!  Use the link below:\nhttp://esperanto-chicago.org/retkunveno \nTo join The Chicago Esperanto Society click here: http://esperanto-chicago.org/members/
URL:http://esperanto-chicago.org/event/kafeja-kunveno-coffee-time-online-96/
CATEGORIES:Kafeja Kunveno
ATTACH;FMTTYPE=image/jpeg:http://esperanto-chicago.org/wordpress/wp-content/uploads/2022/03/2022-03-16-14_51_42-Titoloj-Google-Slides.jpg
ORGANIZER;CN="Randy Ream":MAILTO:rsream@gmail.com
END:VEVENT
BEGIN:VEVENT
DTSTART;TZID=America/Chicago:20240627T193000
DTEND;TZID=America/Chicago:20240627T203000
DTSTAMP:20260425T112720
CREATED:20240526T142857Z
LAST-MODIFIED:20240526T142857Z
UID:10000253-1719516600-1719520200@esperanto-chicago.org
SUMMARY:Klubo de Mortaj Krokodiloj (Online)
DESCRIPTION:Ni kunvenos rete.   We will meet online.  \nContact us at: esperanto-chicago@googlegroups.com  \nUse this link to join the online meeting: \nesperanto-chicago.org/retkunveno
URL:http://esperanto-chicago.org/event/klubo-de-mortaj-krokodiloj-online-100/
CATEGORIES:Klubo de Mortaj Krokodiloj
ATTACH;FMTTYPE=image/jpeg:http://esperanto-chicago.org/wordpress/wp-content/uploads/2022/03/2022-03-16-14_12_41-Untitled-presentation-Google-Slides.jpg
ORGANIZER;CN="Eric Killian":MAILTO:ericesperanto@gmail.com
END:VEVENT
BEGIN:VEVENT
DTSTART;TZID=America/Chicago:20240624T170000
DTEND;TZID=America/Chicago:20240624T183000
DTSTAMP:20260425T112720
CREATED:20240608T012113Z
LAST-MODIFIED:20240623T173313Z
UID:10000263-1719248400-1719253800@esperanto-chicago.org
SUMMARY:Manĝu\, Manĝu!
DESCRIPTION:Manĝu\, kaj babilu kun ni!\n==== \nYou don’t have to speak Esperanto to attend this event (We also speak English) \n 
URL:http://esperanto-chicago.org/event/mangu-mangu-5/
LOCATION:Buona\, Oak Park\, 7025 W North Ave\, Chicago\, IL\, 60302\, United States
ATTACH;FMTTYPE=image/jpeg:http://esperanto-chicago.org/wordpress/wp-content/uploads/2022/03/2022-03-16-13_48_15-Untitled-presentation-Google-Slides.jpg
END:VEVENT
BEGIN:VEVENT
DTSTART;TZID=America/Chicago:20240623T090000
DTEND;TZID=America/Chicago:20240623T110000
DTSTAMP:20260425T112720
CREATED:20240526T142857Z
LAST-MODIFIED:20240526T142857Z
UID:10000252-1719133200-1719140400@esperanto-chicago.org
SUMMARY:Kafeja Kunveno / Coffee Time (Online)
DESCRIPTION:Ni trinkos kafon kaj parolos Esperanton! Ne zorgu pri via lingva nivelo\, ni parolas ankaŭ la anglan! – We will drink coffee and speak Esperanto! Don’t worry if you don’t speak Esperanto yet\, we also speak English. \nContact us at: esperanto-chicago@googlegroups.com  \nWe will meet online!  Use the link below:\nhttp://esperanto-chicago.org/retkunveno \nTo join The Chicago Esperanto Society click here: http://esperanto-chicago.org/members/
URL:http://esperanto-chicago.org/event/kafeja-kunveno-coffee-time-online-95/
CATEGORIES:Kafeja Kunveno
ATTACH;FMTTYPE=image/jpeg:http://esperanto-chicago.org/wordpress/wp-content/uploads/2022/03/2022-03-16-14_51_42-Titoloj-Google-Slides.jpg
ORGANIZER;CN="Randy Ream":MAILTO:rsream@gmail.com
END:VEVENT
BEGIN:VEVENT
DTSTART;TZID=America/Chicago:20240620T193000
DTEND;TZID=America/Chicago:20240620T203000
DTSTAMP:20260425T112720
CREATED:20240526T142856Z
LAST-MODIFIED:20240526T142856Z
UID:10000251-1718911800-1718915400@esperanto-chicago.org
SUMMARY:Klubo de Mortaj Krokodiloj (Online)
DESCRIPTION:Ni kunvenos rete.   We will meet online.  \nContact us at: esperanto-chicago@googlegroups.com  \nUse this link to join the online meeting: \nesperanto-chicago.org/retkunveno
URL:http://esperanto-chicago.org/event/klubo-de-mortaj-krokodiloj-online-99/
CATEGORIES:Klubo de Mortaj Krokodiloj
ATTACH;FMTTYPE=image/jpeg:http://esperanto-chicago.org/wordpress/wp-content/uploads/2022/03/2022-03-16-14_12_41-Untitled-presentation-Google-Slides.jpg
ORGANIZER;CN="Eric Killian":MAILTO:ericesperanto@gmail.com
END:VEVENT
BEGIN:VEVENT
DTSTART;TZID=America/Chicago:20240616T090000
DTEND;TZID=America/Chicago:20240616T110000
DTSTAMP:20260425T112720
CREATED:20240526T142855Z
LAST-MODIFIED:20240526T142855Z
UID:10000250-1718528400-1718535600@esperanto-chicago.org
SUMMARY:Kafeja Kunveno / Coffee Time (Online)
DESCRIPTION:Ni trinkos kafon kaj parolos Esperanton! Ne zorgu pri via lingva nivelo\, ni parolas ankaŭ la anglan! – We will drink coffee and speak Esperanto! Don’t worry if you don’t speak Esperanto yet\, we also speak English. \nContact us at: esperanto-chicago@googlegroups.com  \nWe will meet online!  Use the link below:\nhttp://esperanto-chicago.org/retkunveno \nTo join The Chicago Esperanto Society click here: http://esperanto-chicago.org/members/
URL:http://esperanto-chicago.org/event/kafeja-kunveno-coffee-time-online-94/
CATEGORIES:Kafeja Kunveno
ATTACH;FMTTYPE=image/jpeg:http://esperanto-chicago.org/wordpress/wp-content/uploads/2022/03/2022-03-16-14_51_42-Titoloj-Google-Slides.jpg
ORGANIZER;CN="Randy Ream":MAILTO:rsream@gmail.com
END:VEVENT
BEGIN:VEVENT
DTSTART;TZID=America/Chicago:20240613T193000
DTEND;TZID=America/Chicago:20240613T203000
DTSTAMP:20260425T112720
CREATED:20240526T142855Z
LAST-MODIFIED:20240526T142855Z
UID:10000249-1718307000-1718310600@esperanto-chicago.org
SUMMARY:Klubo de Mortaj Krokodiloj (Online)
DESCRIPTION:Ni kunvenos rete.   We will meet online.  \nContact us at: esperanto-chicago@googlegroups.com  \nUse this link to join the online meeting: \nesperanto-chicago.org/retkunveno
URL:http://esperanto-chicago.org/event/klubo-de-mortaj-krokodiloj-online-98/
CATEGORIES:Klubo de Mortaj Krokodiloj
ATTACH;FMTTYPE=image/jpeg:http://esperanto-chicago.org/wordpress/wp-content/uploads/2022/03/2022-03-16-14_12_41-Untitled-presentation-Google-Slides.jpg
ORGANIZER;CN="Eric Killian":MAILTO:ericesperanto@gmail.com
END:VEVENT
BEGIN:VEVENT
DTSTART;TZID=America/Chicago:20240609T090000
DTEND;TZID=America/Chicago:20240609T110000
DTSTAMP:20260425T112720
CREATED:20240526T142853Z
LAST-MODIFIED:20240526T142853Z
UID:10000248-1717923600-1717930800@esperanto-chicago.org
SUMMARY:Kafeja Kunveno / Coffee Time (Online)
DESCRIPTION:Ni trinkos kafon kaj parolos Esperanton! Ne zorgu pri via lingva nivelo\, ni parolas ankaŭ la anglan! – We will drink coffee and speak Esperanto! Don’t worry if you don’t speak Esperanto yet\, we also speak English. \nContact us at: esperanto-chicago@googlegroups.com  \nWe will meet online!  Use the link below:\nhttp://esperanto-chicago.org/retkunveno \nTo join The Chicago Esperanto Society click here: http://esperanto-chicago.org/members/
URL:http://esperanto-chicago.org/event/kafeja-kunveno-coffee-time-online-93/
CATEGORIES:Kafeja Kunveno
ATTACH;FMTTYPE=image/jpeg:http://esperanto-chicago.org/wordpress/wp-content/uploads/2022/03/2022-03-16-14_51_42-Titoloj-Google-Slides.jpg
ORGANIZER;CN="Randy Ream":MAILTO:rsream@gmail.com
END:VEVENT
BEGIN:VEVENT
DTSTART;TZID=America/Chicago:20240606T193000
DTEND;TZID=America/Chicago:20240606T203000
DTSTAMP:20260425T112720
CREATED:20240526T142852Z
LAST-MODIFIED:20240526T142852Z
UID:10000247-1717702200-1717705800@esperanto-chicago.org
SUMMARY:Klubo de Mortaj Krokodiloj (Online)
DESCRIPTION:Ni kunvenos rete.   We will meet online.  \nContact us at: esperanto-chicago@googlegroups.com  \nUse this link to join the online meeting: \nesperanto-chicago.org/retkunveno
URL:http://esperanto-chicago.org/event/klubo-de-mortaj-krokodiloj-online-97/
CATEGORIES:Klubo de Mortaj Krokodiloj
ATTACH;FMTTYPE=image/jpeg:http://esperanto-chicago.org/wordpress/wp-content/uploads/2022/03/2022-03-16-14_12_41-Untitled-presentation-Google-Slides.jpg
ORGANIZER;CN="Eric Killian":MAILTO:ericesperanto@gmail.com
END:VEVENT
BEGIN:VEVENT
DTSTART;TZID=America/Chicago:20240602T090000
DTEND;TZID=America/Chicago:20240602T110000
DTSTAMP:20260425T112720
CREATED:20240526T142852Z
LAST-MODIFIED:20240526T142852Z
UID:10000246-1717318800-1717326000@esperanto-chicago.org
SUMMARY:Kafeja Kunveno / Coffee Time (Online)
DESCRIPTION:Ni trinkos kafon kaj parolos Esperanton! Ne zorgu pri via lingva nivelo\, ni parolas ankaŭ la anglan! – We will drink coffee and speak Esperanto! Don’t worry if you don’t speak Esperanto yet\, we also speak English. \nContact us at: esperanto-chicago@googlegroups.com  \nWe will meet online!  Use the link below:\nhttp://esperanto-chicago.org/retkunveno \nTo join The Chicago Esperanto Society click here: http://esperanto-chicago.org/members/
URL:http://esperanto-chicago.org/event/kafeja-kunveno-coffee-time-online-92/
CATEGORIES:Kafeja Kunveno
ATTACH;FMTTYPE=image/jpeg:http://esperanto-chicago.org/wordpress/wp-content/uploads/2022/03/2022-03-16-14_51_42-Titoloj-Google-Slides.jpg
ORGANIZER;CN="Randy Ream":MAILTO:rsream@gmail.com
END:VEVENT
BEGIN:VEVENT
DTSTART;TZID=America/Chicago:20240530T193000
DTEND;TZID=America/Chicago:20240530T203000
DTSTAMP:20260425T112720
CREATED:20240526T142851Z
LAST-MODIFIED:20240526T142851Z
UID:10000245-1717097400-1717101000@esperanto-chicago.org
SUMMARY:Klubo de Mortaj Krokodiloj (Online)
DESCRIPTION:Ni kunvenos rete.   We will meet online.  \nContact us at: esperanto-chicago@googlegroups.com  \nUse this link to join the online meeting: \nesperanto-chicago.org/retkunveno
URL:http://esperanto-chicago.org/event/klubo-de-mortaj-krokodiloj-online-96/
CATEGORIES:Klubo de Mortaj Krokodiloj
ATTACH;FMTTYPE=image/jpeg:http://esperanto-chicago.org/wordpress/wp-content/uploads/2022/03/2022-03-16-14_12_41-Untitled-presentation-Google-Slides.jpg
ORGANIZER;CN="Eric Killian":MAILTO:ericesperanto@gmail.com
END:VEVENT
BEGIN:VEVENT
DTSTART;TZID=America/Chicago:20240528T190000
DTEND;TZID=America/Chicago:20240528T210000
DTSTAMP:20260425T112720
CREATED:20240526T142849Z
LAST-MODIFIED:20240526T142849Z
UID:10000244-1716922800-1716930000@esperanto-chicago.org
SUMMARY:Monata Kunveno (Online)
DESCRIPTION:Our monthly meeting! \nContact us at: esperanto-chicago@googlegroups.com \nhttp://esperanto-chicago.org/retkunveno
URL:http://esperanto-chicago.org/event/monata-kunveno-online-12/
CATEGORIES:Monata Kunveno
END:VEVENT
BEGIN:VEVENT
DTSTART;TZID=America/Chicago:20240526T090000
DTEND;TZID=America/Chicago:20240526T110000
DTSTAMP:20260425T112720
CREATED:20240526T140401Z
LAST-MODIFIED:20240526T140401Z
UID:10000243-1716714000-1716721200@esperanto-chicago.org
SUMMARY:Kafeja kunveno
DESCRIPTION:Ni babilas. \nhttps://zoom.us/j/98568618976
URL:http://esperanto-chicago.org/event/kafeja-kunveno-2024_05_26/
END:VEVENT
BEGIN:VEVENT
DTSTART;TZID=America/Chicago:20240523T193000
DTEND;TZID=America/Chicago:20240523T203000
DTSTAMP:20260425T112720
CREATED:20240320T135108Z
LAST-MODIFIED:20240320T135108Z
UID:10000240-1716492600-1716496200@esperanto-chicago.org
SUMMARY:Klubo de Mortaj Krokodiloj (Online)
DESCRIPTION:Ni kunvenos rete.   We will meet online.  \nContact us at: esperanto-chicago@googlegroups.com  \nUse this link to join the online meeting: \nesperanto-chicago.org/retkunveno
URL:http://esperanto-chicago.org/event/klubo-de-mortaj-krokodiloj-online-95/
CATEGORIES:Klubo de Mortaj Krokodiloj
ATTACH;FMTTYPE=image/jpeg:http://esperanto-chicago.org/wordpress/wp-content/uploads/2022/03/2022-03-16-14_12_41-Untitled-presentation-Google-Slides.jpg
ORGANIZER;CN="Eric Killian":MAILTO:ericesperanto@gmail.com
END:VEVENT
BEGIN:VEVENT
DTSTART;TZID=America/Chicago:20240519T090000
DTEND;TZID=America/Chicago:20240519T110000
DTSTAMP:20260425T112720
CREATED:20240320T135107Z
LAST-MODIFIED:20240320T135107Z
UID:10000239-1716109200-1716116400@esperanto-chicago.org
SUMMARY:Kafeja Kunveno / Coffee Time (Online)
DESCRIPTION:Ni trinkos kafon kaj parolos Esperanton! Ne zorgu pri via lingva nivelo\, ni parolas ankaŭ la anglan! – We will drink coffee and speak Esperanto! Don’t worry if you don’t speak Esperanto yet\, we also speak English. \nContact us at: esperanto-chicago@googlegroups.com  \nWe will meet online!  Use the link below:\nhttp://esperanto-chicago.org/retkunveno \nTo join The Chicago Esperanto Society click here: http://esperanto-chicago.org/members/
URL:http://esperanto-chicago.org/event/kafeja-kunveno-coffee-time-online-91/
CATEGORIES:Kafeja Kunveno
ATTACH;FMTTYPE=image/jpeg:http://esperanto-chicago.org/wordpress/wp-content/uploads/2022/03/2022-03-16-14_51_42-Titoloj-Google-Slides.jpg
ORGANIZER;CN="Randy Ream":MAILTO:rsream@gmail.com
END:VEVENT
BEGIN:VEVENT
DTSTART;TZID=America/Chicago:20240516T193000
DTEND;TZID=America/Chicago:20240516T203000
DTSTAMP:20260425T112720
CREATED:20240320T135107Z
LAST-MODIFIED:20240320T135107Z
UID:10000238-1715887800-1715891400@esperanto-chicago.org
SUMMARY:Klubo de Mortaj Krokodiloj (Online)
DESCRIPTION:Ni kunvenos rete.   We will meet online.  \nContact us at: esperanto-chicago@googlegroups.com  \nUse this link to join the online meeting: \nesperanto-chicago.org/retkunveno
URL:http://esperanto-chicago.org/event/klubo-de-mortaj-krokodiloj-online-94/
CATEGORIES:Klubo de Mortaj Krokodiloj
ATTACH;FMTTYPE=image/jpeg:http://esperanto-chicago.org/wordpress/wp-content/uploads/2022/03/2022-03-16-14_12_41-Untitled-presentation-Google-Slides.jpg
ORGANIZER;CN="Eric Killian":MAILTO:ericesperanto@gmail.com
END:VEVENT
BEGIN:VEVENT
DTSTART;TZID=America/Chicago:20240513T170000
DTEND;TZID=America/Chicago:20240513T183000
DTSTAMP:20260425T112720
CREATED:20240510T003447Z
LAST-MODIFIED:20240510T130311Z
UID:10000242-1715619600-1715625000@esperanto-chicago.org
SUMMARY:Manĝu\, Manĝu!
DESCRIPTION:Manĝu\, kaj babilu kun ni!\n==== \nYou don’t have to speak Esperanto to attend this event (We also speak English)
URL:http://esperanto-chicago.org/event/mangu-mangu-4/
LOCATION:Buona\, Oak Park\, 7025 W North Ave\, Chicago\, IL\, 60302\, United States
ATTACH;FMTTYPE=image/jpeg:http://esperanto-chicago.org/wordpress/wp-content/uploads/2022/03/2022-03-16-13_48_15-Untitled-presentation-Google-Slides.jpg
ORGANIZER;CN="Randy Ream":MAILTO:rsream@gmail.com
END:VEVENT
BEGIN:VEVENT
DTSTART;TZID=America/Chicago:20240512T090000
DTEND;TZID=America/Chicago:20240512T110000
DTSTAMP:20260425T112720
CREATED:20240320T135107Z
LAST-MODIFIED:20240320T135107Z
UID:10000237-1715504400-1715511600@esperanto-chicago.org
SUMMARY:Kafeja Kunveno / Coffee Time (Online)
DESCRIPTION:Ni trinkos kafon kaj parolos Esperanton! Ne zorgu pri via lingva nivelo\, ni parolas ankaŭ la anglan! – We will drink coffee and speak Esperanto! Don’t worry if you don’t speak Esperanto yet\, we also speak English. \nContact us at: esperanto-chicago@googlegroups.com  \nWe will meet online!  Use the link below:\nhttp://esperanto-chicago.org/retkunveno \nTo join The Chicago Esperanto Society click here: http://esperanto-chicago.org/members/
URL:http://esperanto-chicago.org/event/kafeja-kunveno-coffee-time-online-90/
CATEGORIES:Kafeja Kunveno
ATTACH;FMTTYPE=image/jpeg:http://esperanto-chicago.org/wordpress/wp-content/uploads/2022/03/2022-03-16-14_51_42-Titoloj-Google-Slides.jpg
ORGANIZER;CN="Randy Ream":MAILTO:rsream@gmail.com
END:VEVENT
BEGIN:VEVENT
DTSTART;TZID=America/Chicago:20240509T193000
DTEND;TZID=America/Chicago:20240509T203000
DTSTAMP:20260425T112720
CREATED:20240320T135053Z
LAST-MODIFIED:20240320T135053Z
UID:10000236-1715283000-1715286600@esperanto-chicago.org
SUMMARY:Klubo de Mortaj Krokodiloj (Online)
DESCRIPTION:Ni kunvenos rete.   We will meet online.  \nContact us at: esperanto-chicago@googlegroups.com  \nUse this link to join the online meeting: \nesperanto-chicago.org/retkunveno
URL:http://esperanto-chicago.org/event/klubo-de-mortaj-krokodiloj-online-93/
CATEGORIES:Klubo de Mortaj Krokodiloj
ATTACH;FMTTYPE=image/jpeg:http://esperanto-chicago.org/wordpress/wp-content/uploads/2022/03/2022-03-16-14_12_41-Untitled-presentation-Google-Slides.jpg
ORGANIZER;CN="Eric Killian":MAILTO:ericesperanto@gmail.com
END:VEVENT
END:VCALENDAR