BEGIN:VCALENDAR
VERSION:2.0
PRODID:-//La Esperanto-Societo de Ĉikago - ECPv6.15.20//NONSGML v1.0//EN
CALSCALE:GREGORIAN
METHOD:PUBLISH
X-WR-CALNAME:La Esperanto-Societo de Ĉikago
X-ORIGINAL-URL:http://esperanto-chicago.org
X-WR-CALDESC:Events for La Esperanto-Societo de Ĉikago
REFRESH-INTERVAL;VALUE=DURATION:PT1H
X-Robots-Tag:noindex
X-PUBLISHED-TTL:PT1H
BEGIN:VTIMEZONE
TZID:America/Chicago
BEGIN:DAYLIGHT
TZOFFSETFROM:-0600
TZOFFSETTO:-0500
TZNAME:CDT
DTSTART:20220313T080000
END:DAYLIGHT
BEGIN:STANDARD
TZOFFSETFROM:-0500
TZOFFSETTO:-0600
TZNAME:CST
DTSTART:20221106T070000
END:STANDARD
BEGIN:DAYLIGHT
TZOFFSETFROM:-0600
TZOFFSETTO:-0500
TZNAME:CDT
DTSTART:20230312T080000
END:DAYLIGHT
BEGIN:STANDARD
TZOFFSETFROM:-0500
TZOFFSETTO:-0600
TZNAME:CST
DTSTART:20231105T070000
END:STANDARD
BEGIN:DAYLIGHT
TZOFFSETFROM:-0600
TZOFFSETTO:-0500
TZNAME:CDT
DTSTART:20240310T080000
END:DAYLIGHT
BEGIN:STANDARD
TZOFFSETFROM:-0500
TZOFFSETTO:-0600
TZNAME:CST
DTSTART:20241103T070000
END:STANDARD
END:VTIMEZONE
BEGIN:VEVENT
DTSTART;TZID=America/Chicago:20230514T090000
DTEND;TZID=America/Chicago:20230514T110000
DTSTAMP:20260425T110338
CREATED:20230507T143713Z
LAST-MODIFIED:20230507T143713Z
UID:10000029-1684054800-1684062000@esperanto-chicago.org
SUMMARY:Kafeja Kunveno / Coffee Time (Online)
DESCRIPTION:Ni trinkos kafon kaj parolos Esperanton! Ne zorgu pri via lingva nivelo\, ni parolas ankaŭ la anglan! – We will drink coffee and speak Esperanto! Don’t worry if you don’t speak Esperanto yet\, we also speak English. \nContact us at: esperanto-chicago@googlegroups.com  \nWe will meet online!  Use the link below:\nhttp://esperanto-chicago.org/retkunveno \nTo join The Chicago Esperanto Society click here: http://esperanto-chicago.org/members/
URL:http://esperanto-chicago.org/event/kafeja-kunveno-coffee-time-online-40/
CATEGORIES:Kafeja Kunveno
ATTACH;FMTTYPE=image/jpeg:http://esperanto-chicago.org/wordpress/wp-content/uploads/2022/03/2022-03-16-14_51_42-Titoloj-Google-Slides.jpg
ORGANIZER;CN="Randy Ream":MAILTO:rsream@gmail.com
END:VEVENT
BEGIN:VEVENT
DTSTART;TZID=America/Chicago:20230511T193000
DTEND;TZID=America/Chicago:20230511T203000
DTSTAMP:20260425T110338
CREATED:20230313T105410Z
LAST-MODIFIED:20230313T105410Z
UID:10000026-1683833400-1683837000@esperanto-chicago.org
SUMMARY:Klubo de Mortaj Krokodiloj (Online)
DESCRIPTION:Ni kunvenos rete.   We will meet online.\nContact us at: esperanto-chicago@googlegroups.com  \nUse this link to join the online meeting: \nesperanto-chicago.org/retkunveno
URL:http://esperanto-chicago.org/event/klubo-de-mortaj-krokodiloj-online-41/
CATEGORIES:Klubo de Mortaj Krokodiloj
ATTACH;FMTTYPE=image/jpeg:http://esperanto-chicago.org/wordpress/wp-content/uploads/2022/03/2022-03-16-14_12_41-Untitled-presentation-Google-Slides.jpg
ORGANIZER;CN="Eric Killian":MAILTO:ericesperanto@gmail.com
END:VEVENT
BEGIN:VEVENT
DTSTART;TZID=America/Chicago:20230507T090000
DTEND;TZID=America/Chicago:20230507T110000
DTSTAMP:20260425T110338
CREATED:20230313T105409Z
LAST-MODIFIED:20230313T105409Z
UID:10000025-1683450000-1683457200@esperanto-chicago.org
SUMMARY:Kafeja Kunveno / Coffee Time (Online)
DESCRIPTION:Ni trinkos kafon kaj parolos Esperanton! Ne zorgu pri via lingva nivelo\, ni parolas ankaŭ la anglan! – We will drink coffee and speak Esperanto! Don’t worry if you don’t speak Esperanto yet\, we also speak English. \nContact us at: esperanto-chicago@googlegroups.com  \nWe will meet online!  Use the link below:\nhttp://esperanto-chicago.org/retkunveno \nTo join The Chicago Esperanto Society click here: http://esperanto-chicago.org/members/
URL:http://esperanto-chicago.org/event/kafeja-kunveno-coffee-time-online-39/
CATEGORIES:Kafeja Kunveno
ATTACH;FMTTYPE=image/jpeg:http://esperanto-chicago.org/wordpress/wp-content/uploads/2022/03/2022-03-16-14_51_42-Titoloj-Google-Slides.jpg
ORGANIZER;CN="Randy Ream":MAILTO:rsream@gmail.com
END:VEVENT
BEGIN:VEVENT
DTSTART;TZID=America/Chicago:20230504T193000
DTEND;TZID=America/Chicago:20230504T203000
DTSTAMP:20260425T110338
CREATED:20230313T105407Z
LAST-MODIFIED:20230313T105407Z
UID:10000024-1683228600-1683232200@esperanto-chicago.org
SUMMARY:Klubo de Mortaj Krokodiloj (Online)
DESCRIPTION:Ni kunvenos rete.   We will meet online.\nContact us at: esperanto-chicago@googlegroups.com  \nUse this link to join the online meeting: \nesperanto-chicago.org/retkunveno
URL:http://esperanto-chicago.org/event/klubo-de-mortaj-krokodiloj-online-40/
CATEGORIES:Klubo de Mortaj Krokodiloj
ATTACH;FMTTYPE=image/jpeg:http://esperanto-chicago.org/wordpress/wp-content/uploads/2022/03/2022-03-16-14_12_41-Untitled-presentation-Google-Slides.jpg
ORGANIZER;CN="Eric Killian":MAILTO:ericesperanto@gmail.com
END:VEVENT
BEGIN:VEVENT
DTSTART;TZID=America/Chicago:20230430T090000
DTEND;TZID=America/Chicago:20230430T110000
DTSTAMP:20260425T110338
CREATED:20230313T105406Z
LAST-MODIFIED:20230313T105406Z
UID:10000023-1682845200-1682852400@esperanto-chicago.org
SUMMARY:Kafeja Kunveno / Coffee Time (Online)
DESCRIPTION:Ni trinkos kafon kaj parolos Esperanton! Ne zorgu pri via lingva nivelo\, ni parolas ankaŭ la anglan! – We will drink coffee and speak Esperanto! Don’t worry if you don’t speak Esperanto yet\, we also speak English. \nContact us at: esperanto-chicago@googlegroups.com  \nWe will meet online!  Use the link below:\nhttp://esperanto-chicago.org/retkunveno \nTo join The Chicago Esperanto Society click here: http://esperanto-chicago.org/members/
URL:http://esperanto-chicago.org/event/kafeja-kunveno-coffee-time-online-38/
CATEGORIES:Kafeja Kunveno
ATTACH;FMTTYPE=image/jpeg:http://esperanto-chicago.org/wordpress/wp-content/uploads/2022/03/2022-03-16-14_51_42-Titoloj-Google-Slides.jpg
ORGANIZER;CN="Randy Ream":MAILTO:rsream@gmail.com
END:VEVENT
BEGIN:VEVENT
DTSTART;TZID=America/Chicago:20230427T193000
DTEND;TZID=America/Chicago:20230427T203000
DTSTAMP:20260425T110338
CREATED:20230313T105206Z
LAST-MODIFIED:20230313T105206Z
UID:10000022-1682623800-1682627400@esperanto-chicago.org
SUMMARY:Klubo de Mortaj Krokodiloj (Online)
DESCRIPTION:Ni kunvenos rete.   We will meet online.\nContact us at: esperanto-chicago@googlegroups.com  \nUse this link to join the online meeting: \nesperanto-chicago.org/retkunveno
URL:http://esperanto-chicago.org/event/klubo-de-mortaj-krokodiloj-online-39/
CATEGORIES:Klubo de Mortaj Krokodiloj
ATTACH;FMTTYPE=image/jpeg:http://esperanto-chicago.org/wordpress/wp-content/uploads/2022/03/2022-03-16-14_12_41-Untitled-presentation-Google-Slides.jpg
ORGANIZER;CN="Eric Killian":MAILTO:ericesperanto@gmail.com
END:VEVENT
BEGIN:VEVENT
DTSTART;TZID=America/Chicago:20230423T090000
DTEND;TZID=America/Chicago:20230423T110000
DTSTAMP:20260425T110338
CREATED:20230313T105205Z
LAST-MODIFIED:20230313T105205Z
UID:10000021-1682240400-1682247600@esperanto-chicago.org
SUMMARY:Kafeja Kunveno / Coffee Time (Online)
DESCRIPTION:Ni trinkos kafon kaj parolos Esperanton! Ne zorgu pri via lingva nivelo\, ni parolas ankaŭ la anglan! – We will drink coffee and speak Esperanto! Don’t worry if you don’t speak Esperanto yet\, we also speak English. \nContact us at: esperanto-chicago@googlegroups.com  \nWe will meet online!  Use the link below:\nhttp://esperanto-chicago.org/retkunveno \nTo join The Chicago Esperanto Society click here: http://esperanto-chicago.org/members/
URL:http://esperanto-chicago.org/event/kafeja-kunveno-coffee-time-online-37/
CATEGORIES:Kafeja Kunveno
ATTACH;FMTTYPE=image/jpeg:http://esperanto-chicago.org/wordpress/wp-content/uploads/2022/03/2022-03-16-14_51_42-Titoloj-Google-Slides.jpg
ORGANIZER;CN="Randy Ream":MAILTO:rsream@gmail.com
END:VEVENT
BEGIN:VEVENT
DTSTART;TZID=America/Chicago:20230420T193000
DTEND;TZID=America/Chicago:20230420T203000
DTSTAMP:20260425T110338
CREATED:20230313T105205Z
LAST-MODIFIED:20230313T105205Z
UID:10000130-1682019000-1682022600@esperanto-chicago.org
SUMMARY:Klubo de Mortaj Krokodiloj (Online)
DESCRIPTION:Ni kunvenos rete.   We will meet online.\nContact us at: esperanto-chicago@googlegroups.com  \nUse this link to join the online meeting: \nesperanto-chicago.org/retkunveno
URL:http://esperanto-chicago.org/event/klubo-de-mortaj-krokodiloj-online-38/
CATEGORIES:Klubo de Mortaj Krokodiloj
ATTACH;FMTTYPE=image/jpeg:http://esperanto-chicago.org/wordpress/wp-content/uploads/2022/03/2022-03-16-14_12_41-Untitled-presentation-Google-Slides.jpg
ORGANIZER;CN="Eric Killian":MAILTO:ericesperanto@gmail.com
END:VEVENT
BEGIN:VEVENT
DTSTART;TZID=America/Chicago:20230416T090000
DTEND;TZID=America/Chicago:20230416T110000
DTSTAMP:20260425T110338
CREATED:20230313T105204Z
LAST-MODIFIED:20230313T105204Z
UID:10000129-1681635600-1681642800@esperanto-chicago.org
SUMMARY:Kafeja Kunveno / Coffee Time (Online)
DESCRIPTION:Ni trinkos kafon kaj parolos Esperanton! Ne zorgu pri via lingva nivelo\, ni parolas ankaŭ la anglan! – We will drink coffee and speak Esperanto! Don’t worry if you don’t speak Esperanto yet\, we also speak English. \nContact us at: esperanto-chicago@googlegroups.com  \nWe will meet online!  Use the link below:\nhttp://esperanto-chicago.org/retkunveno \nTo join The Chicago Esperanto Society click here: http://esperanto-chicago.org/members/
URL:http://esperanto-chicago.org/event/kafeja-kunveno-coffee-time-online-36/
CATEGORIES:Kafeja Kunveno
ATTACH;FMTTYPE=image/jpeg:http://esperanto-chicago.org/wordpress/wp-content/uploads/2022/03/2022-03-16-14_51_42-Titoloj-Google-Slides.jpg
ORGANIZER;CN="Randy Ream":MAILTO:rsream@gmail.com
END:VEVENT
BEGIN:VEVENT
DTSTART;TZID=America/Chicago:20230413T193000
DTEND;TZID=America/Chicago:20230413T203000
DTSTAMP:20260425T110338
CREATED:20230313T105202Z
LAST-MODIFIED:20230313T105202Z
UID:10000128-1681414200-1681417800@esperanto-chicago.org
SUMMARY:Klubo de Mortaj Krokodiloj (Online)
DESCRIPTION:Ni kunvenos rete.   We will meet online.\nContact us at: esperanto-chicago@googlegroups.com  \nUse this link to join the online meeting: \nesperanto-chicago.org/retkunveno
URL:http://esperanto-chicago.org/event/klubo-de-mortaj-krokodiloj-online-37/
CATEGORIES:Klubo de Mortaj Krokodiloj
ATTACH;FMTTYPE=image/jpeg:http://esperanto-chicago.org/wordpress/wp-content/uploads/2022/03/2022-03-16-14_12_41-Untitled-presentation-Google-Slides.jpg
ORGANIZER;CN="Eric Killian":MAILTO:ericesperanto@gmail.com
END:VEVENT
BEGIN:VEVENT
DTSTART;TZID=America/Chicago:20230409T090000
DTEND;TZID=America/Chicago:20230409T110000
DTSTAMP:20260425T110338
CREATED:20230313T105020Z
LAST-MODIFIED:20230313T105020Z
UID:10000127-1681030800-1681038000@esperanto-chicago.org
SUMMARY:Kafeja Kunveno / Coffee Time (Online)
DESCRIPTION:Ni trinkos kafon kaj parolos Esperanton! Ne zorgu pri via lingva nivelo\, ni parolas ankaŭ la anglan! – We will drink coffee and speak Esperanto! Don’t worry if you don’t speak Esperanto yet\, we also speak English. \nContact us at: esperanto-chicago@googlegroups.com  \nWe will meet online!  Use the link below:\nhttp://esperanto-chicago.org/retkunveno \nTo join The Chicago Esperanto Society click here: http://esperanto-chicago.org/members/
URL:http://esperanto-chicago.org/event/kafeja-kunveno-coffee-time-online-35/
CATEGORIES:Kafeja Kunveno
ATTACH;FMTTYPE=image/jpeg:http://esperanto-chicago.org/wordpress/wp-content/uploads/2022/03/2022-03-16-14_51_42-Titoloj-Google-Slides.jpg
ORGANIZER;CN="Randy Ream":MAILTO:rsream@gmail.com
END:VEVENT
BEGIN:VEVENT
DTSTART;TZID=America/Chicago:20230406T193000
DTEND;TZID=America/Chicago:20230406T203000
DTSTAMP:20260425T110338
CREATED:20230313T105019Z
LAST-MODIFIED:20230313T105019Z
UID:10000126-1680809400-1680813000@esperanto-chicago.org
SUMMARY:Klubo de Mortaj Krokodiloj (Online)
DESCRIPTION:Ni kunvenos rete.   We will meet online.\nContact us at: esperanto-chicago@googlegroups.com  \nUse this link to join the online meeting: \nesperanto-chicago.org/retkunveno
URL:http://esperanto-chicago.org/event/klubo-de-mortaj-krokodiloj-online-36/
CATEGORIES:Klubo de Mortaj Krokodiloj
ATTACH;FMTTYPE=image/jpeg:http://esperanto-chicago.org/wordpress/wp-content/uploads/2022/03/2022-03-16-14_12_41-Untitled-presentation-Google-Slides.jpg
ORGANIZER;CN="Eric Killian":MAILTO:ericesperanto@gmail.com
END:VEVENT
BEGIN:VEVENT
DTSTART;TZID=America/Chicago:20230402T090000
DTEND;TZID=America/Chicago:20230402T110000
DTSTAMP:20260425T110338
CREATED:20230313T105018Z
LAST-MODIFIED:20230313T105018Z
UID:10000125-1680426000-1680433200@esperanto-chicago.org
SUMMARY:Kafeja Kunveno / Coffee Time (Online)
DESCRIPTION:Ni trinkos kafon kaj parolos Esperanton! Ne zorgu pri via lingva nivelo\, ni parolas ankaŭ la anglan! – We will drink coffee and speak Esperanto! Don’t worry if you don’t speak Esperanto yet\, we also speak English. \nContact us at: esperanto-chicago@googlegroups.com  \nWe will meet online!  Use the link below:\nhttp://esperanto-chicago.org/retkunveno \nTo join The Chicago Esperanto Society click here: http://esperanto-chicago.org/members/
URL:http://esperanto-chicago.org/event/kafeja-kunveno-coffee-time-online-34/
CATEGORIES:Kafeja Kunveno
ATTACH;FMTTYPE=image/jpeg:http://esperanto-chicago.org/wordpress/wp-content/uploads/2022/03/2022-03-16-14_51_42-Titoloj-Google-Slides.jpg
ORGANIZER;CN="Randy Ream":MAILTO:rsream@gmail.com
END:VEVENT
BEGIN:VEVENT
DTSTART;TZID=America/Chicago:20230330T193000
DTEND;TZID=America/Chicago:20230330T203000
DTSTAMP:20260425T110338
CREATED:20230313T105017Z
LAST-MODIFIED:20230313T105017Z
UID:10000124-1680204600-1680208200@esperanto-chicago.org
SUMMARY:Klubo de Mortaj Krokodiloj (Online)
DESCRIPTION:Ni kunvenos rete.   We will meet online.\nContact us at: esperanto-chicago@googlegroups.com  \nUse this link to join the online meeting: \nesperanto-chicago.org/retkunveno
URL:http://esperanto-chicago.org/event/klubo-de-mortaj-krokodiloj-online-35/
CATEGORIES:Klubo de Mortaj Krokodiloj
ATTACH;FMTTYPE=image/jpeg:http://esperanto-chicago.org/wordpress/wp-content/uploads/2022/03/2022-03-16-14_12_41-Untitled-presentation-Google-Slides.jpg
ORGANIZER;CN="Eric Killian":MAILTO:ericesperanto@gmail.com
END:VEVENT
BEGIN:VEVENT
DTSTART;TZID=America/Chicago:20230326T090000
DTEND;TZID=America/Chicago:20230326T110000
DTSTAMP:20260425T110338
CREATED:20230313T105015Z
LAST-MODIFIED:20230313T105015Z
UID:10000123-1679821200-1679828400@esperanto-chicago.org
SUMMARY:Kafeja Kunveno / Coffee Time (Online)
DESCRIPTION:Ni trinkos kafon kaj parolos Esperanton! Ne zorgu pri via lingva nivelo\, ni parolas ankaŭ la anglan! – We will drink coffee and speak Esperanto! Don’t worry if you don’t speak Esperanto yet\, we also speak English. \nContact us at: esperanto-chicago@googlegroups.com  \nWe will meet online!  Use the link below:\nhttp://esperanto-chicago.org/retkunveno \nTo join The Chicago Esperanto Society click here: http://esperanto-chicago.org/members/
URL:http://esperanto-chicago.org/event/kafeja-kunveno-coffee-time-online-33/
CATEGORIES:Kafeja Kunveno
ATTACH;FMTTYPE=image/jpeg:http://esperanto-chicago.org/wordpress/wp-content/uploads/2022/03/2022-03-16-14_51_42-Titoloj-Google-Slides.jpg
ORGANIZER;CN="Randy Ream":MAILTO:rsream@gmail.com
END:VEVENT
BEGIN:VEVENT
DTSTART;TZID=America/Chicago:20230323T193000
DTEND;TZID=America/Chicago:20230323T203000
DTSTAMP:20260425T110338
CREATED:20230313T104955Z
LAST-MODIFIED:20230313T104955Z
UID:10000122-1679599800-1679603400@esperanto-chicago.org
SUMMARY:Klubo de Mortaj Krokodiloj (Online)
DESCRIPTION:Ni kunvenos rete.   We will meet online.\nContact us at: esperanto-chicago@googlegroups.com  \nUse this link to join the online meeting: \nesperanto-chicago.org/retkunveno
URL:http://esperanto-chicago.org/event/klubo-de-mortaj-krokodiloj-online-34/
CATEGORIES:Klubo de Mortaj Krokodiloj
ATTACH;FMTTYPE=image/jpeg:http://esperanto-chicago.org/wordpress/wp-content/uploads/2022/03/2022-03-16-14_12_41-Untitled-presentation-Google-Slides.jpg
ORGANIZER;CN="Eric Killian":MAILTO:ericesperanto@gmail.com
END:VEVENT
BEGIN:VEVENT
DTSTART;TZID=America/Chicago:20230319T090000
DTEND;TZID=America/Chicago:20230319T110000
DTSTAMP:20260425T110338
CREATED:20230313T104954Z
LAST-MODIFIED:20230313T104954Z
UID:10000121-1679216400-1679223600@esperanto-chicago.org
SUMMARY:Kafeja Kunveno / Coffee Time (Online)
DESCRIPTION:Ni trinkos kafon kaj parolos Esperanton! Ne zorgu pri via lingva nivelo\, ni parolas ankaŭ la anglan! – We will drink coffee and speak Esperanto! Don’t worry if you don’t speak Esperanto yet\, we also speak English. \nContact us at: esperanto-chicago@googlegroups.com  \nWe will meet online!  Use the link below:\nhttp://esperanto-chicago.org/retkunveno \nTo join The Chicago Esperanto Society click here: http://esperanto-chicago.org/members/
URL:http://esperanto-chicago.org/event/kafeja-kunveno-coffee-time-online-32/
CATEGORIES:Kafeja Kunveno
ATTACH;FMTTYPE=image/jpeg:http://esperanto-chicago.org/wordpress/wp-content/uploads/2022/03/2022-03-16-14_51_42-Titoloj-Google-Slides.jpg
ORGANIZER;CN="Randy Ream":MAILTO:rsream@gmail.com
END:VEVENT
BEGIN:VEVENT
DTSTART;TZID=America/Chicago:20230316T193000
DTEND;TZID=America/Chicago:20230316T203000
DTSTAMP:20260425T110338
CREATED:20230313T104954Z
LAST-MODIFIED:20230313T104954Z
UID:10000020-1678995000-1678998600@esperanto-chicago.org
SUMMARY:Klubo de Mortaj Krokodiloj (Online)
DESCRIPTION:Ni kunvenos rete.   We will meet online.\nContact us at: esperanto-chicago@googlegroups.com  \nUse this link to join the online meeting: \nesperanto-chicago.org/retkunveno
URL:http://esperanto-chicago.org/event/klubo-de-mortaj-krokodiloj-online-33/
CATEGORIES:Klubo de Mortaj Krokodiloj
ATTACH;FMTTYPE=image/jpeg:http://esperanto-chicago.org/wordpress/wp-content/uploads/2022/03/2022-03-16-14_12_41-Untitled-presentation-Google-Slides.jpg
ORGANIZER;CN="Eric Killian":MAILTO:ericesperanto@gmail.com
END:VEVENT
BEGIN:VEVENT
DTSTART;TZID=America/Chicago:20230312T090000
DTEND;TZID=America/Chicago:20230312T110000
DTSTAMP:20260425T110338
CREATED:20230313T104953Z
LAST-MODIFIED:20230313T104953Z
UID:10000019-1678611600-1678618800@esperanto-chicago.org
SUMMARY:Kafeja Kunveno / Coffee Time (Online)
DESCRIPTION:Ni trinkos kafon kaj parolos Esperanton! Ne zorgu pri via lingva nivelo\, ni parolas ankaŭ la anglan! – We will drink coffee and speak Esperanto! Don’t worry if you don’t speak Esperanto yet\, we also speak English. \nContact us at: esperanto-chicago@googlegroups.com  \nWe will meet online!  Use the link below:\nhttp://esperanto-chicago.org/retkunveno \nTo join The Chicago Esperanto Society click here: http://esperanto-chicago.org/members/
URL:http://esperanto-chicago.org/event/kafeja-kunveno-coffee-time-online-31/
CATEGORIES:Kafeja Kunveno
ATTACH;FMTTYPE=image/jpeg:http://esperanto-chicago.org/wordpress/wp-content/uploads/2022/03/2022-03-16-14_51_42-Titoloj-Google-Slides.jpg
ORGANIZER;CN="Randy Ream":MAILTO:rsream@gmail.com
END:VEVENT
BEGIN:VEVENT
DTSTART;TZID=America/Chicago:20230309T193000
DTEND;TZID=America/Chicago:20230309T203000
DTSTAMP:20260425T110338
CREATED:20230108T144749Z
LAST-MODIFIED:20230108T144749Z
UID:10000017-1678390200-1678393800@esperanto-chicago.org
SUMMARY:Klubo de Mortaj Krokodiloj (Online)
DESCRIPTION:Ni kunvenos rete.   We will meet online.\nContact us at: esperanto-chicago@googlegroups.com  \nUse this link to join the online meeting: \nesperanto-chicago.org/retkunveno
URL:http://esperanto-chicago.org/event/klubo-de-mortaj-krokodiloj-online-32/
CATEGORIES:Klubo de Mortaj Krokodiloj
ATTACH;FMTTYPE=image/jpeg:http://esperanto-chicago.org/wordpress/wp-content/uploads/2022/03/2022-03-16-14_12_41-Untitled-presentation-Google-Slides.jpg
ORGANIZER;CN="Eric Killian":MAILTO:ericesperanto@gmail.com
END:VEVENT
BEGIN:VEVENT
DTSTART;TZID=America/Chicago:20230305T090000
DTEND;TZID=America/Chicago:20230305T110000
DTSTAMP:20260425T110338
CREATED:20230108T144748Z
LAST-MODIFIED:20230108T144748Z
UID:10000016-1678006800-1678014000@esperanto-chicago.org
SUMMARY:Kafeja Kunveno / Coffee Time (Online)
DESCRIPTION:Ni trinkos kafon kaj parolos Esperanton! Ne zorgu pri via lingva nivelo\, ni parolas ankaŭ la anglan! – We will drink coffee and speak Esperanto! Don’t worry if you don’t speak Esperanto yet\, we also speak English. \nContact us at: esperanto-chicago@googlegroups.com  \nWe will meet online!  Use the link below:\nhttp://esperanto-chicago.org/retkunveno \nTo join The Chicago Esperanto Society click here: http://esperanto-chicago.org/members/
URL:http://esperanto-chicago.org/event/kafeja-kunveno-coffee-time-online-30/
CATEGORIES:Kafeja Kunveno
ATTACH;FMTTYPE=image/jpeg:http://esperanto-chicago.org/wordpress/wp-content/uploads/2022/03/2022-03-16-14_51_42-Titoloj-Google-Slides.jpg
ORGANIZER;CN="Randy Ream":MAILTO:rsream@gmail.com
END:VEVENT
BEGIN:VEVENT
DTSTART;TZID=America/Chicago:20230302T193000
DTEND;TZID=America/Chicago:20230302T203000
DTSTAMP:20260425T110338
CREATED:20230108T144747Z
LAST-MODIFIED:20230108T144747Z
UID:10000015-1677785400-1677789000@esperanto-chicago.org
SUMMARY:Klubo de Mortaj Krokodiloj (Online)
DESCRIPTION:Ni kunvenos rete.   We will meet online.\nContact us at: esperanto-chicago@googlegroups.com  \nUse this link to join the online meeting: \nesperanto-chicago.org/retkunveno
URL:http://esperanto-chicago.org/event/klubo-de-mortaj-krokodiloj-online-31/
CATEGORIES:Klubo de Mortaj Krokodiloj
ATTACH;FMTTYPE=image/jpeg:http://esperanto-chicago.org/wordpress/wp-content/uploads/2022/03/2022-03-16-14_12_41-Untitled-presentation-Google-Slides.jpg
ORGANIZER;CN="Eric Killian":MAILTO:ericesperanto@gmail.com
END:VEVENT
BEGIN:VEVENT
DTSTART;TZID=America/Chicago:20230226T090000
DTEND;TZID=America/Chicago:20230226T110000
DTSTAMP:20260425T110338
CREATED:20230108T144746Z
LAST-MODIFIED:20230108T144746Z
UID:10000014-1677402000-1677409200@esperanto-chicago.org
SUMMARY:Kafeja Kunveno / Coffee Time (Online)
DESCRIPTION:Ni trinkos kafon kaj parolos Esperanton! Ne zorgu pri via lingva nivelo\, ni parolas ankaŭ la anglan! – We will drink coffee and speak Esperanto! Don’t worry if you don’t speak Esperanto yet\, we also speak English. \nContact us at: esperanto-chicago@googlegroups.com  \nWe will meet online!  Use the link below:\nhttp://esperanto-chicago.org/retkunveno \nTo join The Chicago Esperanto Society click here: http://esperanto-chicago.org/members/
URL:http://esperanto-chicago.org/event/kafeja-kunveno-coffee-time-online-29/
CATEGORIES:Kafeja Kunveno
ATTACH;FMTTYPE=image/jpeg:http://esperanto-chicago.org/wordpress/wp-content/uploads/2022/03/2022-03-16-14_51_42-Titoloj-Google-Slides.jpg
ORGANIZER;CN="Randy Ream":MAILTO:rsream@gmail.com
END:VEVENT
BEGIN:VEVENT
DTSTART;TZID=America/Chicago:20230219T090000
DTEND;TZID=America/Chicago:20230219T110000
DTSTAMP:20260425T110338
CREATED:20230108T144547Z
LAST-MODIFIED:20230108T144547Z
UID:10000013-1676797200-1676804400@esperanto-chicago.org
SUMMARY:Kafeja Kunveno / Coffee Time (Online)
DESCRIPTION:Ni trinkos kafon kaj parolos Esperanton! Ne zorgu pri via lingva nivelo\, ni parolas ankaŭ la anglan! – We will drink coffee and speak Esperanto! Don’t worry if you don’t speak Esperanto yet\, we also speak English. \nContact us at: esperanto-chicago@googlegroups.com  \nWe will meet online!  Use the link below:\nhttp://esperanto-chicago.org/retkunveno \nTo join The Chicago Esperanto Society click here: http://esperanto-chicago.org/members/
URL:http://esperanto-chicago.org/event/kafeja-kunveno-coffee-time-online-28/
CATEGORIES:Kafeja Kunveno
ATTACH;FMTTYPE=image/jpeg:http://esperanto-chicago.org/wordpress/wp-content/uploads/2022/03/2022-03-16-14_51_42-Titoloj-Google-Slides.jpg
ORGANIZER;CN="Randy Ream":MAILTO:rsream@gmail.com
END:VEVENT
BEGIN:VEVENT
DTSTART;TZID=America/Chicago:20230216T193000
DTEND;TZID=America/Chicago:20230216T203000
DTSTAMP:20260425T110338
CREATED:20230108T144547Z
LAST-MODIFIED:20230108T144547Z
UID:10000012-1676575800-1676579400@esperanto-chicago.org
SUMMARY:Klubo de Mortaj Krokodiloj (Online)
DESCRIPTION:Ni kunvenos rete.   We will meet online.\nContact us at: esperanto-chicago@googlegroups.com  \nUse this link to join the online meeting: \nesperanto-chicago.org/retkunveno
URL:http://esperanto-chicago.org/event/klubo-de-mortaj-krokodiloj-online-29/
CATEGORIES:Klubo de Mortaj Krokodiloj
ATTACH;FMTTYPE=image/jpeg:http://esperanto-chicago.org/wordpress/wp-content/uploads/2022/03/2022-03-16-14_12_41-Untitled-presentation-Google-Slides.jpg
ORGANIZER;CN="Eric Killian":MAILTO:ericesperanto@gmail.com
END:VEVENT
BEGIN:VEVENT
DTSTART;TZID=America/Chicago:20230212T090000
DTEND;TZID=America/Chicago:20230212T110000
DTSTAMP:20260425T110338
CREATED:20230108T144546Z
LAST-MODIFIED:20230108T144546Z
UID:10000011-1676192400-1676199600@esperanto-chicago.org
SUMMARY:Kafeja Kunveno / Coffee Time (Online)
DESCRIPTION:Ni trinkos kafon kaj parolos Esperanton! Ne zorgu pri via lingva nivelo\, ni parolas ankaŭ la anglan! – We will drink coffee and speak Esperanto! Don’t worry if you don’t speak Esperanto yet\, we also speak English. \nContact us at: esperanto-chicago@googlegroups.com  \nWe will meet online!  Use the link below:\nhttp://esperanto-chicago.org/retkunveno \nTo join The Chicago Esperanto Society click here: http://esperanto-chicago.org/members/
URL:http://esperanto-chicago.org/event/kafeja-kunveno-coffee-time-online-27/
CATEGORIES:Kafeja Kunveno
ATTACH;FMTTYPE=image/jpeg:http://esperanto-chicago.org/wordpress/wp-content/uploads/2022/03/2022-03-16-14_51_42-Titoloj-Google-Slides.jpg
ORGANIZER;CN="Randy Ream":MAILTO:rsream@gmail.com
END:VEVENT
BEGIN:VEVENT
DTSTART;TZID=America/Chicago:20230209T193000
DTEND;TZID=America/Chicago:20230209T203000
DTSTAMP:20260425T110338
CREATED:20230108T144545Z
LAST-MODIFIED:20230108T144545Z
UID:10000120-1675971000-1675974600@esperanto-chicago.org
SUMMARY:Klubo de Mortaj Krokodiloj (Online)
DESCRIPTION:Ni kunvenos rete.   We will meet online.\nContact us at: esperanto-chicago@googlegroups.com  \nUse this link to join the online meeting: \nesperanto-chicago.org/retkunveno
URL:http://esperanto-chicago.org/event/klubo-de-mortaj-krokodiloj-online-28/
CATEGORIES:Klubo de Mortaj Krokodiloj
ATTACH;FMTTYPE=image/jpeg:http://esperanto-chicago.org/wordpress/wp-content/uploads/2022/03/2022-03-16-14_12_41-Untitled-presentation-Google-Slides.jpg
ORGANIZER;CN="Eric Killian":MAILTO:ericesperanto@gmail.com
END:VEVENT
BEGIN:VEVENT
DTSTART;TZID=America/Chicago:20230205T090000
DTEND;TZID=America/Chicago:20230205T110000
DTSTAMP:20260425T110338
CREATED:20230108T144534Z
LAST-MODIFIED:20230108T144534Z
UID:10000119-1675587600-1675594800@esperanto-chicago.org
SUMMARY:Kafeja Kunveno / Coffee Time (Online)
DESCRIPTION:Ni trinkos kafon kaj parolos Esperanton! Ne zorgu pri via lingva nivelo\, ni parolas ankaŭ la anglan! – We will drink coffee and speak Esperanto! Don’t worry if you don’t speak Esperanto yet\, we also speak English. \nContact us at: esperanto-chicago@googlegroups.com  \nWe will meet online!  Use the link below:\nhttp://esperanto-chicago.org/retkunveno \nTo join The Chicago Esperanto Society click here: http://esperanto-chicago.org/members/
URL:http://esperanto-chicago.org/event/kafeja-kunveno-coffee-time-online-26/
CATEGORIES:Kafeja Kunveno
ATTACH;FMTTYPE=image/jpeg:http://esperanto-chicago.org/wordpress/wp-content/uploads/2022/03/2022-03-16-14_51_42-Titoloj-Google-Slides.jpg
ORGANIZER;CN="Randy Ream":MAILTO:rsream@gmail.com
END:VEVENT
BEGIN:VEVENT
DTSTART;TZID=America/Chicago:20230202T193000
DTEND;TZID=America/Chicago:20230202T203000
DTSTAMP:20260425T110338
CREATED:20230108T144533Z
LAST-MODIFIED:20230108T144533Z
UID:10000118-1675366200-1675369800@esperanto-chicago.org
SUMMARY:Klubo de Mortaj Krokodiloj (Online)
DESCRIPTION:Ni kunvenos rete.   We will meet online.\nContact us at: esperanto-chicago@googlegroups.com  \nUse this link to join the online meeting: \nesperanto-chicago.org/retkunveno
URL:http://esperanto-chicago.org/event/klubo-de-mortaj-krokodiloj-online-27/
CATEGORIES:Klubo de Mortaj Krokodiloj
ATTACH;FMTTYPE=image/jpeg:http://esperanto-chicago.org/wordpress/wp-content/uploads/2022/03/2022-03-16-14_12_41-Untitled-presentation-Google-Slides.jpg
ORGANIZER;CN="Eric Killian":MAILTO:ericesperanto@gmail.com
END:VEVENT
BEGIN:VEVENT
DTSTART;TZID=America/Chicago:20230129T090000
DTEND;TZID=America/Chicago:20230129T110000
DTSTAMP:20260425T110338
CREATED:20230108T144533Z
LAST-MODIFIED:20230108T144533Z
UID:10000117-1674982800-1674990000@esperanto-chicago.org
SUMMARY:Kafeja Kunveno / Coffee Time (Online)
DESCRIPTION:Ni trinkos kafon kaj parolos Esperanton! Ne zorgu pri via lingva nivelo\, ni parolas ankaŭ la anglan! – We will drink coffee and speak Esperanto! Don’t worry if you don’t speak Esperanto yet\, we also speak English. \nContact us at: esperanto-chicago@googlegroups.com  \nWe will meet online!  Use the link below:\nhttp://esperanto-chicago.org/retkunveno \nTo join The Chicago Esperanto Society click here: http://esperanto-chicago.org/members/
URL:http://esperanto-chicago.org/event/kafeja-kunveno-coffee-time-online-25/
CATEGORIES:Kafeja Kunveno
ATTACH;FMTTYPE=image/jpeg:http://esperanto-chicago.org/wordpress/wp-content/uploads/2022/03/2022-03-16-14_51_42-Titoloj-Google-Slides.jpg
ORGANIZER;CN="Randy Ream":MAILTO:rsream@gmail.com
END:VEVENT
END:VCALENDAR