BEGIN:VCALENDAR
VERSION:2.0
PRODID:-//La Esperanto-Societo de Ĉikago - ECPv6.15.20//NONSGML v1.0//EN
CALSCALE:GREGORIAN
METHOD:PUBLISH
X-ORIGINAL-URL:http://esperanto-chicago.org
X-WR-CALDESC:Events for La Esperanto-Societo de Ĉikago
REFRESH-INTERVAL;VALUE=DURATION:PT1H
X-Robots-Tag:noindex
X-PUBLISHED-TTL:PT1H
BEGIN:VTIMEZONE
TZID:America/Chicago
BEGIN:DAYLIGHT
TZOFFSETFROM:-0600
TZOFFSETTO:-0500
TZNAME:CDT
DTSTART:20220313T080000
END:DAYLIGHT
BEGIN:STANDARD
TZOFFSETFROM:-0500
TZOFFSETTO:-0600
TZNAME:CST
DTSTART:20221106T070000
END:STANDARD
BEGIN:DAYLIGHT
TZOFFSETFROM:-0600
TZOFFSETTO:-0500
TZNAME:CDT
DTSTART:20230312T080000
END:DAYLIGHT
BEGIN:STANDARD
TZOFFSETFROM:-0500
TZOFFSETTO:-0600
TZNAME:CST
DTSTART:20231105T070000
END:STANDARD
BEGIN:DAYLIGHT
TZOFFSETFROM:-0600
TZOFFSETTO:-0500
TZNAME:CDT
DTSTART:20240310T080000
END:DAYLIGHT
BEGIN:STANDARD
TZOFFSETFROM:-0500
TZOFFSETTO:-0600
TZNAME:CST
DTSTART:20241103T070000
END:STANDARD
END:VTIMEZONE
BEGIN:VEVENT
DTSTART;TZID=America/Chicago:20230730T090000
DTEND;TZID=America/Chicago:20230730T110000
DTSTAMP:20260425T074524
CREATED:20230702T153222Z
LAST-MODIFIED:20230702T153222Z
UID:10000143-1690707600-1690714800@esperanto-chicago.org
SUMMARY:Kafeja Kunveno / Coffee Time (Online)
DESCRIPTION:Ni trinkos kafon kaj parolos Esperanton! Ne zorgu pri via lingva nivelo\, ni parolas ankaŭ la anglan! – We will drink coffee and speak Esperanto! Don’t worry if you don’t speak Esperanto yet\, we also speak English. \nContact us at: esperanto-chicago@googlegroups.com  \nWe will meet online!  Use the link below:\nhttp://esperanto-chicago.org/retkunveno \nTo join The Chicago Esperanto Society click here: http://esperanto-chicago.org/members/
URL:http://esperanto-chicago.org/event/kafeja-kunveno-coffee-time-online-50/
CATEGORIES:Kafeja Kunveno
ATTACH;FMTTYPE=image/jpeg:http://esperanto-chicago.org/wordpress/wp-content/uploads/2022/03/2022-03-16-14_51_42-Titoloj-Google-Slides.jpg
ORGANIZER;CN="Randy Ream":MAILTO:rsream@gmail.com
END:VEVENT
BEGIN:VEVENT
DTSTART;TZID=America/Chicago:20230727T193000
DTEND;TZID=America/Chicago:20230727T203000
DTSTAMP:20260425T074524
CREATED:20230702T153221Z
LAST-MODIFIED:20230702T153221Z
UID:10000142-1690486200-1690489800@esperanto-chicago.org
SUMMARY:Klubo de Mortaj Krokodiloj (Online)
DESCRIPTION:Ni kunvenos rete.   We will meet online.\nContact us at: esperanto-chicago@googlegroups.com  \nUse this link to join the online meeting: \nesperanto-chicago.org/retkunveno
URL:http://esperanto-chicago.org/event/klubo-de-mortaj-krokodiloj-online-53/
CATEGORIES:Klubo de Mortaj Krokodiloj
ATTACH;FMTTYPE=image/jpeg:http://esperanto-chicago.org/wordpress/wp-content/uploads/2022/03/2022-03-16-14_12_41-Untitled-presentation-Google-Slides.jpg
ORGANIZER;CN="Eric Killian":MAILTO:ericesperanto@gmail.com
END:VEVENT
BEGIN:VEVENT
DTSTART;TZID=America/Chicago:20230723T090000
DTEND;TZID=America/Chicago:20230723T110000
DTSTAMP:20260425T074524
CREATED:20230702T153220Z
LAST-MODIFIED:20230702T153220Z
UID:10000141-1690102800-1690110000@esperanto-chicago.org
SUMMARY:Kafeja Kunveno / Coffee Time (Online)
DESCRIPTION:Ni trinkos kafon kaj parolos Esperanton! Ne zorgu pri via lingva nivelo\, ni parolas ankaŭ la anglan! – We will drink coffee and speak Esperanto! Don’t worry if you don’t speak Esperanto yet\, we also speak English. \nContact us at: esperanto-chicago@googlegroups.com  \nWe will meet online!  Use the link below:\nhttp://esperanto-chicago.org/retkunveno \nTo join The Chicago Esperanto Society click here: http://esperanto-chicago.org/members/
URL:http://esperanto-chicago.org/event/kafeja-kunveno-coffee-time-online-49/
CATEGORIES:Kafeja Kunveno
ATTACH;FMTTYPE=image/jpeg:http://esperanto-chicago.org/wordpress/wp-content/uploads/2022/03/2022-03-16-14_51_42-Titoloj-Google-Slides.jpg
ORGANIZER;CN="Randy Ream":MAILTO:rsream@gmail.com
END:VEVENT
BEGIN:VEVENT
DTSTART;TZID=America/Chicago:20230720T193000
DTEND;TZID=America/Chicago:20230720T203000
DTSTAMP:20260425T074524
CREATED:20230702T153217Z
LAST-MODIFIED:20230702T153217Z
UID:10000040-1689881400-1689885000@esperanto-chicago.org
SUMMARY:Klubo de Mortaj Krokodiloj (Online)
DESCRIPTION:Ni kunvenos rete.   We will meet online.\nContact us at: esperanto-chicago@googlegroups.com  \nUse this link to join the online meeting: \nesperanto-chicago.org/retkunveno
URL:http://esperanto-chicago.org/event/klubo-de-mortaj-krokodiloj-online-52/
CATEGORIES:Klubo de Mortaj Krokodiloj
ATTACH;FMTTYPE=image/jpeg:http://esperanto-chicago.org/wordpress/wp-content/uploads/2022/03/2022-03-16-14_12_41-Untitled-presentation-Google-Slides.jpg
ORGANIZER;CN="Eric Killian":MAILTO:ericesperanto@gmail.com
END:VEVENT
BEGIN:VEVENT
DTSTART;TZID=America/Chicago:20230716T090000
DTEND;TZID=America/Chicago:20230716T110000
DTSTAMP:20260425T074524
CREATED:20230702T153216Z
LAST-MODIFIED:20230702T153216Z
UID:10000039-1689498000-1689505200@esperanto-chicago.org
SUMMARY:Kafeja Kunveno / Coffee Time (Online)
DESCRIPTION:Ni trinkos kafon kaj parolos Esperanton! Ne zorgu pri via lingva nivelo\, ni parolas ankaŭ la anglan! – We will drink coffee and speak Esperanto! Don’t worry if you don’t speak Esperanto yet\, we also speak English. \nContact us at: esperanto-chicago@googlegroups.com  \nWe will meet online!  Use the link below:\nhttp://esperanto-chicago.org/retkunveno \nTo join The Chicago Esperanto Society click here: http://esperanto-chicago.org/members/
URL:http://esperanto-chicago.org/event/kafeja-kunveno-coffee-time-online-44/
CATEGORIES:Kafeja Kunveno
ATTACH;FMTTYPE=image/jpeg:http://esperanto-chicago.org/wordpress/wp-content/uploads/2022/03/2022-03-16-14_51_42-Titoloj-Google-Slides.jpg
ORGANIZER;CN="Randy Ream":MAILTO:rsream@gmail.com
END:VEVENT
BEGIN:VEVENT
DTSTART;TZID=America/Chicago:20230713T193000
DTEND;TZID=America/Chicago:20230713T203000
DTSTAMP:20260425T074524
CREATED:20230507T143931Z
LAST-MODIFIED:20230507T143931Z
UID:10000035-1689276600-1689280200@esperanto-chicago.org
SUMMARY:Klubo de Mortaj Krokodiloj (Online)
DESCRIPTION:Ni kunvenos rete.   We will meet online.\nContact us at: esperanto-chicago@googlegroups.com  \nUse this link to join the online meeting: \nesperanto-chicago.org/retkunveno
URL:http://esperanto-chicago.org/event/klubo-de-mortaj-krokodiloj-online-50/
CATEGORIES:Klubo de Mortaj Krokodiloj
ATTACH;FMTTYPE=image/jpeg:http://esperanto-chicago.org/wordpress/wp-content/uploads/2022/03/2022-03-16-14_12_41-Untitled-presentation-Google-Slides.jpg
ORGANIZER;CN="Eric Killian":MAILTO:ericesperanto@gmail.com
END:VEVENT
BEGIN:VEVENT
DTSTART;TZID=America/Chicago:20230709T090000
DTEND;TZID=America/Chicago:20230709T110000
DTSTAMP:20260425T074524
CREATED:20230507T143926Z
LAST-MODIFIED:20230702T153215Z
UID:10000034-1688893200-1688900400@esperanto-chicago.org
SUMMARY:Kafeja Kunveno / Coffee Time (Online)
DESCRIPTION:Ni trinkos kafon kaj parolos Esperanton! Ne zorgu pri via lingva nivelo\, ni parolas ankaŭ la anglan! – We will drink coffee and speak Esperanto! Don’t worry if you don’t speak Esperanto yet\, we also speak English. \nContact us at: esperanto-chicago@googlegroups.com  \nWe will meet online!  Use the link below:\nhttp://esperanto-chicago.org/retkunveno \nTo join The Chicago Esperanto Society click here: http://esperanto-chicago.org/members/
URL:http://esperanto-chicago.org/event/kafeja-kunveno-coffee-time-online-48/
CATEGORIES:Kafeja Kunveno
ATTACH;FMTTYPE=image/jpeg:http://esperanto-chicago.org/wordpress/wp-content/uploads/2022/03/2022-03-16-14_51_42-Titoloj-Google-Slides.jpg
ORGANIZER;CN="Randy Ream":MAILTO:rsream@gmail.com
END:VEVENT
BEGIN:VEVENT
DTSTART;TZID=America/Chicago:20230706T193000
DTEND;TZID=America/Chicago:20230706T203000
DTSTAMP:20260425T074524
CREATED:20230507T143925Z
LAST-MODIFIED:20230507T143925Z
UID:10000033-1688671800-1688675400@esperanto-chicago.org
SUMMARY:Klubo de Mortaj Krokodiloj (Online)
DESCRIPTION:Ni kunvenos rete.   We will meet online.\nContact us at: esperanto-chicago@googlegroups.com  \nUse this link to join the online meeting: \nesperanto-chicago.org/retkunveno
URL:http://esperanto-chicago.org/event/klubo-de-mortaj-krokodiloj-online-49/
CATEGORIES:Klubo de Mortaj Krokodiloj
ATTACH;FMTTYPE=image/jpeg:http://esperanto-chicago.org/wordpress/wp-content/uploads/2022/03/2022-03-16-14_12_41-Untitled-presentation-Google-Slides.jpg
ORGANIZER;CN="Eric Killian":MAILTO:ericesperanto@gmail.com
END:VEVENT
BEGIN:VEVENT
DTSTART;TZID=America/Chicago:20230702T090000
DTEND;TZID=America/Chicago:20230702T110000
DTSTAMP:20260425T074524
CREATED:20230507T143925Z
LAST-MODIFIED:20230507T143925Z
UID:10000032-1688288400-1688295600@esperanto-chicago.org
SUMMARY:Kafeja Kunveno / Coffee Time (Online)
DESCRIPTION:Ni trinkos kafon kaj parolos Esperanton! Ne zorgu pri via lingva nivelo\, ni parolas ankaŭ la anglan! – We will drink coffee and speak Esperanto! Don’t worry if you don’t speak Esperanto yet\, we also speak English. \nContact us at: esperanto-chicago@googlegroups.com  \nWe will meet online!  Use the link below:\nhttp://esperanto-chicago.org/retkunveno \nTo join The Chicago Esperanto Society click here: http://esperanto-chicago.org/members/
URL:http://esperanto-chicago.org/event/kafeja-kunveno-coffee-time-online-47/
CATEGORIES:Kafeja Kunveno
ATTACH;FMTTYPE=image/jpeg:http://esperanto-chicago.org/wordpress/wp-content/uploads/2022/03/2022-03-16-14_51_42-Titoloj-Google-Slides.jpg
ORGANIZER;CN="Randy Ream":MAILTO:rsream@gmail.com
END:VEVENT
BEGIN:VEVENT
DTSTART;TZID=America/Chicago:20230629T193000
DTEND;TZID=America/Chicago:20230629T203000
DTSTAMP:20260425T074524
CREATED:20230507T143725Z
LAST-MODIFIED:20230507T143725Z
UID:10000031-1688067000-1688070600@esperanto-chicago.org
SUMMARY:Klubo de Mortaj Krokodiloj (Online)
DESCRIPTION:Ni kunvenos rete.   We will meet online.\nContact us at: esperanto-chicago@googlegroups.com  \nUse this link to join the online meeting: \nesperanto-chicago.org/retkunveno
URL:http://esperanto-chicago.org/event/klubo-de-mortaj-krokodiloj-online-48/
CATEGORIES:Klubo de Mortaj Krokodiloj
ATTACH;FMTTYPE=image/jpeg:http://esperanto-chicago.org/wordpress/wp-content/uploads/2022/03/2022-03-16-14_12_41-Untitled-presentation-Google-Slides.jpg
ORGANIZER;CN="Eric Killian":MAILTO:ericesperanto@gmail.com
END:VEVENT
BEGIN:VEVENT
DTSTART;TZID=America/Chicago:20230625T090000
DTEND;TZID=America/Chicago:20230625T110000
DTSTAMP:20260425T074524
CREATED:20230507T143725Z
LAST-MODIFIED:20230507T143725Z
UID:10000140-1687683600-1687690800@esperanto-chicago.org
SUMMARY:Kafeja Kunveno / Coffee Time (Online)
DESCRIPTION:Ni trinkos kafon kaj parolos Esperanton! Ne zorgu pri via lingva nivelo\, ni parolas ankaŭ la anglan! – We will drink coffee and speak Esperanto! Don’t worry if you don’t speak Esperanto yet\, we also speak English. \nContact us at: esperanto-chicago@googlegroups.com  \nWe will meet online!  Use the link below:\nhttp://esperanto-chicago.org/retkunveno \nTo join The Chicago Esperanto Society click here: http://esperanto-chicago.org/members/
URL:http://esperanto-chicago.org/event/kafeja-kunveno-coffee-time-online-46/
CATEGORIES:Kafeja Kunveno
ATTACH;FMTTYPE=image/jpeg:http://esperanto-chicago.org/wordpress/wp-content/uploads/2022/03/2022-03-16-14_51_42-Titoloj-Google-Slides.jpg
ORGANIZER;CN="Randy Ream":MAILTO:rsream@gmail.com
END:VEVENT
BEGIN:VEVENT
DTSTART;TZID=America/Chicago:20230622T193000
DTEND;TZID=America/Chicago:20230622T203000
DTSTAMP:20260425T074524
CREATED:20230507T143724Z
LAST-MODIFIED:20230507T143724Z
UID:10000139-1687462200-1687465800@esperanto-chicago.org
SUMMARY:Klubo de Mortaj Krokodiloj (Online)
DESCRIPTION:Ni kunvenos rete.   We will meet online.\nContact us at: esperanto-chicago@googlegroups.com  \nUse this link to join the online meeting: \nesperanto-chicago.org/retkunveno
URL:http://esperanto-chicago.org/event/klubo-de-mortaj-krokodiloj-online-47/
CATEGORIES:Klubo de Mortaj Krokodiloj
ATTACH;FMTTYPE=image/jpeg:http://esperanto-chicago.org/wordpress/wp-content/uploads/2022/03/2022-03-16-14_12_41-Untitled-presentation-Google-Slides.jpg
ORGANIZER;CN="Eric Killian":MAILTO:ericesperanto@gmail.com
END:VEVENT
BEGIN:VEVENT
DTSTART;TZID=America/Chicago:20230615T193000
DTEND;TZID=America/Chicago:20230615T203000
DTSTAMP:20260425T074524
CREATED:20230507T143724Z
LAST-MODIFIED:20230507T143724Z
UID:10000138-1686857400-1686861000@esperanto-chicago.org
SUMMARY:Klubo de Mortaj Krokodiloj (Online)
DESCRIPTION:Ni kunvenos rete.   We will meet online.\nContact us at: esperanto-chicago@googlegroups.com  \nUse this link to join the online meeting: \nesperanto-chicago.org/retkunveno
URL:http://esperanto-chicago.org/event/klubo-de-mortaj-krokodiloj-online-46/
CATEGORIES:Klubo de Mortaj Krokodiloj
ATTACH;FMTTYPE=image/jpeg:http://esperanto-chicago.org/wordpress/wp-content/uploads/2022/03/2022-03-16-14_12_41-Untitled-presentation-Google-Slides.jpg
ORGANIZER;CN="Eric Killian":MAILTO:ericesperanto@gmail.com
END:VEVENT
BEGIN:VEVENT
DTSTART;TZID=America/Chicago:20230611T090000
DTEND;TZID=America/Chicago:20230611T110000
DTSTAMP:20260425T074524
CREATED:20230507T143719Z
LAST-MODIFIED:20230611T134145Z
UID:10000133-1686474000-1686481200@esperanto-chicago.org
SUMMARY:Kafeja Kunveno / Coffee Time (Online)
DESCRIPTION:Ni trinkos kafon kaj parolos Esperanton! Ne zorgu pri via lingva nivelo\, ni parolas ankaŭ la anglan! – We will drink coffee and speak Esperanto! Don’t worry if you don’t speak Esperanto yet\, we also speak English. \nContact us at: esperanto-chicago@googlegroups.com \nWe will meet online!  Use the link below:\nhttp://esperanto-chicago.org/retkunveno \nTo join The Chicago Esperanto Society click here: http://esperanto-chicago.org/members/
URL:http://esperanto-chicago.org/event/kafeja-kunveno-coffee-time-online-42/
CATEGORIES:Kafeja Kunveno
ATTACH;FMTTYPE=image/jpeg:http://esperanto-chicago.org/wordpress/wp-content/uploads/2022/03/2022-03-16-14_51_42-Titoloj-Google-Slides.jpg
ORGANIZER;CN="Randy Ream":MAILTO:rsream@gmail.com
END:VEVENT
BEGIN:VEVENT
DTSTART;TZID=America/Chicago:20230608T193000
DTEND;TZID=America/Chicago:20230608T203000
DTSTAMP:20260425T074524
CREATED:20230507T143720Z
LAST-MODIFIED:20230507T143720Z
UID:10000136-1686252600-1686256200@esperanto-chicago.org
SUMMARY:Klubo de Mortaj Krokodiloj (Online)
DESCRIPTION:Ni kunvenos rete.   We will meet online.\nContact us at: esperanto-chicago@googlegroups.com  \nUse this link to join the online meeting: \nesperanto-chicago.org/retkunveno
URL:http://esperanto-chicago.org/event/klubo-de-mortaj-krokodiloj-online-45/
CATEGORIES:Klubo de Mortaj Krokodiloj
ATTACH;FMTTYPE=image/jpeg:http://esperanto-chicago.org/wordpress/wp-content/uploads/2022/03/2022-03-16-14_12_41-Untitled-presentation-Google-Slides.jpg
ORGANIZER;CN="Eric Killian":MAILTO:ericesperanto@gmail.com
END:VEVENT
BEGIN:VEVENT
DTSTART;TZID=America/Chicago:20230604T090000
DTEND;TZID=America/Chicago:20230604T110000
DTSTAMP:20260425T074524
CREATED:20230507T143720Z
LAST-MODIFIED:20230507T143720Z
UID:10000135-1685869200-1685876400@esperanto-chicago.org
SUMMARY:Kafeja Kunveno / Coffee Time (Online)
DESCRIPTION:Ni trinkos kafon kaj parolos Esperanton! Ne zorgu pri via lingva nivelo\, ni parolas ankaŭ la anglan! – We will drink coffee and speak Esperanto! Don’t worry if you don’t speak Esperanto yet\, we also speak English. \nContact us at: esperanto-chicago@googlegroups.com  \nWe will meet online!  Use the link below:\nhttp://esperanto-chicago.org/retkunveno \nTo join The Chicago Esperanto Society click here: http://esperanto-chicago.org/members/
URL:http://esperanto-chicago.org/event/kafeja-kunveno-coffee-time-online-43/
CATEGORIES:Kafeja Kunveno
ATTACH;FMTTYPE=image/jpeg:http://esperanto-chicago.org/wordpress/wp-content/uploads/2022/03/2022-03-16-14_51_42-Titoloj-Google-Slides.jpg
ORGANIZER;CN="Randy Ream":MAILTO:rsream@gmail.com
END:VEVENT
BEGIN:VEVENT
DTSTART;TZID=America/Chicago:20230601T193000
DTEND;TZID=America/Chicago:20230601T203000
DTSTAMP:20260425T074524
CREATED:20230507T143719Z
LAST-MODIFIED:20230507T143719Z
UID:10000134-1685647800-1685651400@esperanto-chicago.org
SUMMARY:Klubo de Mortaj Krokodiloj (Online)
DESCRIPTION:Ni kunvenos rete.   We will meet online.\nContact us at: esperanto-chicago@googlegroups.com  \nUse this link to join the online meeting: \nesperanto-chicago.org/retkunveno
URL:http://esperanto-chicago.org/event/klubo-de-mortaj-krokodiloj-online-44/
CATEGORIES:Klubo de Mortaj Krokodiloj
ATTACH;FMTTYPE=image/jpeg:http://esperanto-chicago.org/wordpress/wp-content/uploads/2022/03/2022-03-16-14_12_41-Untitled-presentation-Google-Slides.jpg
ORGANIZER;CN="Eric Killian":MAILTO:ericesperanto@gmail.com
END:VEVENT
BEGIN:VEVENT
DTSTART;TZID=America/Chicago:20230525T193000
DTEND;TZID=America/Chicago:20230525T203000
DTSTAMP:20260425T074524
CREATED:20230507T143715Z
LAST-MODIFIED:20230507T143715Z
UID:10000132-1685043000-1685046600@esperanto-chicago.org
SUMMARY:Klubo de Mortaj Krokodiloj (Online)
DESCRIPTION:Ni kunvenos rete.   We will meet online.\nContact us at: esperanto-chicago@googlegroups.com  \nUse this link to join the online meeting: \nesperanto-chicago.org/retkunveno
URL:http://esperanto-chicago.org/event/klubo-de-mortaj-krokodiloj-online-43/
CATEGORIES:Klubo de Mortaj Krokodiloj
ATTACH;FMTTYPE=image/jpeg:http://esperanto-chicago.org/wordpress/wp-content/uploads/2022/03/2022-03-16-14_12_41-Untitled-presentation-Google-Slides.jpg
ORGANIZER;CN="Eric Killian":MAILTO:ericesperanto@gmail.com
END:VEVENT
BEGIN:VEVENT
DTSTART;TZID=America/Chicago:20230521T090000
DTEND;TZID=America/Chicago:20230521T110000
DTSTAMP:20260425T074524
CREATED:20230507T143715Z
LAST-MODIFIED:20230507T143715Z
UID:10000131-1684659600-1684666800@esperanto-chicago.org
SUMMARY:Kafeja Kunveno / Coffee Time (Online)
DESCRIPTION:Ni trinkos kafon kaj parolos Esperanton! Ne zorgu pri via lingva nivelo\, ni parolas ankaŭ la anglan! – We will drink coffee and speak Esperanto! Don’t worry if you don’t speak Esperanto yet\, we also speak English. \nContact us at: esperanto-chicago@googlegroups.com  \nWe will meet online!  Use the link below:\nhttp://esperanto-chicago.org/retkunveno \nTo join The Chicago Esperanto Society click here: http://esperanto-chicago.org/members/
URL:http://esperanto-chicago.org/event/kafeja-kunveno-coffee-time-online-41/
CATEGORIES:Kafeja Kunveno
ATTACH;FMTTYPE=image/jpeg:http://esperanto-chicago.org/wordpress/wp-content/uploads/2022/03/2022-03-16-14_51_42-Titoloj-Google-Slides.jpg
ORGANIZER;CN="Randy Ream":MAILTO:rsream@gmail.com
END:VEVENT
BEGIN:VEVENT
DTSTART;TZID=America/Chicago:20230518T193000
DTEND;TZID=America/Chicago:20230518T203000
DTSTAMP:20260425T074524
CREATED:20230507T143714Z
LAST-MODIFIED:20230507T143714Z
UID:10000030-1684438200-1684441800@esperanto-chicago.org
SUMMARY:Klubo de Mortaj Krokodiloj (Online)
DESCRIPTION:Ni kunvenos rete.   We will meet online.\nContact us at: esperanto-chicago@googlegroups.com  \nUse this link to join the online meeting: \nesperanto-chicago.org/retkunveno
URL:http://esperanto-chicago.org/event/klubo-de-mortaj-krokodiloj-online-42/
CATEGORIES:Klubo de Mortaj Krokodiloj
ATTACH;FMTTYPE=image/jpeg:http://esperanto-chicago.org/wordpress/wp-content/uploads/2022/03/2022-03-16-14_12_41-Untitled-presentation-Google-Slides.jpg
ORGANIZER;CN="Eric Killian":MAILTO:ericesperanto@gmail.com
END:VEVENT
BEGIN:VEVENT
DTSTART;TZID=America/Chicago:20230514T090000
DTEND;TZID=America/Chicago:20230514T110000
DTSTAMP:20260425T074524
CREATED:20230507T143713Z
LAST-MODIFIED:20230507T143713Z
UID:10000029-1684054800-1684062000@esperanto-chicago.org
SUMMARY:Kafeja Kunveno / Coffee Time (Online)
DESCRIPTION:Ni trinkos kafon kaj parolos Esperanton! Ne zorgu pri via lingva nivelo\, ni parolas ankaŭ la anglan! – We will drink coffee and speak Esperanto! Don’t worry if you don’t speak Esperanto yet\, we also speak English. \nContact us at: esperanto-chicago@googlegroups.com  \nWe will meet online!  Use the link below:\nhttp://esperanto-chicago.org/retkunveno \nTo join The Chicago Esperanto Society click here: http://esperanto-chicago.org/members/
URL:http://esperanto-chicago.org/event/kafeja-kunveno-coffee-time-online-40/
CATEGORIES:Kafeja Kunveno
ATTACH;FMTTYPE=image/jpeg:http://esperanto-chicago.org/wordpress/wp-content/uploads/2022/03/2022-03-16-14_51_42-Titoloj-Google-Slides.jpg
ORGANIZER;CN="Randy Ream":MAILTO:rsream@gmail.com
END:VEVENT
BEGIN:VEVENT
DTSTART;TZID=America/Chicago:20230511T193000
DTEND;TZID=America/Chicago:20230511T203000
DTSTAMP:20260425T074524
CREATED:20230313T105410Z
LAST-MODIFIED:20230313T105410Z
UID:10000026-1683833400-1683837000@esperanto-chicago.org
SUMMARY:Klubo de Mortaj Krokodiloj (Online)
DESCRIPTION:Ni kunvenos rete.   We will meet online.\nContact us at: esperanto-chicago@googlegroups.com  \nUse this link to join the online meeting: \nesperanto-chicago.org/retkunveno
URL:http://esperanto-chicago.org/event/klubo-de-mortaj-krokodiloj-online-41/
CATEGORIES:Klubo de Mortaj Krokodiloj
ATTACH;FMTTYPE=image/jpeg:http://esperanto-chicago.org/wordpress/wp-content/uploads/2022/03/2022-03-16-14_12_41-Untitled-presentation-Google-Slides.jpg
ORGANIZER;CN="Eric Killian":MAILTO:ericesperanto@gmail.com
END:VEVENT
BEGIN:VEVENT
DTSTART;TZID=America/Chicago:20230507T090000
DTEND;TZID=America/Chicago:20230507T110000
DTSTAMP:20260425T074524
CREATED:20230313T105409Z
LAST-MODIFIED:20230313T105409Z
UID:10000025-1683450000-1683457200@esperanto-chicago.org
SUMMARY:Kafeja Kunveno / Coffee Time (Online)
DESCRIPTION:Ni trinkos kafon kaj parolos Esperanton! Ne zorgu pri via lingva nivelo\, ni parolas ankaŭ la anglan! – We will drink coffee and speak Esperanto! Don’t worry if you don’t speak Esperanto yet\, we also speak English. \nContact us at: esperanto-chicago@googlegroups.com  \nWe will meet online!  Use the link below:\nhttp://esperanto-chicago.org/retkunveno \nTo join The Chicago Esperanto Society click here: http://esperanto-chicago.org/members/
URL:http://esperanto-chicago.org/event/kafeja-kunveno-coffee-time-online-39/
CATEGORIES:Kafeja Kunveno
ATTACH;FMTTYPE=image/jpeg:http://esperanto-chicago.org/wordpress/wp-content/uploads/2022/03/2022-03-16-14_51_42-Titoloj-Google-Slides.jpg
ORGANIZER;CN="Randy Ream":MAILTO:rsream@gmail.com
END:VEVENT
BEGIN:VEVENT
DTSTART;TZID=America/Chicago:20230504T193000
DTEND;TZID=America/Chicago:20230504T203000
DTSTAMP:20260425T074524
CREATED:20230313T105407Z
LAST-MODIFIED:20230313T105407Z
UID:10000024-1683228600-1683232200@esperanto-chicago.org
SUMMARY:Klubo de Mortaj Krokodiloj (Online)
DESCRIPTION:Ni kunvenos rete.   We will meet online.\nContact us at: esperanto-chicago@googlegroups.com  \nUse this link to join the online meeting: \nesperanto-chicago.org/retkunveno
URL:http://esperanto-chicago.org/event/klubo-de-mortaj-krokodiloj-online-40/
CATEGORIES:Klubo de Mortaj Krokodiloj
ATTACH;FMTTYPE=image/jpeg:http://esperanto-chicago.org/wordpress/wp-content/uploads/2022/03/2022-03-16-14_12_41-Untitled-presentation-Google-Slides.jpg
ORGANIZER;CN="Eric Killian":MAILTO:ericesperanto@gmail.com
END:VEVENT
BEGIN:VEVENT
DTSTART;TZID=America/Chicago:20230430T090000
DTEND;TZID=America/Chicago:20230430T110000
DTSTAMP:20260425T074524
CREATED:20230313T105406Z
LAST-MODIFIED:20230313T105406Z
UID:10000023-1682845200-1682852400@esperanto-chicago.org
SUMMARY:Kafeja Kunveno / Coffee Time (Online)
DESCRIPTION:Ni trinkos kafon kaj parolos Esperanton! Ne zorgu pri via lingva nivelo\, ni parolas ankaŭ la anglan! – We will drink coffee and speak Esperanto! Don’t worry if you don’t speak Esperanto yet\, we also speak English. \nContact us at: esperanto-chicago@googlegroups.com  \nWe will meet online!  Use the link below:\nhttp://esperanto-chicago.org/retkunveno \nTo join The Chicago Esperanto Society click here: http://esperanto-chicago.org/members/
URL:http://esperanto-chicago.org/event/kafeja-kunveno-coffee-time-online-38/
CATEGORIES:Kafeja Kunveno
ATTACH;FMTTYPE=image/jpeg:http://esperanto-chicago.org/wordpress/wp-content/uploads/2022/03/2022-03-16-14_51_42-Titoloj-Google-Slides.jpg
ORGANIZER;CN="Randy Ream":MAILTO:rsream@gmail.com
END:VEVENT
BEGIN:VEVENT
DTSTART;TZID=America/Chicago:20230427T193000
DTEND;TZID=America/Chicago:20230427T203000
DTSTAMP:20260425T074524
CREATED:20230313T105206Z
LAST-MODIFIED:20230313T105206Z
UID:10000022-1682623800-1682627400@esperanto-chicago.org
SUMMARY:Klubo de Mortaj Krokodiloj (Online)
DESCRIPTION:Ni kunvenos rete.   We will meet online.\nContact us at: esperanto-chicago@googlegroups.com  \nUse this link to join the online meeting: \nesperanto-chicago.org/retkunveno
URL:http://esperanto-chicago.org/event/klubo-de-mortaj-krokodiloj-online-39/
CATEGORIES:Klubo de Mortaj Krokodiloj
ATTACH;FMTTYPE=image/jpeg:http://esperanto-chicago.org/wordpress/wp-content/uploads/2022/03/2022-03-16-14_12_41-Untitled-presentation-Google-Slides.jpg
ORGANIZER;CN="Eric Killian":MAILTO:ericesperanto@gmail.com
END:VEVENT
BEGIN:VEVENT
DTSTART;TZID=America/Chicago:20230423T090000
DTEND;TZID=America/Chicago:20230423T110000
DTSTAMP:20260425T074524
CREATED:20230313T105205Z
LAST-MODIFIED:20230313T105205Z
UID:10000021-1682240400-1682247600@esperanto-chicago.org
SUMMARY:Kafeja Kunveno / Coffee Time (Online)
DESCRIPTION:Ni trinkos kafon kaj parolos Esperanton! Ne zorgu pri via lingva nivelo\, ni parolas ankaŭ la anglan! – We will drink coffee and speak Esperanto! Don’t worry if you don’t speak Esperanto yet\, we also speak English. \nContact us at: esperanto-chicago@googlegroups.com  \nWe will meet online!  Use the link below:\nhttp://esperanto-chicago.org/retkunveno \nTo join The Chicago Esperanto Society click here: http://esperanto-chicago.org/members/
URL:http://esperanto-chicago.org/event/kafeja-kunveno-coffee-time-online-37/
CATEGORIES:Kafeja Kunveno
ATTACH;FMTTYPE=image/jpeg:http://esperanto-chicago.org/wordpress/wp-content/uploads/2022/03/2022-03-16-14_51_42-Titoloj-Google-Slides.jpg
ORGANIZER;CN="Randy Ream":MAILTO:rsream@gmail.com
END:VEVENT
BEGIN:VEVENT
DTSTART;TZID=America/Chicago:20230420T193000
DTEND;TZID=America/Chicago:20230420T203000
DTSTAMP:20260425T074524
CREATED:20230313T105205Z
LAST-MODIFIED:20230313T105205Z
UID:10000130-1682019000-1682022600@esperanto-chicago.org
SUMMARY:Klubo de Mortaj Krokodiloj (Online)
DESCRIPTION:Ni kunvenos rete.   We will meet online.\nContact us at: esperanto-chicago@googlegroups.com  \nUse this link to join the online meeting: \nesperanto-chicago.org/retkunveno
URL:http://esperanto-chicago.org/event/klubo-de-mortaj-krokodiloj-online-38/
CATEGORIES:Klubo de Mortaj Krokodiloj
ATTACH;FMTTYPE=image/jpeg:http://esperanto-chicago.org/wordpress/wp-content/uploads/2022/03/2022-03-16-14_12_41-Untitled-presentation-Google-Slides.jpg
ORGANIZER;CN="Eric Killian":MAILTO:ericesperanto@gmail.com
END:VEVENT
BEGIN:VEVENT
DTSTART;TZID=America/Chicago:20230416T090000
DTEND;TZID=America/Chicago:20230416T110000
DTSTAMP:20260425T074524
CREATED:20230313T105204Z
LAST-MODIFIED:20230313T105204Z
UID:10000129-1681635600-1681642800@esperanto-chicago.org
SUMMARY:Kafeja Kunveno / Coffee Time (Online)
DESCRIPTION:Ni trinkos kafon kaj parolos Esperanton! Ne zorgu pri via lingva nivelo\, ni parolas ankaŭ la anglan! – We will drink coffee and speak Esperanto! Don’t worry if you don’t speak Esperanto yet\, we also speak English. \nContact us at: esperanto-chicago@googlegroups.com  \nWe will meet online!  Use the link below:\nhttp://esperanto-chicago.org/retkunveno \nTo join The Chicago Esperanto Society click here: http://esperanto-chicago.org/members/
URL:http://esperanto-chicago.org/event/kafeja-kunveno-coffee-time-online-36/
CATEGORIES:Kafeja Kunveno
ATTACH;FMTTYPE=image/jpeg:http://esperanto-chicago.org/wordpress/wp-content/uploads/2022/03/2022-03-16-14_51_42-Titoloj-Google-Slides.jpg
ORGANIZER;CN="Randy Ream":MAILTO:rsream@gmail.com
END:VEVENT
BEGIN:VEVENT
DTSTART;TZID=America/Chicago:20230413T193000
DTEND;TZID=America/Chicago:20230413T203000
DTSTAMP:20260425T074524
CREATED:20230313T105202Z
LAST-MODIFIED:20230313T105202Z
UID:10000128-1681414200-1681417800@esperanto-chicago.org
SUMMARY:Klubo de Mortaj Krokodiloj (Online)
DESCRIPTION:Ni kunvenos rete.   We will meet online.\nContact us at: esperanto-chicago@googlegroups.com  \nUse this link to join the online meeting: \nesperanto-chicago.org/retkunveno
URL:http://esperanto-chicago.org/event/klubo-de-mortaj-krokodiloj-online-37/
CATEGORIES:Klubo de Mortaj Krokodiloj
ATTACH;FMTTYPE=image/jpeg:http://esperanto-chicago.org/wordpress/wp-content/uploads/2022/03/2022-03-16-14_12_41-Untitled-presentation-Google-Slides.jpg
ORGANIZER;CN="Eric Killian":MAILTO:ericesperanto@gmail.com
END:VEVENT
END:VCALENDAR