BEGIN:VCALENDAR
VERSION:2.0
PRODID:-//La Esperanto-Societo de Ĉikago - ECPv6.15.20//NONSGML v1.0//EN
CALSCALE:GREGORIAN
METHOD:PUBLISH
X-WR-CALNAME:La Esperanto-Societo de Ĉikago
X-ORIGINAL-URL:http://esperanto-chicago.org
X-WR-CALDESC:Events for La Esperanto-Societo de Ĉikago
REFRESH-INTERVAL;VALUE=DURATION:PT1H
X-Robots-Tag:noindex
X-PUBLISHED-TTL:PT1H
BEGIN:VTIMEZONE
TZID:America/Chicago
BEGIN:DAYLIGHT
TZOFFSETFROM:-0600
TZOFFSETTO:-0500
TZNAME:CDT
DTSTART:20220313T080000
END:DAYLIGHT
BEGIN:STANDARD
TZOFFSETFROM:-0500
TZOFFSETTO:-0600
TZNAME:CST
DTSTART:20221106T070000
END:STANDARD
BEGIN:DAYLIGHT
TZOFFSETFROM:-0600
TZOFFSETTO:-0500
TZNAME:CDT
DTSTART:20230312T080000
END:DAYLIGHT
BEGIN:STANDARD
TZOFFSETFROM:-0500
TZOFFSETTO:-0600
TZNAME:CST
DTSTART:20231105T070000
END:STANDARD
BEGIN:DAYLIGHT
TZOFFSETFROM:-0600
TZOFFSETTO:-0500
TZNAME:CDT
DTSTART:20240310T080000
END:DAYLIGHT
BEGIN:STANDARD
TZOFFSETFROM:-0500
TZOFFSETTO:-0600
TZNAME:CST
DTSTART:20241103T070000
END:STANDARD
BEGIN:DAYLIGHT
TZOFFSETFROM:-0600
TZOFFSETTO:-0500
TZNAME:CDT
DTSTART:20250309T080000
END:DAYLIGHT
BEGIN:STANDARD
TZOFFSETFROM:-0500
TZOFFSETTO:-0600
TZNAME:CST
DTSTART:20251102T070000
END:STANDARD
END:VTIMEZONE
BEGIN:VEVENT
DTSTART;TZID=America/Chicago:20240104T193000
DTEND;TZID=America/Chicago:20240104T203000
DTSTAMP:20260424T051635
CREATED:20231110T014305Z
LAST-MODIFIED:20231110T014305Z
UID:10000183-1704396600-1704400200@esperanto-chicago.org
SUMMARY:Klubo de Mortaj Krokodiloj (Online)
DESCRIPTION:Ni kunvenos rete.   We will meet online.\nContact us at: esperanto-chicago@googlegroups.com  \nUse this link to join the online meeting: \nesperanto-chicago.org/retkunveno
URL:http://esperanto-chicago.org/event/klubo-de-mortaj-krokodiloj-online-76/
CATEGORIES:Klubo de Mortaj Krokodiloj
ATTACH;FMTTYPE=image/jpeg:http://esperanto-chicago.org/wordpress/wp-content/uploads/2022/03/2022-03-16-14_12_41-Untitled-presentation-Google-Slides.jpg
ORGANIZER;CN="Eric Killian":MAILTO:ericesperanto@gmail.com
END:VEVENT
BEGIN:VEVENT
DTSTART;TZID=America/Chicago:20231221T193000
DTEND;TZID=America/Chicago:20231221T203000
DTSTAMP:20260424T051635
CREATED:20231110T014217Z
LAST-MODIFIED:20231110T014217Z
UID:10000179-1703187000-1703190600@esperanto-chicago.org
SUMMARY:Klubo de Mortaj Krokodiloj (Online)
DESCRIPTION:Ni kunvenos rete.   We will meet online.\nContact us at: esperanto-chicago@googlegroups.com  \nUse this link to join the online meeting: \nesperanto-chicago.org/retkunveno
URL:http://esperanto-chicago.org/event/klubo-de-mortaj-krokodiloj-online-74/
CATEGORIES:Klubo de Mortaj Krokodiloj
ATTACH;FMTTYPE=image/jpeg:http://esperanto-chicago.org/wordpress/wp-content/uploads/2022/03/2022-03-16-14_12_41-Untitled-presentation-Google-Slides.jpg
ORGANIZER;CN="Eric Killian":MAILTO:ericesperanto@gmail.com
END:VEVENT
BEGIN:VEVENT
DTSTART;TZID=America/Chicago:20231214T193000
DTEND;TZID=America/Chicago:20231214T203000
DTSTAMP:20260424T051635
CREATED:20231110T014216Z
LAST-MODIFIED:20231110T014216Z
UID:10000178-1702582200-1702585800@esperanto-chicago.org
SUMMARY:Klubo de Mortaj Krokodiloj (Online)
DESCRIPTION:Ni kunvenos rete.   We will meet online.\nContact us at: esperanto-chicago@googlegroups.com  \nUse this link to join the online meeting: \nesperanto-chicago.org/retkunveno
URL:http://esperanto-chicago.org/event/klubo-de-mortaj-krokodiloj-online-73/
CATEGORIES:Klubo de Mortaj Krokodiloj
ATTACH;FMTTYPE=image/jpeg:http://esperanto-chicago.org/wordpress/wp-content/uploads/2022/03/2022-03-16-14_12_41-Untitled-presentation-Google-Slides.jpg
ORGANIZER;CN="Eric Killian":MAILTO:ericesperanto@gmail.com
END:VEVENT
BEGIN:VEVENT
DTSTART;TZID=America/Chicago:20231207T193000
DTEND;TZID=America/Chicago:20231207T203000
DTSTAMP:20260424T051635
CREATED:20231110T014201Z
LAST-MODIFIED:20231110T014201Z
UID:10000176-1701977400-1701981000@esperanto-chicago.org
SUMMARY:Klubo de Mortaj Krokodiloj (Online)
DESCRIPTION:Ni kunvenos rete.   We will meet online.\nContact us at: esperanto-chicago@googlegroups.com  \nUse this link to join the online meeting: \nesperanto-chicago.org/retkunveno
URL:http://esperanto-chicago.org/event/klubo-de-mortaj-krokodiloj-online-72/
CATEGORIES:Klubo de Mortaj Krokodiloj
ATTACH;FMTTYPE=image/jpeg:http://esperanto-chicago.org/wordpress/wp-content/uploads/2022/03/2022-03-16-14_12_41-Untitled-presentation-Google-Slides.jpg
ORGANIZER;CN="Eric Killian":MAILTO:ericesperanto@gmail.com
END:VEVENT
BEGIN:VEVENT
DTSTART;TZID=America/Chicago:20231130T193000
DTEND;TZID=America/Chicago:20231130T203000
DTSTAMP:20260424T051635
CREATED:20231110T014200Z
LAST-MODIFIED:20231110T014200Z
UID:10000174-1701372600-1701376200@esperanto-chicago.org
SUMMARY:Klubo de Mortaj Krokodiloj (Online)
DESCRIPTION:Ni kunvenos rete.   We will meet online.\nContact us at: esperanto-chicago@googlegroups.com  \nUse this link to join the online meeting: \nesperanto-chicago.org/retkunveno
URL:http://esperanto-chicago.org/event/klubo-de-mortaj-krokodiloj-online-71/
CATEGORIES:Klubo de Mortaj Krokodiloj
ATTACH;FMTTYPE=image/jpeg:http://esperanto-chicago.org/wordpress/wp-content/uploads/2022/03/2022-03-16-14_12_41-Untitled-presentation-Google-Slides.jpg
ORGANIZER;CN="Eric Killian":MAILTO:ericesperanto@gmail.com
END:VEVENT
BEGIN:VEVENT
DTSTART;TZID=America/Chicago:20231116T193000
DTEND;TZID=America/Chicago:20231116T203000
DTSTAMP:20260424T051635
CREATED:20231110T014157Z
LAST-MODIFIED:20231110T014157Z
UID:10000171-1700163000-1700166600@esperanto-chicago.org
SUMMARY:Klubo de Mortaj Krokodiloj (Online)
DESCRIPTION:Ni kunvenos rete.   We will meet online.\nContact us at: esperanto-chicago@googlegroups.com  \nUse this link to join the online meeting: \nesperanto-chicago.org/retkunveno
URL:http://esperanto-chicago.org/event/klubo-de-mortaj-krokodiloj-online-69/
CATEGORIES:Klubo de Mortaj Krokodiloj
ATTACH;FMTTYPE=image/jpeg:http://esperanto-chicago.org/wordpress/wp-content/uploads/2022/03/2022-03-16-14_12_41-Untitled-presentation-Google-Slides.jpg
ORGANIZER;CN="Eric Killian":MAILTO:ericesperanto@gmail.com
END:VEVENT
BEGIN:VEVENT
DTSTART;TZID=America/Chicago:20231109T193000
DTEND;TZID=America/Chicago:20231109T203000
DTSTAMP:20260424T051635
CREATED:20230901T012641Z
LAST-MODIFIED:20230901T012641Z
UID:10000166-1699558200-1699561800@esperanto-chicago.org
SUMMARY:Klubo de Mortaj Krokodiloj (Online)
DESCRIPTION:Ni kunvenos rete.   We will meet online.\nContact us at: esperanto-chicago@googlegroups.com  \nUse this link to join the online meeting: \nesperanto-chicago.org/retkunveno
URL:http://esperanto-chicago.org/event/klubo-de-mortaj-krokodiloj-online-68/
CATEGORIES:Klubo de Mortaj Krokodiloj
ATTACH;FMTTYPE=image/jpeg:http://esperanto-chicago.org/wordpress/wp-content/uploads/2022/03/2022-03-16-14_12_41-Untitled-presentation-Google-Slides.jpg
ORGANIZER;CN="Eric Killian":MAILTO:ericesperanto@gmail.com
END:VEVENT
BEGIN:VEVENT
DTSTART;TZID=America/Chicago:20231102T193000
DTEND;TZID=America/Chicago:20231102T203000
DTSTAMP:20260424T051635
CREATED:20230901T012640Z
LAST-MODIFIED:20230901T012640Z
UID:10000164-1698953400-1698957000@esperanto-chicago.org
SUMMARY:Klubo de Mortaj Krokodiloj (Online)
DESCRIPTION:Ni kunvenos rete.   We will meet online.\nContact us at: esperanto-chicago@googlegroups.com  \nUse this link to join the online meeting: \nesperanto-chicago.org/retkunveno
URL:http://esperanto-chicago.org/event/klubo-de-mortaj-krokodiloj-online-67/
CATEGORIES:Klubo de Mortaj Krokodiloj
ATTACH;FMTTYPE=image/jpeg:http://esperanto-chicago.org/wordpress/wp-content/uploads/2022/03/2022-03-16-14_12_41-Untitled-presentation-Google-Slides.jpg
ORGANIZER;CN="Eric Killian":MAILTO:ericesperanto@gmail.com
END:VEVENT
BEGIN:VEVENT
DTSTART;TZID=America/Chicago:20231026T193000
DTEND;TZID=America/Chicago:20231026T203000
DTSTAMP:20260424T051635
CREATED:20230901T012626Z
LAST-MODIFIED:20230901T012626Z
UID:10000162-1698348600-1698352200@esperanto-chicago.org
SUMMARY:Klubo de Mortaj Krokodiloj (Online)
DESCRIPTION:Ni kunvenos rete.   We will meet online.\nContact us at: esperanto-chicago@googlegroups.com  \nUse this link to join the online meeting: \nesperanto-chicago.org/retkunveno
URL:http://esperanto-chicago.org/event/klubo-de-mortaj-krokodiloj-online-66/
CATEGORIES:Klubo de Mortaj Krokodiloj
ATTACH;FMTTYPE=image/jpeg:http://esperanto-chicago.org/wordpress/wp-content/uploads/2022/03/2022-03-16-14_12_41-Untitled-presentation-Google-Slides.jpg
ORGANIZER;CN="Eric Killian":MAILTO:ericesperanto@gmail.com
END:VEVENT
BEGIN:VEVENT
DTSTART;TZID=America/Chicago:20231019T193000
DTEND;TZID=America/Chicago:20231019T203000
DTSTAMP:20260424T051635
CREATED:20230901T012625Z
LAST-MODIFIED:20230901T012625Z
UID:10000160-1697743800-1697747400@esperanto-chicago.org
SUMMARY:Klubo de Mortaj Krokodiloj (Online)
DESCRIPTION:Ni kunvenos rete.   We will meet online.\nContact us at: esperanto-chicago@googlegroups.com  \nUse this link to join the online meeting: \nesperanto-chicago.org/retkunveno
URL:http://esperanto-chicago.org/event/klubo-de-mortaj-krokodiloj-online-65/
CATEGORIES:Klubo de Mortaj Krokodiloj
ATTACH;FMTTYPE=image/jpeg:http://esperanto-chicago.org/wordpress/wp-content/uploads/2022/03/2022-03-16-14_12_41-Untitled-presentation-Google-Slides.jpg
ORGANIZER;CN="Eric Killian":MAILTO:ericesperanto@gmail.com
END:VEVENT
BEGIN:VEVENT
DTSTART;TZID=America/Chicago:20231012T193000
DTEND;TZID=America/Chicago:20231012T203000
DTSTAMP:20260424T051635
CREATED:20230901T012625Z
LAST-MODIFIED:20230901T012625Z
UID:10000158-1697139000-1697142600@esperanto-chicago.org
SUMMARY:Klubo de Mortaj Krokodiloj (Online)
DESCRIPTION:Ni kunvenos rete.   We will meet online.\nContact us at: esperanto-chicago@googlegroups.com  \nUse this link to join the online meeting: \nesperanto-chicago.org/retkunveno
URL:http://esperanto-chicago.org/event/klubo-de-mortaj-krokodiloj-online-64/
CATEGORIES:Klubo de Mortaj Krokodiloj
ATTACH;FMTTYPE=image/jpeg:http://esperanto-chicago.org/wordpress/wp-content/uploads/2022/03/2022-03-16-14_12_41-Untitled-presentation-Google-Slides.jpg
ORGANIZER;CN="Eric Killian":MAILTO:ericesperanto@gmail.com
END:VEVENT
BEGIN:VEVENT
DTSTART;TZID=America/Chicago:20231005T193000
DTEND;TZID=America/Chicago:20231005T203000
DTSTAMP:20260424T051635
CREATED:20230901T012610Z
LAST-MODIFIED:20230901T012610Z
UID:10000156-1696534200-1696537800@esperanto-chicago.org
SUMMARY:Klubo de Mortaj Krokodiloj (Online)
DESCRIPTION:Ni kunvenos rete.   We will meet online.\nContact us at: esperanto-chicago@googlegroups.com  \nUse this link to join the online meeting: \nesperanto-chicago.org/retkunveno
URL:http://esperanto-chicago.org/event/klubo-de-mortaj-krokodiloj-online-63/
CATEGORIES:Klubo de Mortaj Krokodiloj
ATTACH;FMTTYPE=image/jpeg:http://esperanto-chicago.org/wordpress/wp-content/uploads/2022/03/2022-03-16-14_12_41-Untitled-presentation-Google-Slides.jpg
ORGANIZER;CN="Eric Killian":MAILTO:ericesperanto@gmail.com
END:VEVENT
BEGIN:VEVENT
DTSTART;TZID=America/Chicago:20230928T193000
DTEND;TZID=America/Chicago:20230928T203000
DTSTAMP:20260424T051635
CREATED:20230901T012609Z
LAST-MODIFIED:20230901T012609Z
UID:10000154-1695929400-1695933000@esperanto-chicago.org
SUMMARY:Klubo de Mortaj Krokodiloj (Online)
DESCRIPTION:Ni kunvenos rete.   We will meet online.\nContact us at: esperanto-chicago@googlegroups.com  \nUse this link to join the online meeting: \nesperanto-chicago.org/retkunveno
URL:http://esperanto-chicago.org/event/klubo-de-mortaj-krokodiloj-online-62/
CATEGORIES:Klubo de Mortaj Krokodiloj
ATTACH;FMTTYPE=image/jpeg:http://esperanto-chicago.org/wordpress/wp-content/uploads/2022/03/2022-03-16-14_12_41-Untitled-presentation-Google-Slides.jpg
ORGANIZER;CN="Eric Killian":MAILTO:ericesperanto@gmail.com
END:VEVENT
BEGIN:VEVENT
DTSTART;TZID=America/Chicago:20230921T193000
DTEND;TZID=America/Chicago:20230921T203000
DTSTAMP:20260424T051635
CREATED:20230901T012608Z
LAST-MODIFIED:20230901T012608Z
UID:10000152-1695324600-1695328200@esperanto-chicago.org
SUMMARY:Klubo de Mortaj Krokodiloj (Online)
DESCRIPTION:Ni kunvenos rete.   We will meet online.\nContact us at: esperanto-chicago@googlegroups.com  \nUse this link to join the online meeting: \nesperanto-chicago.org/retkunveno
URL:http://esperanto-chicago.org/event/klubo-de-mortaj-krokodiloj-online-61/
CATEGORIES:Klubo de Mortaj Krokodiloj
ATTACH;FMTTYPE=image/jpeg:http://esperanto-chicago.org/wordpress/wp-content/uploads/2022/03/2022-03-16-14_12_41-Untitled-presentation-Google-Slides.jpg
ORGANIZER;CN="Eric Killian":MAILTO:ericesperanto@gmail.com
END:VEVENT
BEGIN:VEVENT
DTSTART;TZID=America/Chicago:20230914T193000
DTEND;TZID=America/Chicago:20230914T203000
DTSTAMP:20260424T051635
CREATED:20230901T012607Z
LAST-MODIFIED:20230901T012607Z
UID:10000050-1694719800-1694723400@esperanto-chicago.org
SUMMARY:Klubo de Mortaj Krokodiloj (Online)
DESCRIPTION:Ni kunvenos rete.   We will meet online.\nContact us at: esperanto-chicago@googlegroups.com  \nUse this link to join the online meeting: \nesperanto-chicago.org/retkunveno
URL:http://esperanto-chicago.org/event/klubo-de-mortaj-krokodiloj-online-60/
CATEGORIES:Klubo de Mortaj Krokodiloj
ATTACH;FMTTYPE=image/jpeg:http://esperanto-chicago.org/wordpress/wp-content/uploads/2022/03/2022-03-16-14_12_41-Untitled-presentation-Google-Slides.jpg
ORGANIZER;CN="Eric Killian":MAILTO:ericesperanto@gmail.com
END:VEVENT
BEGIN:VEVENT
DTSTART;TZID=America/Chicago:20230907T193000
DTEND;TZID=America/Chicago:20230907T203000
DTSTAMP:20260424T051635
CREATED:20230702T153248Z
LAST-MODIFIED:20230702T153248Z
UID:10000044-1694115000-1694118600@esperanto-chicago.org
SUMMARY:Klubo de Mortaj Krokodiloj (Online)
DESCRIPTION:Ni kunvenos rete.   We will meet online.\nContact us at: esperanto-chicago@googlegroups.com  \nUse this link to join the online meeting: \nesperanto-chicago.org/retkunveno
URL:http://esperanto-chicago.org/event/klubo-de-mortaj-krokodiloj-online-59/
CATEGORIES:Klubo de Mortaj Krokodiloj
ATTACH;FMTTYPE=image/jpeg:http://esperanto-chicago.org/wordpress/wp-content/uploads/2022/03/2022-03-16-14_12_41-Untitled-presentation-Google-Slides.jpg
ORGANIZER;CN="Eric Killian":MAILTO:ericesperanto@gmail.com
END:VEVENT
BEGIN:VEVENT
DTSTART;TZID=America/Chicago:20230831T193000
DTEND;TZID=America/Chicago:20230831T203000
DTSTAMP:20260424T051635
CREATED:20230702T153246Z
LAST-MODIFIED:20230702T153246Z
UID:10000042-1693510200-1693513800@esperanto-chicago.org
SUMMARY:Klubo de Mortaj Krokodiloj (Online)
DESCRIPTION:Ni kunvenos rete.   We will meet online.\nContact us at: esperanto-chicago@googlegroups.com  \nUse this link to join the online meeting: \nesperanto-chicago.org/retkunveno
URL:http://esperanto-chicago.org/event/klubo-de-mortaj-krokodiloj-online-58/
CATEGORIES:Klubo de Mortaj Krokodiloj
ATTACH;FMTTYPE=image/jpeg:http://esperanto-chicago.org/wordpress/wp-content/uploads/2022/03/2022-03-16-14_12_41-Untitled-presentation-Google-Slides.jpg
ORGANIZER;CN="Eric Killian":MAILTO:ericesperanto@gmail.com
END:VEVENT
BEGIN:VEVENT
DTSTART;TZID=America/Chicago:20230824T193000
DTEND;TZID=America/Chicago:20230824T203000
DTSTAMP:20260424T051635
CREATED:20230702T153241Z
LAST-MODIFIED:20230702T153241Z
UID:10000150-1692905400-1692909000@esperanto-chicago.org
SUMMARY:Klubo de Mortaj Krokodiloj (Online)
DESCRIPTION:Ni kunvenos rete.   We will meet online.\nContact us at: esperanto-chicago@googlegroups.com  \nUse this link to join the online meeting: \nesperanto-chicago.org/retkunveno
URL:http://esperanto-chicago.org/event/klubo-de-mortaj-krokodiloj-online-57/
CATEGORIES:Klubo de Mortaj Krokodiloj
ATTACH;FMTTYPE=image/jpeg:http://esperanto-chicago.org/wordpress/wp-content/uploads/2022/03/2022-03-16-14_12_41-Untitled-presentation-Google-Slides.jpg
ORGANIZER;CN="Eric Killian":MAILTO:ericesperanto@gmail.com
END:VEVENT
BEGIN:VEVENT
DTSTART;TZID=America/Chicago:20230817T193000
DTEND;TZID=America/Chicago:20230817T203000
DTSTAMP:20260424T051635
CREATED:20230702T153240Z
LAST-MODIFIED:20230702T153240Z
UID:10000148-1692300600-1692304200@esperanto-chicago.org
SUMMARY:Klubo de Mortaj Krokodiloj (Online)
DESCRIPTION:Ni kunvenos rete.   We will meet online.\nContact us at: esperanto-chicago@googlegroups.com  \nUse this link to join the online meeting: \nesperanto-chicago.org/retkunveno
URL:http://esperanto-chicago.org/event/klubo-de-mortaj-krokodiloj-online-56/
CATEGORIES:Klubo de Mortaj Krokodiloj
ATTACH;FMTTYPE=image/jpeg:http://esperanto-chicago.org/wordpress/wp-content/uploads/2022/03/2022-03-16-14_12_41-Untitled-presentation-Google-Slides.jpg
ORGANIZER;CN="Eric Killian":MAILTO:ericesperanto@gmail.com
END:VEVENT
BEGIN:VEVENT
DTSTART;TZID=America/Chicago:20230810T193000
DTEND;TZID=America/Chicago:20230810T203000
DTSTAMP:20260424T051635
CREATED:20230702T153238Z
LAST-MODIFIED:20230702T153238Z
UID:10000146-1691695800-1691699400@esperanto-chicago.org
SUMMARY:Klubo de Mortaj Krokodiloj (Online)
DESCRIPTION:Ni kunvenos rete.   We will meet online.\nContact us at: esperanto-chicago@googlegroups.com  \nUse this link to join the online meeting: \nesperanto-chicago.org/retkunveno
URL:http://esperanto-chicago.org/event/klubo-de-mortaj-krokodiloj-online-55/
CATEGORIES:Klubo de Mortaj Krokodiloj
ATTACH;FMTTYPE=image/jpeg:http://esperanto-chicago.org/wordpress/wp-content/uploads/2022/03/2022-03-16-14_12_41-Untitled-presentation-Google-Slides.jpg
ORGANIZER;CN="Eric Killian":MAILTO:ericesperanto@gmail.com
END:VEVENT
BEGIN:VEVENT
DTSTART;TZID=America/Chicago:20230803T193000
DTEND;TZID=America/Chicago:20230803T203000
DTSTAMP:20260424T051635
CREATED:20230702T153223Z
LAST-MODIFIED:20230702T153223Z
UID:10000144-1691091000-1691094600@esperanto-chicago.org
SUMMARY:Klubo de Mortaj Krokodiloj (Online)
DESCRIPTION:Ni kunvenos rete.   We will meet online.\nContact us at: esperanto-chicago@googlegroups.com  \nUse this link to join the online meeting: \nesperanto-chicago.org/retkunveno
URL:http://esperanto-chicago.org/event/klubo-de-mortaj-krokodiloj-online-54/
CATEGORIES:Klubo de Mortaj Krokodiloj
ATTACH;FMTTYPE=image/jpeg:http://esperanto-chicago.org/wordpress/wp-content/uploads/2022/03/2022-03-16-14_12_41-Untitled-presentation-Google-Slides.jpg
ORGANIZER;CN="Eric Killian":MAILTO:ericesperanto@gmail.com
END:VEVENT
BEGIN:VEVENT
DTSTART;TZID=America/Chicago:20230727T193000
DTEND;TZID=America/Chicago:20230727T203000
DTSTAMP:20260424T051635
CREATED:20230702T153221Z
LAST-MODIFIED:20230702T153221Z
UID:10000142-1690486200-1690489800@esperanto-chicago.org
SUMMARY:Klubo de Mortaj Krokodiloj (Online)
DESCRIPTION:Ni kunvenos rete.   We will meet online.\nContact us at: esperanto-chicago@googlegroups.com  \nUse this link to join the online meeting: \nesperanto-chicago.org/retkunveno
URL:http://esperanto-chicago.org/event/klubo-de-mortaj-krokodiloj-online-53/
CATEGORIES:Klubo de Mortaj Krokodiloj
ATTACH;FMTTYPE=image/jpeg:http://esperanto-chicago.org/wordpress/wp-content/uploads/2022/03/2022-03-16-14_12_41-Untitled-presentation-Google-Slides.jpg
ORGANIZER;CN="Eric Killian":MAILTO:ericesperanto@gmail.com
END:VEVENT
BEGIN:VEVENT
DTSTART;TZID=America/Chicago:20230720T193000
DTEND;TZID=America/Chicago:20230720T203000
DTSTAMP:20260424T051635
CREATED:20230702T153217Z
LAST-MODIFIED:20230702T153217Z
UID:10000040-1689881400-1689885000@esperanto-chicago.org
SUMMARY:Klubo de Mortaj Krokodiloj (Online)
DESCRIPTION:Ni kunvenos rete.   We will meet online.\nContact us at: esperanto-chicago@googlegroups.com  \nUse this link to join the online meeting: \nesperanto-chicago.org/retkunveno
URL:http://esperanto-chicago.org/event/klubo-de-mortaj-krokodiloj-online-52/
CATEGORIES:Klubo de Mortaj Krokodiloj
ATTACH;FMTTYPE=image/jpeg:http://esperanto-chicago.org/wordpress/wp-content/uploads/2022/03/2022-03-16-14_12_41-Untitled-presentation-Google-Slides.jpg
ORGANIZER;CN="Eric Killian":MAILTO:ericesperanto@gmail.com
END:VEVENT
BEGIN:VEVENT
DTSTART;TZID=America/Chicago:20230713T193000
DTEND;TZID=America/Chicago:20230713T203000
DTSTAMP:20260424T051635
CREATED:20230507T143931Z
LAST-MODIFIED:20230507T143931Z
UID:10000035-1689276600-1689280200@esperanto-chicago.org
SUMMARY:Klubo de Mortaj Krokodiloj (Online)
DESCRIPTION:Ni kunvenos rete.   We will meet online.\nContact us at: esperanto-chicago@googlegroups.com  \nUse this link to join the online meeting: \nesperanto-chicago.org/retkunveno
URL:http://esperanto-chicago.org/event/klubo-de-mortaj-krokodiloj-online-50/
CATEGORIES:Klubo de Mortaj Krokodiloj
ATTACH;FMTTYPE=image/jpeg:http://esperanto-chicago.org/wordpress/wp-content/uploads/2022/03/2022-03-16-14_12_41-Untitled-presentation-Google-Slides.jpg
ORGANIZER;CN="Eric Killian":MAILTO:ericesperanto@gmail.com
END:VEVENT
BEGIN:VEVENT
DTSTART;TZID=America/Chicago:20230706T193000
DTEND;TZID=America/Chicago:20230706T203000
DTSTAMP:20260424T051635
CREATED:20230507T143925Z
LAST-MODIFIED:20230507T143925Z
UID:10000033-1688671800-1688675400@esperanto-chicago.org
SUMMARY:Klubo de Mortaj Krokodiloj (Online)
DESCRIPTION:Ni kunvenos rete.   We will meet online.\nContact us at: esperanto-chicago@googlegroups.com  \nUse this link to join the online meeting: \nesperanto-chicago.org/retkunveno
URL:http://esperanto-chicago.org/event/klubo-de-mortaj-krokodiloj-online-49/
CATEGORIES:Klubo de Mortaj Krokodiloj
ATTACH;FMTTYPE=image/jpeg:http://esperanto-chicago.org/wordpress/wp-content/uploads/2022/03/2022-03-16-14_12_41-Untitled-presentation-Google-Slides.jpg
ORGANIZER;CN="Eric Killian":MAILTO:ericesperanto@gmail.com
END:VEVENT
BEGIN:VEVENT
DTSTART;TZID=America/Chicago:20230629T193000
DTEND;TZID=America/Chicago:20230629T203000
DTSTAMP:20260424T051635
CREATED:20230507T143725Z
LAST-MODIFIED:20230507T143725Z
UID:10000031-1688067000-1688070600@esperanto-chicago.org
SUMMARY:Klubo de Mortaj Krokodiloj (Online)
DESCRIPTION:Ni kunvenos rete.   We will meet online.\nContact us at: esperanto-chicago@googlegroups.com  \nUse this link to join the online meeting: \nesperanto-chicago.org/retkunveno
URL:http://esperanto-chicago.org/event/klubo-de-mortaj-krokodiloj-online-48/
CATEGORIES:Klubo de Mortaj Krokodiloj
ATTACH;FMTTYPE=image/jpeg:http://esperanto-chicago.org/wordpress/wp-content/uploads/2022/03/2022-03-16-14_12_41-Untitled-presentation-Google-Slides.jpg
ORGANIZER;CN="Eric Killian":MAILTO:ericesperanto@gmail.com
END:VEVENT
BEGIN:VEVENT
DTSTART;TZID=America/Chicago:20230622T193000
DTEND;TZID=America/Chicago:20230622T203000
DTSTAMP:20260424T051635
CREATED:20230507T143724Z
LAST-MODIFIED:20230507T143724Z
UID:10000139-1687462200-1687465800@esperanto-chicago.org
SUMMARY:Klubo de Mortaj Krokodiloj (Online)
DESCRIPTION:Ni kunvenos rete.   We will meet online.\nContact us at: esperanto-chicago@googlegroups.com  \nUse this link to join the online meeting: \nesperanto-chicago.org/retkunveno
URL:http://esperanto-chicago.org/event/klubo-de-mortaj-krokodiloj-online-47/
CATEGORIES:Klubo de Mortaj Krokodiloj
ATTACH;FMTTYPE=image/jpeg:http://esperanto-chicago.org/wordpress/wp-content/uploads/2022/03/2022-03-16-14_12_41-Untitled-presentation-Google-Slides.jpg
ORGANIZER;CN="Eric Killian":MAILTO:ericesperanto@gmail.com
END:VEVENT
BEGIN:VEVENT
DTSTART;TZID=America/Chicago:20230615T193000
DTEND;TZID=America/Chicago:20230615T203000
DTSTAMP:20260424T051635
CREATED:20230507T143724Z
LAST-MODIFIED:20230507T143724Z
UID:10000138-1686857400-1686861000@esperanto-chicago.org
SUMMARY:Klubo de Mortaj Krokodiloj (Online)
DESCRIPTION:Ni kunvenos rete.   We will meet online.\nContact us at: esperanto-chicago@googlegroups.com  \nUse this link to join the online meeting: \nesperanto-chicago.org/retkunveno
URL:http://esperanto-chicago.org/event/klubo-de-mortaj-krokodiloj-online-46/
CATEGORIES:Klubo de Mortaj Krokodiloj
ATTACH;FMTTYPE=image/jpeg:http://esperanto-chicago.org/wordpress/wp-content/uploads/2022/03/2022-03-16-14_12_41-Untitled-presentation-Google-Slides.jpg
ORGANIZER;CN="Eric Killian":MAILTO:ericesperanto@gmail.com
END:VEVENT
BEGIN:VEVENT
DTSTART;TZID=America/Chicago:20230608T193000
DTEND;TZID=America/Chicago:20230608T203000
DTSTAMP:20260424T051635
CREATED:20230507T143720Z
LAST-MODIFIED:20230507T143720Z
UID:10000136-1686252600-1686256200@esperanto-chicago.org
SUMMARY:Klubo de Mortaj Krokodiloj (Online)
DESCRIPTION:Ni kunvenos rete.   We will meet online.\nContact us at: esperanto-chicago@googlegroups.com  \nUse this link to join the online meeting: \nesperanto-chicago.org/retkunveno
URL:http://esperanto-chicago.org/event/klubo-de-mortaj-krokodiloj-online-45/
CATEGORIES:Klubo de Mortaj Krokodiloj
ATTACH;FMTTYPE=image/jpeg:http://esperanto-chicago.org/wordpress/wp-content/uploads/2022/03/2022-03-16-14_12_41-Untitled-presentation-Google-Slides.jpg
ORGANIZER;CN="Eric Killian":MAILTO:ericesperanto@gmail.com
END:VEVENT
BEGIN:VEVENT
DTSTART;TZID=America/Chicago:20230601T193000
DTEND;TZID=America/Chicago:20230601T203000
DTSTAMP:20260424T051635
CREATED:20230507T143719Z
LAST-MODIFIED:20230507T143719Z
UID:10000134-1685647800-1685651400@esperanto-chicago.org
SUMMARY:Klubo de Mortaj Krokodiloj (Online)
DESCRIPTION:Ni kunvenos rete.   We will meet online.\nContact us at: esperanto-chicago@googlegroups.com  \nUse this link to join the online meeting: \nesperanto-chicago.org/retkunveno
URL:http://esperanto-chicago.org/event/klubo-de-mortaj-krokodiloj-online-44/
CATEGORIES:Klubo de Mortaj Krokodiloj
ATTACH;FMTTYPE=image/jpeg:http://esperanto-chicago.org/wordpress/wp-content/uploads/2022/03/2022-03-16-14_12_41-Untitled-presentation-Google-Slides.jpg
ORGANIZER;CN="Eric Killian":MAILTO:ericesperanto@gmail.com
END:VEVENT
END:VCALENDAR