BEGIN:VCALENDAR
VERSION:2.0
PRODID:-//La Esperanto-Societo de Ĉikago - ECPv6.15.20//NONSGML v1.0//EN
CALSCALE:GREGORIAN
METHOD:PUBLISH
X-WR-CALNAME:La Esperanto-Societo de Ĉikago
X-ORIGINAL-URL:http://esperanto-chicago.org
X-WR-CALDESC:Events for La Esperanto-Societo de Ĉikago
REFRESH-INTERVAL;VALUE=DURATION:PT1H
X-Robots-Tag:noindex
X-PUBLISHED-TTL:PT1H
BEGIN:VTIMEZONE
TZID:America/Chicago
BEGIN:DAYLIGHT
TZOFFSETFROM:-0600
TZOFFSETTO:-0500
TZNAME:CDT
DTSTART:20230312T080000
END:DAYLIGHT
BEGIN:STANDARD
TZOFFSETFROM:-0500
TZOFFSETTO:-0600
TZNAME:CST
DTSTART:20231105T070000
END:STANDARD
BEGIN:DAYLIGHT
TZOFFSETFROM:-0600
TZOFFSETTO:-0500
TZNAME:CDT
DTSTART:20240310T080000
END:DAYLIGHT
BEGIN:STANDARD
TZOFFSETFROM:-0500
TZOFFSETTO:-0600
TZNAME:CST
DTSTART:20241103T070000
END:STANDARD
BEGIN:DAYLIGHT
TZOFFSETFROM:-0600
TZOFFSETTO:-0500
TZNAME:CDT
DTSTART:20250309T080000
END:DAYLIGHT
BEGIN:STANDARD
TZOFFSETFROM:-0500
TZOFFSETTO:-0600
TZNAME:CST
DTSTART:20251102T070000
END:STANDARD
END:VTIMEZONE
BEGIN:VEVENT
DTSTART;TZID=America/Chicago:20241107T193000
DTEND;TZID=America/Chicago:20241107T203000
DTSTAMP:20260424T153309
CREATED:20241022T234059Z
LAST-MODIFIED:20241022T234059Z
UID:10000318-1731007800-1731011400@esperanto-chicago.org
SUMMARY:Klubo de Mortaj Krokodiloj (Online)
DESCRIPTION:Klubo de Mortaj Krokodiloj (Online Meeting) \nEsperanto: \nAliĝu al nia reta kunveno de la Klubo de Mortaj Krokodiloj! Ĉiusemajne\, esperantistoj el diversaj mondopartoj kunvenas por gaja kaj neformala konversacio en Esperanto. Estas bonega ŝanco uzi la lingvon kaj konektiĝi kun nia internacia komunumo. \nEnglish: \nJoin our online meeting of the Dead Crocodile Club! Each week\, Esperanto speakers from around the world gather for a fun and informal discussion in Esperanto. It’s a great opportunity to practice the language and connect with our international community. \nContact us at: esperanto-chicago@googlegroups.com \nJoin the online meeting using this link:\nesperanto-chicago.org/retkunveno \nAbout Esperanto: Esperanto is a constructed international language designed for easy learning and global communication. It offers a unique window into diverse cultures and fosters friendships worldwide. \nAbout Esperanto Society of Chicago: Since 1954\, the Esperanto Society of Chicago is a welcoming community dedicated to promoting Esperanto language and culture in the Chicagoland area. We organize events\, language meetups\, and cultural exchanges to support both beginners and fluent speakers. \nJoin the Chicago Esperanto Society: https://esperanto-chicago.org/members/ \nJoin our mailing list: https://docs.google.com/forms/d/e/1FAIpQLSdMSKYjEfxfL_rQEM3bEc1UnZY0jJbLDOE_gvwUgwwm63QUjw/viewform?usp=sf_link
URL:http://esperanto-chicago.org/event/klubo-de-mortaj-krokodiloj-online-118/
CATEGORIES:Klubo de Mortaj Krokodiloj
ATTACH;FMTTYPE=image/jpeg:http://esperanto-chicago.org/wordpress/wp-content/uploads/2022/03/2022-03-16-14_12_41-Untitled-presentation-Google-Slides.jpg
ORGANIZER;CN="Eric Killian":MAILTO:ericesperanto@gmail.com
END:VEVENT
BEGIN:VEVENT
DTSTART;TZID=America/Chicago:20241114T193000
DTEND;TZID=America/Chicago:20241114T203000
DTSTAMP:20260424T153309
CREATED:20241022T234114Z
LAST-MODIFIED:20241022T234114Z
UID:10000321-1731612600-1731616200@esperanto-chicago.org
SUMMARY:Klubo de Mortaj Krokodiloj (Online)
DESCRIPTION:Klubo de Mortaj Krokodiloj (Online Meeting) \nEsperanto: \nAliĝu al nia reta kunveno de la Klubo de Mortaj Krokodiloj! Ĉiusemajne\, esperantistoj el diversaj mondopartoj kunvenas por gaja kaj neformala konversacio en Esperanto. Estas bonega ŝanco uzi la lingvon kaj konektiĝi kun nia internacia komunumo. \nEnglish: \nJoin our online meeting of the Dead Crocodile Club! Each week\, Esperanto speakers from around the world gather for a fun and informal discussion in Esperanto. It’s a great opportunity to practice the language and connect with our international community. \nContact us at: esperanto-chicago@googlegroups.com \nJoin the online meeting using this link:\nesperanto-chicago.org/retkunveno \nAbout Esperanto: Esperanto is a constructed international language designed for easy learning and global communication. It offers a unique window into diverse cultures and fosters friendships worldwide. \nAbout Esperanto Society of Chicago: Since 1954\, the Esperanto Society of Chicago is a welcoming community dedicated to promoting Esperanto language and culture in the Chicagoland area. We organize events\, language meetups\, and cultural exchanges to support both beginners and fluent speakers. \nJoin the Chicago Esperanto Society: https://esperanto-chicago.org/members/ \nJoin our mailing list: https://docs.google.com/forms/d/e/1FAIpQLSdMSKYjEfxfL_rQEM3bEc1UnZY0jJbLDOE_gvwUgwwm63QUjw/viewform?usp=sf_link
URL:http://esperanto-chicago.org/event/klubo-de-mortaj-krokodiloj-online-119/
CATEGORIES:Klubo de Mortaj Krokodiloj
ATTACH;FMTTYPE=image/jpeg:http://esperanto-chicago.org/wordpress/wp-content/uploads/2022/03/2022-03-16-14_12_41-Untitled-presentation-Google-Slides.jpg
ORGANIZER;CN="Eric Killian":MAILTO:ericesperanto@gmail.com
END:VEVENT
BEGIN:VEVENT
DTSTART;TZID=America/Chicago:20241121T180000
DTEND;TZID=America/Chicago:20241121T210000
DTSTAMP:20260424T153309
CREATED:20241022T234116Z
LAST-MODIFIED:20241117T151612Z
UID:10000324-1732212000-1732222800@esperanto-chicago.org
SUMMARY:Int'l Cafe
DESCRIPTION:At INT’L CAFE you can make some new friends and practice speaking a language that you are learning or already know. \nThere will be a table for each language requested. Feel free to move around to different tables if you speak multiple languages. We generally have English\, Spanish\, German\, French\, Mandarin\, Japanese\, Korean\, Portuguese\, Arabic\, Russian\, Italian\, Turkish\, Ukrainian and ASL tables. \nThis is a casual\, social event with a large number of attendees. You will have the opportunity to practice speaking other languages and meet people from all different cultures and backgrounds\, but if you are looking for a quiet\, intimate conversational group\, you may want to look elsewhere. Translation: Our events can get noisy and crowded (and fun!) \nAbout Esperanto: Esperanto is a constructed international language designed for easy learning and global communication. It offers a unique window into diverse cultures and fosters friendships worldwide. \nAbout Esperanto Society of Chicago: Since 1954\, the Esperanto Society of Chicago is a welcoming community dedicated to promoting Esperanto language and culture in the Chicagoland area. We organize events\, language meetups\, and cultural exchanges to support both beginners and fluent speakers. \nJoin the Chicago Esperanto Society: https://esperanto-chicago.org/members/ \nJoin our mailing list: https://docs.google.com/forms/d/e/1FAIpQLSdMSKYjEfxfL_rQEM3bEc1UnZY0jJbLDOE_gvwUgwwm63QUjw/viewform?usp=sf_link
URL:http://esperanto-chicago.org/event/klubo-de-mortaj-krokodiloj-online-120/
LOCATION:Revolution Brewing – Brewery & Taproom\, 3340 N Kedzie Ave\, Chicago\, IL\, 60618
CATEGORIES:Klubo de Mortaj Krokodiloj
ATTACH;FMTTYPE=image/png:http://esperanto-chicago.org/wordpress/wp-content/uploads/2024/09/2024-09-19-16_01_22-Window.png
ORGANIZER;CN="Eric Killian":MAILTO:ericesperanto@gmail.com
END:VEVENT
BEGIN:VEVENT
DTSTART;TZID=America/Chicago:20241128T193000
DTEND;TZID=America/Chicago:20241128T203000
DTSTAMP:20260424T153309
CREATED:20241022T234129Z
LAST-MODIFIED:20241117T151752Z
UID:10000327-1732822200-1732825800@esperanto-chicago.org
SUMMARY:Klubo de Mortaj Krokodiloj (Online)
DESCRIPTION:Klubo de Mortaj Krokodiloj (Online Meeting) \nEsperanto: \nAliĝu al nia reta kunveno de la Klubo de Mortaj Krokodiloj! Ĉiusemajne\, esperantistoj el diversaj mondopartoj kunvenas por gaja kaj neformala konversacio en Esperanto. Estas bonega ŝanco uzi la lingvon kaj konektiĝi kun nia internacia komunumo. \nEnglish: \nJoin our online meeting of the Dead Crocodile Club! Each week\, Esperanto speakers from around the world gather for a fun and informal discussion in Esperanto. It’s a great opportunity to practice the language and connect with our international community. \nContact us at: esperanto-chicago@googlegroups.com \nJoin the online meeting using this link:\nesperanto-chicago.org/retkunveno \nAbout Esperanto: Esperanto is a constructed international language designed for easy learning and global communication. It offers a unique window into diverse cultures and fosters friendships worldwide. \nAbout Esperanto Society of Chicago: Since 1954\, the Esperanto Society of Chicago is a welcoming community dedicated to promoting Esperanto language and culture in the Chicagoland area. We organize events\, language meetups\, and cultural exchanges to support both beginners and fluent speakers. \nJoin the Chicago Esperanto Society: https://esperanto-chicago.org/members/ \nJoin our mailing list: https://docs.google.com/forms/d/e/1FAIpQLSdMSKYjEfxfL_rQEM3bEc1UnZY0jJbLDOE_gvwUgwwm63QUjw/viewform?usp=sf_link
URL:http://esperanto-chicago.org/event/klubo-de-mortaj-krokodiloj-online-121/
CATEGORIES:Klubo de Mortaj Krokodiloj
ATTACH;FMTTYPE=image/jpeg:http://esperanto-chicago.org/wordpress/wp-content/uploads/2024/07/KMM-emblemo.jpg
ORGANIZER;CN="Eric Killian":MAILTO:ericesperanto@gmail.com
END:VEVENT
END:VCALENDAR