BEGIN:VCALENDAR
VERSION:2.0
PRODID:-//La Esperanto-Societo de Ĉikago - ECPv6.15.20//NONSGML v1.0//EN
CALSCALE:GREGORIAN
METHOD:PUBLISH
X-WR-CALNAME:La Esperanto-Societo de Ĉikago
X-ORIGINAL-URL:http://esperanto-chicago.org
X-WR-CALDESC:Events for La Esperanto-Societo de Ĉikago
REFRESH-INTERVAL;VALUE=DURATION:PT1H
X-Robots-Tag:noindex
X-PUBLISHED-TTL:PT1H
BEGIN:VTIMEZONE
TZID:America/Chicago
BEGIN:DAYLIGHT
TZOFFSETFROM:-0600
TZOFFSETTO:-0500
TZNAME:CDT
DTSTART:20220313T080000
END:DAYLIGHT
BEGIN:STANDARD
TZOFFSETFROM:-0500
TZOFFSETTO:-0600
TZNAME:CST
DTSTART:20221106T070000
END:STANDARD
BEGIN:DAYLIGHT
TZOFFSETFROM:-0600
TZOFFSETTO:-0500
TZNAME:CDT
DTSTART:20230312T080000
END:DAYLIGHT
BEGIN:STANDARD
TZOFFSETFROM:-0500
TZOFFSETTO:-0600
TZNAME:CST
DTSTART:20231105T070000
END:STANDARD
BEGIN:DAYLIGHT
TZOFFSETFROM:-0600
TZOFFSETTO:-0500
TZNAME:CDT
DTSTART:20240310T080000
END:DAYLIGHT
BEGIN:STANDARD
TZOFFSETFROM:-0500
TZOFFSETTO:-0600
TZNAME:CST
DTSTART:20241103T070000
END:STANDARD
END:VTIMEZONE
BEGIN:VEVENT
DTSTART;TZID=America/Chicago:20231102T193000
DTEND;TZID=America/Chicago:20231102T203000
DTSTAMP:20260425T090240
CREATED:20230901T012640Z
LAST-MODIFIED:20230901T012640Z
UID:10000164-1698953400-1698957000@esperanto-chicago.org
SUMMARY:Klubo de Mortaj Krokodiloj (Online)
DESCRIPTION:Ni kunvenos rete.   We will meet online.\nContact us at: esperanto-chicago@googlegroups.com  \nUse this link to join the online meeting: \nesperanto-chicago.org/retkunveno
URL:http://esperanto-chicago.org/event/klubo-de-mortaj-krokodiloj-online-67/
CATEGORIES:Klubo de Mortaj Krokodiloj
ATTACH;FMTTYPE=image/jpeg:http://esperanto-chicago.org/wordpress/wp-content/uploads/2022/03/2022-03-16-14_12_41-Untitled-presentation-Google-Slides.jpg
ORGANIZER;CN="Eric Killian":MAILTO:ericesperanto@gmail.com
END:VEVENT
BEGIN:VEVENT
DTSTART;TZID=America/Chicago:20231109T193000
DTEND;TZID=America/Chicago:20231109T203000
DTSTAMP:20260425T090240
CREATED:20230901T012641Z
LAST-MODIFIED:20230901T012641Z
UID:10000166-1699558200-1699561800@esperanto-chicago.org
SUMMARY:Klubo de Mortaj Krokodiloj (Online)
DESCRIPTION:Ni kunvenos rete.   We will meet online.\nContact us at: esperanto-chicago@googlegroups.com  \nUse this link to join the online meeting: \nesperanto-chicago.org/retkunveno
URL:http://esperanto-chicago.org/event/klubo-de-mortaj-krokodiloj-online-68/
CATEGORIES:Klubo de Mortaj Krokodiloj
ATTACH;FMTTYPE=image/jpeg:http://esperanto-chicago.org/wordpress/wp-content/uploads/2022/03/2022-03-16-14_12_41-Untitled-presentation-Google-Slides.jpg
ORGANIZER;CN="Eric Killian":MAILTO:ericesperanto@gmail.com
END:VEVENT
BEGIN:VEVENT
DTSTART;TZID=America/Chicago:20231116T193000
DTEND;TZID=America/Chicago:20231116T203000
DTSTAMP:20260425T090240
CREATED:20231110T014157Z
LAST-MODIFIED:20231110T014157Z
UID:10000171-1700163000-1700166600@esperanto-chicago.org
SUMMARY:Klubo de Mortaj Krokodiloj (Online)
DESCRIPTION:Ni kunvenos rete.   We will meet online.\nContact us at: esperanto-chicago@googlegroups.com  \nUse this link to join the online meeting: \nesperanto-chicago.org/retkunveno
URL:http://esperanto-chicago.org/event/klubo-de-mortaj-krokodiloj-online-69/
CATEGORIES:Klubo de Mortaj Krokodiloj
ATTACH;FMTTYPE=image/jpeg:http://esperanto-chicago.org/wordpress/wp-content/uploads/2022/03/2022-03-16-14_12_41-Untitled-presentation-Google-Slides.jpg
ORGANIZER;CN="Eric Killian":MAILTO:ericesperanto@gmail.com
END:VEVENT
BEGIN:VEVENT
DTSTART;TZID=America/Chicago:20231130T193000
DTEND;TZID=America/Chicago:20231130T203000
DTSTAMP:20260425T090240
CREATED:20231110T014200Z
LAST-MODIFIED:20231110T014200Z
UID:10000174-1701372600-1701376200@esperanto-chicago.org
SUMMARY:Klubo de Mortaj Krokodiloj (Online)
DESCRIPTION:Ni kunvenos rete.   We will meet online.\nContact us at: esperanto-chicago@googlegroups.com  \nUse this link to join the online meeting: \nesperanto-chicago.org/retkunveno
URL:http://esperanto-chicago.org/event/klubo-de-mortaj-krokodiloj-online-71/
CATEGORIES:Klubo de Mortaj Krokodiloj
ATTACH;FMTTYPE=image/jpeg:http://esperanto-chicago.org/wordpress/wp-content/uploads/2022/03/2022-03-16-14_12_41-Untitled-presentation-Google-Slides.jpg
ORGANIZER;CN="Eric Killian":MAILTO:ericesperanto@gmail.com
END:VEVENT
END:VCALENDAR