BEGIN:VCALENDAR
VERSION:2.0
PRODID:-//La Esperanto-Societo de Ĉikago - ECPv6.15.20//NONSGML v1.0//EN
CALSCALE:GREGORIAN
METHOD:PUBLISH
X-ORIGINAL-URL:http://esperanto-chicago.org
X-WR-CALDESC:Events for La Esperanto-Societo de Ĉikago
REFRESH-INTERVAL;VALUE=DURATION:PT1H
X-Robots-Tag:noindex
X-PUBLISHED-TTL:PT1H
BEGIN:VTIMEZONE
TZID:America/Chicago
BEGIN:DAYLIGHT
TZOFFSETFROM:-0600
TZOFFSETTO:-0500
TZNAME:CDT
DTSTART:20240310T080000
END:DAYLIGHT
BEGIN:STANDARD
TZOFFSETFROM:-0500
TZOFFSETTO:-0600
TZNAME:CST
DTSTART:20241103T070000
END:STANDARD
BEGIN:DAYLIGHT
TZOFFSETFROM:-0600
TZOFFSETTO:-0500
TZNAME:CDT
DTSTART:20250309T080000
END:DAYLIGHT
BEGIN:STANDARD
TZOFFSETFROM:-0500
TZOFFSETTO:-0600
TZNAME:CST
DTSTART:20251102T070000
END:STANDARD
BEGIN:DAYLIGHT
TZOFFSETFROM:-0600
TZOFFSETTO:-0500
TZNAME:CDT
DTSTART:20260308T080000
END:DAYLIGHT
BEGIN:STANDARD
TZOFFSETFROM:-0500
TZOFFSETTO:-0600
TZNAME:CST
DTSTART:20261101T070000
END:STANDARD
END:VTIMEZONE
BEGIN:VEVENT
DTSTART;TZID=America/Chicago:20250202T090000
DTEND;TZID=America/Chicago:20250202T110000
DTSTAMP:20260425T153444
CREATED:20250111T003417Z
LAST-MODIFIED:20250122T213139Z
UID:10000360-1738486800-1738494000@esperanto-chicago.org
SUMMARY:Kafeja Kunveno / Coffee Time (Online)
DESCRIPTION:Ni trinkos kafon kaj parolos Esperanton! Ne zorgu pri via lingva nivelo! – We will drink coffee and speak Esperanto!  \nWe will meet online!  Use the link below:\nhttp://esperanto-chicago.org/retkunveno \n============== \nContact us at: esperanto-chicago@googlegroups.com \nAbout Esperanto: Esperanto is a constructed international language designed for easy learning and global communication. It offers a unique window into diverse cultures and fosters friendships worldwide. \nAbout Esperanto Society of Chicago: Since 1954\, the Esperanto Society of Chicago is a welcoming community dedicated to promoting Esperanto language and culture in the Chicagoland area. We organize events\, language meetups\, and cultural exchanges to support both beginners and fluent speakers. \nJoin the Chicago Esperanto Society: https://esperanto-chicago.org/members/ \nJoin our mailing list: https://docs.google.com/forms/d/e/1FAIpQLSdMSKYjEfxfL_rQEM3bEc1UnZY0jJbLDOE_gvwUgwwm63QUjw/viewform?usp=sf_link
URL:http://esperanto-chicago.org/event/kafeja-kunveno-coffee-time-online-128/
CATEGORIES:Kafeja Kunveno,Retkunveno
ATTACH;FMTTYPE=image/jpeg:http://esperanto-chicago.org/wordpress/wp-content/uploads/2022/03/2022-03-16-14_51_42-Titoloj-Google-Slides.jpg
ORGANIZER;CN="Eric Killian":MAILTO:ericesperanto@gmail.com
END:VEVENT
BEGIN:VEVENT
DTSTART;TZID=America/Chicago:20250209T090000
DTEND;TZID=America/Chicago:20250209T110000
DTSTAMP:20260425T153444
CREATED:20250111T003636Z
LAST-MODIFIED:20250201T012740Z
UID:10000361-1739091600-1739098800@esperanto-chicago.org
SUMMARY:Kafeja Kunveno / Coffee Time (Online)
DESCRIPTION:http://esperanto-chicago.org/event/8944129/ \nNi trinkos kafon kaj parolos Esperanton! Ne zorgu pri via lingva nivelo! – We will drink coffee and speak Esperanto!  \n \nWe will meet online!  Use the link below:\nhttp://esperanto-chicago.org/retkunveno \n\nAbout Esperanto: Esperanto is a constructed international language designed for easy learning and global communication. It offers a unique window into diverse cultures and fosters friendships worldwide. \nAbout Esperanto Society of Chicago: Since 1954\, the Esperanto Society of Chicago is a welcoming community dedicated to promoting Esperanto language and culture in the Chicagoland area. We organize events\, language meetups\, and cultural exchanges to support both beginners and fluent speakers. \nContact us: esperanto-chicago@googlegroups.com \n      \n \n 
URL:http://esperanto-chicago.org/event/8944129/
CATEGORIES:Kafeja Kunveno,Retkunveno
ATTACH;FMTTYPE=image/jpeg:http://esperanto-chicago.org/wordpress/wp-content/uploads/2022/03/2022-03-16-14_51_42-Titoloj-Google-Slides.jpg
ORGANIZER;CN="Eric Killian":MAILTO:ericesperanto@gmail.com
END:VEVENT
BEGIN:VEVENT
DTSTART;TZID=America/Chicago:20250216T090000
DTEND;TZID=America/Chicago:20250216T110000
DTSTAMP:20260425T153444
CREATED:20250111T004223Z
LAST-MODIFIED:20250201T013431Z
UID:10000363-1739696400-1739703600@esperanto-chicago.org
SUMMARY:Kafeja Kunveno / Coffee Time (Online)
DESCRIPTION:http://esperanto-chicago.org/event/65146131/ \nNi trinkos kafon kaj parolos Esperanton! Ne zorgu pri via lingva nivelo! – We will drink coffee and speak Esperanto!  \n \nWe will meet online!  Use the link below:\nhttp://esperanto-chicago.org/retkunveno \n\nAbout Esperanto: Esperanto is a constructed international language designed for easy learning and global communication. It offers a unique window into diverse cultures and fosters friendships worldwide. \nAbout Esperanto Society of Chicago: Since 1954\, the Esperanto Society of Chicago is a welcoming community dedicated to promoting Esperanto language and culture in the Chicagoland area. We organize events\, language meetups\, and cultural exchanges to support both beginners and fluent speakers. \nContact us: esperanto-chicago@googlegroups.com \n      \n \n 
URL:http://esperanto-chicago.org/event/65146131/
CATEGORIES:Kafeja Kunveno,Retkunveno
ATTACH;FMTTYPE=image/jpeg:http://esperanto-chicago.org/wordpress/wp-content/uploads/2022/03/2022-03-16-14_51_42-Titoloj-Google-Slides.jpg
ORGANIZER;CN="Eric Killian":MAILTO:ericesperanto@gmail.com
END:VEVENT
BEGIN:VEVENT
DTSTART;TZID=America/Chicago:20250223T090000
DTEND;TZID=America/Chicago:20250223T110000
DTSTAMP:20260425T153444
CREATED:20250111T004709Z
LAST-MODIFIED:20250218T030920Z
UID:10000364-1740301200-1740308400@esperanto-chicago.org
SUMMARY:Kafeja Kunveno / Coffee Time (Online)
DESCRIPTION:http://esperanto-chicago.org/event/2025-02-23/ \nNi trinkos kafon kaj parolos Esperanton! Ne zorgu pri via lingva nivelo! – We will drink coffee and speak Esperanto!  \nWe will meet online!  Use the link below:\nhttp://esperanto-chicago.org/retkunveno \n\nAbout Esperanto: Esperanto is a constructed international language designed for easy learning and global communication. It offers a unique window into diverse cultures and fosters friendships worldwide. \nAbout Esperanto Society of Chicago: Since 1954\, the Esperanto Society of Chicago is a welcoming community dedicated to promoting Esperanto language and culture in the Chicagoland area. We organize events\, language meetups\, and cultural exchanges to support both beginners and fluent speakers. \nContact us: esperanto-chicago@googlegroups.com \n      \n \n  \nSee more events at: esperanto-chicago.org/events
URL:http://esperanto-chicago.org/event/2025-02-23/
CATEGORIES:Kafeja Kunveno,Retkunveno
ATTACH;FMTTYPE=image/jpeg:http://esperanto-chicago.org/wordpress/wp-content/uploads/2022/03/2022-03-16-14_51_42-Titoloj-Google-Slides.jpg
ORGANIZER;CN="Eric Killian":MAILTO:ericesperanto@gmail.com
END:VEVENT
END:VCALENDAR