BEGIN:VCALENDAR
VERSION:2.0
PRODID:-//La Esperanto-Societo de Ĉikago - ECPv6.15.20//NONSGML v1.0//EN
CALSCALE:GREGORIAN
METHOD:PUBLISH
X-ORIGINAL-URL:http://esperanto-chicago.org
X-WR-CALDESC:Events for La Esperanto-Societo de Ĉikago
REFRESH-INTERVAL;VALUE=DURATION:PT1H
X-Robots-Tag:noindex
X-PUBLISHED-TTL:PT1H
BEGIN:VTIMEZONE
TZID:America/Chicago
BEGIN:DAYLIGHT
TZOFFSETFROM:-0600
TZOFFSETTO:-0500
TZNAME:CDT
DTSTART:20210314T080000
END:DAYLIGHT
BEGIN:STANDARD
TZOFFSETFROM:-0500
TZOFFSETTO:-0600
TZNAME:CST
DTSTART:20211107T070000
END:STANDARD
BEGIN:DAYLIGHT
TZOFFSETFROM:-0600
TZOFFSETTO:-0500
TZNAME:CDT
DTSTART:20220313T080000
END:DAYLIGHT
BEGIN:STANDARD
TZOFFSETFROM:-0500
TZOFFSETTO:-0600
TZNAME:CST
DTSTART:20221106T070000
END:STANDARD
BEGIN:DAYLIGHT
TZOFFSETFROM:-0600
TZOFFSETTO:-0500
TZNAME:CDT
DTSTART:20230312T080000
END:DAYLIGHT
BEGIN:STANDARD
TZOFFSETFROM:-0500
TZOFFSETTO:-0600
TZNAME:CST
DTSTART:20231105T070000
END:STANDARD
BEGIN:DAYLIGHT
TZOFFSETFROM:-0600
TZOFFSETTO:-0500
TZNAME:CDT
DTSTART:20240310T080000
END:DAYLIGHT
BEGIN:STANDARD
TZOFFSETFROM:-0500
TZOFFSETTO:-0600
TZNAME:CST
DTSTART:20241103T070000
END:STANDARD
BEGIN:DAYLIGHT
TZOFFSETFROM:-0600
TZOFFSETTO:-0500
TZNAME:CDT
DTSTART:20250309T080000
END:DAYLIGHT
BEGIN:STANDARD
TZOFFSETFROM:-0500
TZOFFSETTO:-0600
TZNAME:CST
DTSTART:20251102T070000
END:STANDARD
END:VTIMEZONE
BEGIN:VEVENT
DTSTART;TZID=America/Chicago:20240402T190000
DTEND;TZID=America/Chicago:20240402T210000
DTSTAMP:20260423T192249
CREATED:20240320T135032Z
LAST-MODIFIED:20240325T191317Z
UID:10000222-1712084400-1712091600@esperanto-chicago.org
SUMMARY:Monata Kunveno (Online)
DESCRIPTION:Our monthly meeting! \nContact us at: esperanto-chicago@googlegroups.com \nhttp://esperanto-chicago.org/retkunveno
URL:http://esperanto-chicago.org/event/monata-kunveno-online-11/
CATEGORIES:Monata Kunveno
END:VEVENT
BEGIN:VEVENT
DTSTART;TZID=America/Chicago:20240123T190000
DTEND;TZID=America/Chicago:20240123T210000
DTSTAMP:20260423T192249
CREATED:20240112T022157Z
LAST-MODIFIED:20240112T022157Z
UID:10000201-1706036400-1706043600@esperanto-chicago.org
SUMMARY:Monata Kunveno (Online)
DESCRIPTION:Our monthly meeting!\nContact us at: esperanto-chicago@googlegroups.com \nhttp://esperanto-chicago.org/retkunveno
URL:http://esperanto-chicago.org/event/monata-kunveno-online-10/
CATEGORIES:Monata Kunveno
END:VEVENT
BEGIN:VEVENT
DTSTART;TZID=America/Chicago:20231128T190000
DTEND;TZID=America/Chicago:20231128T210000
DTSTAMP:20260423T192249
CREATED:20231110T014156Z
LAST-MODIFIED:20231110T014156Z
UID:10000169-1701198000-1701205200@esperanto-chicago.org
SUMMARY:Monata Kunveno (Online)
DESCRIPTION:Our monthly meeting!\nContact us at: esperanto-chicago@googlegroups.com \nhttp://esperanto-chicago.org/retkunveno
URL:http://esperanto-chicago.org/event/monata-kunveno-online-9/
CATEGORIES:Monata Kunveno
END:VEVENT
BEGIN:VEVENT
DTSTART;TZID=America/Chicago:20230725T190000
DTEND;TZID=America/Chicago:20230725T210000
DTSTAMP:20260423T192249
CREATED:20230702T153211Z
LAST-MODIFIED:20230702T153636Z
UID:10000038-1690311600-1690318800@esperanto-chicago.org
SUMMARY:Monata Kunveno (Online)
DESCRIPTION:Our monthly meeting!\nContact us at: esperanto-chicago@googlegroups.com \nhttp://esperanto-chicago.org/retkunveno
URL:http://esperanto-chicago.org/event/monata-kunveno-online-7/
CATEGORIES:Monata Kunveno
ATTACH;FMTTYPE=image/png:http://esperanto-chicago.org/wordpress/wp-content/uploads/2018/05/cropped-Sxi3-4.png
END:VEVENT
BEGIN:VEVENT
DTSTART;TZID=America/Chicago:20230523T190000
DTEND;TZID=America/Chicago:20230523T210000
DTSTAMP:20260423T192249
CREATED:20230507T143713Z
LAST-MODIFIED:20230523T232512Z
UID:10000028-1684868400-1684875600@esperanto-chicago.org
SUMMARY:Monata Kunveno (Online)
DESCRIPTION:Our monthly meeting!\nContact us at: esperanto-chicago@googlegroups.com \nhttp://esperanto-chicago.org/retkunveno
URL:http://esperanto-chicago.org/event/monata-kunveno-online-6/
CATEGORIES:Monata Kunveno
END:VEVENT
BEGIN:VEVENT
DTSTART;TZID=America/Chicago:20230425T190000
DTEND;TZID=America/Chicago:20230425T210000
DTSTAMP:20260423T192249
CREATED:20230424T235607Z
LAST-MODIFIED:20230424T235607Z
UID:10000027-1682449200-1682456400@esperanto-chicago.org
SUMMARY:Monata Kunveno
DESCRIPTION:Our monthly meeting!\nContact us at: esperanto-chicago@googlegroups.com \nhttp://esperanto-chicago.org/retkunveno
URL:http://esperanto-chicago.org/event/monata-kunveno/
CATEGORIES:Monata Kunveno
ORGANIZER;CN="Eric Killian":MAILTO:ericesperanto@gmail.com
END:VEVENT
BEGIN:VEVENT
DTSTART;TZID=America/Chicago:20230328T190000
DTEND;TZID=America/Chicago:20230328T210000
DTSTAMP:20260423T192249
CREATED:20230313T104952Z
LAST-MODIFIED:20230313T104952Z
UID:10000018-1680030000-1680037200@esperanto-chicago.org
SUMMARY:Monata Kunveno (Online)
DESCRIPTION:Our monthly meeting!\nContact us at: esperanto-chicago@googlegroups.com \nhttp://esperanto-chicago.org/retkunveno
URL:http://esperanto-chicago.org/event/monata-kunveno-online-5/
CATEGORIES:Monata Kunveno
END:VEVENT
BEGIN:VEVENT
DTSTART;TZID=America/Chicago:20230124T193000
DTEND;TZID=America/Chicago:20230124T210000
DTSTAMP:20260423T192249
CREATED:20230101T145749Z
LAST-MODIFIED:20230125T004703Z
UID:10000101-1674588600-1674594000@esperanto-chicago.org
SUMMARY:Monata Kunveno (Online)
DESCRIPTION:Our monthly meeting!\nContact us at: esperanto-chicago@googlegroups.com \nhttp://esperanto-chicago.org/retkunveno
URL:http://esperanto-chicago.org/event/monata-kunveno-online-4/
CATEGORIES:Monata Kunveno
END:VEVENT
BEGIN:VEVENT
DTSTART;TZID=America/Chicago:20221227T190000
DTEND;TZID=America/Chicago:20221227T210000
DTSTAMP:20260423T192249
CREATED:20221204T152510Z
LAST-MODIFIED:20221204T152510Z
UID:10000084-1672167600-1672174800@esperanto-chicago.org
SUMMARY:Monata Kunveno (Online)
DESCRIPTION:Our monthly meeting!\nContact us at: esperanto-chicago@googlegroups.com \nhttp://esperanto-chicago.org/retkunveno
URL:http://esperanto-chicago.org/event/monata-kunveno-online-3/
CATEGORIES:Monata Kunveno
END:VEVENT
BEGIN:VEVENT
DTSTART;TZID=America/Chicago:20221122T190000
DTEND;TZID=America/Chicago:20221122T210000
DTSTAMP:20260423T192249
CREATED:20221023T132458Z
LAST-MODIFIED:20221023T133454Z
UID:10000063-1669143600-1669150800@esperanto-chicago.org
SUMMARY:Monata Kunveno (Online)
DESCRIPTION:Our monthly meeting!\nContact us at: esperanto-chicago@googlegroups.com \nhttp://esperanto-chicago.org/retkunveno
URL:http://esperanto-chicago.org/event/monata-kunveno-online-2/
CATEGORIES:Monata Kunveno
ATTACH;FMTTYPE=image/jpeg:http://esperanto-chicago.org/wordpress/wp-content/uploads/2022/10/2022-10-23-08_32_26-Window.jpg
END:VEVENT
BEGIN:VEVENT
DTSTART;TZID=America/Chicago:20221025T190000
DTEND;TZID=America/Chicago:20221025T210000
DTSTAMP:20260423T192249
CREATED:20221023T124806Z
LAST-MODIFIED:20221023T133359Z
UID:10000073-1666724400-1666731600@esperanto-chicago.org
SUMMARY:Monata Kunveno (Online)
DESCRIPTION:Our monthly meeting!\nContact us at: esperanto-chicago@googlegroups.com \nhttp://esperanto-chicago.org/retkunveno
URL:http://esperanto-chicago.org/event/monata-kunveno-online/
CATEGORIES:Monata Kunveno
ATTACH;FMTTYPE=image/jpeg:http://esperanto-chicago.org/wordpress/wp-content/uploads/2022/10/2022-10-23-08_32_26-Window.jpg
END:VEVENT
END:VCALENDAR