BEGIN:VCALENDAR
VERSION:2.0
PRODID:-//La Esperanto-Societo de Ĉikago - ECPv6.15.20//NONSGML v1.0//EN
CALSCALE:GREGORIAN
METHOD:PUBLISH
X-WR-CALNAME:La Esperanto-Societo de Ĉikago
X-ORIGINAL-URL:http://esperanto-chicago.org
X-WR-CALDESC:Events for La Esperanto-Societo de Ĉikago
REFRESH-INTERVAL;VALUE=DURATION:PT1H
X-Robots-Tag:noindex
X-PUBLISHED-TTL:PT1H
BEGIN:VTIMEZONE
TZID:America/Chicago
BEGIN:DAYLIGHT
TZOFFSETFROM:-0600
TZOFFSETTO:-0500
TZNAME:CDT
DTSTART:20230312T080000
END:DAYLIGHT
BEGIN:STANDARD
TZOFFSETFROM:-0500
TZOFFSETTO:-0600
TZNAME:CST
DTSTART:20231105T070000
END:STANDARD
BEGIN:DAYLIGHT
TZOFFSETFROM:-0600
TZOFFSETTO:-0500
TZNAME:CDT
DTSTART:20240310T080000
END:DAYLIGHT
BEGIN:STANDARD
TZOFFSETFROM:-0500
TZOFFSETTO:-0600
TZNAME:CST
DTSTART:20241103T070000
END:STANDARD
BEGIN:DAYLIGHT
TZOFFSETFROM:-0600
TZOFFSETTO:-0500
TZNAME:CDT
DTSTART:20250309T080000
END:DAYLIGHT
BEGIN:STANDARD
TZOFFSETFROM:-0500
TZOFFSETTO:-0600
TZNAME:CST
DTSTART:20251102T070000
END:STANDARD
END:VTIMEZONE
BEGIN:VEVENT
DTSTART;TZID=America/Chicago:20240924T183000
DTEND;TZID=America/Chicago:20240924T193000
DTSTAMP:20260424T225952
CREATED:20240910T215056Z
LAST-MODIFIED:20240920T234323Z
UID:10000290-1727202600-1727206200@esperanto-chicago.org
SUMMARY:Monata Kunveno en la biblioteko.
DESCRIPTION:Nia monata kunveno en la biblioteko en la urbocentro de Ĉikago\, en la norda parto de la 6-a etaĝo. \nOur monthly meeting in the library in downtown Chicago\, in the north part of the 6th floor. \nPor rezervi vian sidlokon\, bonvolu respondi sube! \nTo reserve your seat\, please RSVP below! \nĈiuj estas bonvenaj! \nAll are welcome! \n 
URL:http://esperanto-chicago.org/event/monata-kunveno-2/
LOCATION:Harold Washington Library\, 400 S State St\, Chicago\, IL\, 60605\, United States
CATEGORIES:Monata Kunveno
ATTACH;FMTTYPE=image/png:http://esperanto-chicago.org/wordpress/wp-content/uploads/2024/08/2024-08-26-12_16_58-Window.png
ORGANIZER;CN="Eric Killian":MAILTO:ericesperanto@gmail.com
END:VEVENT
END:VCALENDAR