BEGIN:VCALENDAR
VERSION:2.0
PRODID:-//La Esperanto-Societo de Ĉikago - ECPv6.15.20//NONSGML v1.0//EN
CALSCALE:GREGORIAN
METHOD:PUBLISH
X-ORIGINAL-URL:http://esperanto-chicago.org
X-WR-CALDESC:Events for La Esperanto-Societo de Ĉikago
REFRESH-INTERVAL;VALUE=DURATION:PT1H
X-Robots-Tag:noindex
X-PUBLISHED-TTL:PT1H
BEGIN:VTIMEZONE
TZID:America/Chicago
BEGIN:DAYLIGHT
TZOFFSETFROM:-0600
TZOFFSETTO:-0500
TZNAME:CDT
DTSTART:20230312T080000
END:DAYLIGHT
BEGIN:STANDARD
TZOFFSETFROM:-0500
TZOFFSETTO:-0600
TZNAME:CST
DTSTART:20231105T070000
END:STANDARD
BEGIN:DAYLIGHT
TZOFFSETFROM:-0600
TZOFFSETTO:-0500
TZNAME:CDT
DTSTART:20240310T080000
END:DAYLIGHT
BEGIN:STANDARD
TZOFFSETFROM:-0500
TZOFFSETTO:-0600
TZNAME:CST
DTSTART:20241103T070000
END:STANDARD
BEGIN:DAYLIGHT
TZOFFSETFROM:-0600
TZOFFSETTO:-0500
TZNAME:CDT
DTSTART:20250309T080000
END:DAYLIGHT
BEGIN:STANDARD
TZOFFSETFROM:-0500
TZOFFSETTO:-0600
TZNAME:CST
DTSTART:20251102T070000
END:STANDARD
END:VTIMEZONE
BEGIN:VEVENT
DTSTART;TZID=America/Chicago:20240819T170000
DTEND;TZID=America/Chicago:20240819T183000
DTSTAMP:20260424T011633
CREATED:20240722T131550Z
LAST-MODIFIED:20240725T235348Z
UID:10000277-1724086800-1724092200@esperanto-chicago.org
SUMMARY:Manĝu\, Manĝu!
DESCRIPTION:(English follows) \nMalkovru Esperanton ĉe “Manĝu\, Manĝu”! \nAligu al ni por vespero de lingvo kaj kamaraderio ĉe la ĉefa vizaĝ-al-vizaĝa evento de la ĉikaga Esperanto-Societo \, “Manĝu\, Manĝu”. Ĉu vi parolas flue en Esperanto aŭ simple scivolas\, ĉi tiu kunveno estas taŭga por ĉiuj. Situanta ĉe restoracio\, ĝi estas perfekta okazo por ĝui bonan manĝon kaj belan kompanion kun esploro de la beleco de Esperanto. \nKion Atendi: \n* Lingva Diverseco: Imersiĝu en Esperanto\, facile lernebla\, internacia lingvo konata pro ĝia simplereco kaj inkluziveco.\n* Amika Afero: Ĉu vi estas sperta parolanto aŭ komencanto\, ĉiuj bonvenas. Ne zorgu\, ni ankaŭ parolas angle!\n* Bona Manĝo: Kiel vi plej deziras la manĝaĵojn de la restoracio dum ĝuante stimulan konversacion kun samideanoj. \nVenu malsata por bona manĝo\, bela konversacio\, kaj ŝancon por malkovri la internacian lingvon de amikeco. Aligu al ni por “Manĝu\, Manĝu” kaj spertu la ĝojon de Esperanto mem. \nPor pliaj informoj kaj vidi la menuon\, vizitu: https://buona.com/menu/ \n————————————————————– \nDiscover Esperanto at “Manĝu\, Manĝu”! \nJoin us for an evening of language and camaraderie at the Esperanto Society of Chicago’s signature event\, “Manĝu\, Manĝu” (Eat\, Eat). Whether you’re fluent in Esperanto or simply curious\, this gathering is designed for everyone. Located at a cozy restaurant\, it’s the perfect opportunity to enjoy good food and great company while exploring the beauty of Esperanto. \nWhat to Expect: \n* Language Diversity: Immerse yourself in Esperanto\, an easy-to-learn\, international language known for its simplicity and inclusivity.\n* Friendly Atmosphere: Whether you’re a seasoned speaker or a complete beginner\, everyone is welcome. Don’t worry\, we also speak English!\n* Delicious Dining: Indulge in the restaurant’s menu offerings while enjoying stimulating conversation with fellow language enthusiasts. \nCome hungry for good food\, great conversation\, and a chance to discover the global language of friendship. Join us for “Manĝu\, Manĝu” and experience the joy of Esperanto firsthand! \nFor more information and to view the menu\, visit: https://buona.com/menu/ \nNote: “Manĝu\, Manĝu” translates to “Eat\, Eat” in English. \n\n\n\n		\n				\n						\n			\n								\n			\n		\n							\n			\n				\n						\n			\n								\n			\n		\n							\n			\n				\n						\n			\n								\n			\n		\n							\n			\n				\n						\n			\n								\n			\n		\n							\n			\n				\n						\n			\n								\n			\n		\n							\n			\n				\n						\n			\n								\n			\n		\n							\n			\n				\n						\n			\n								\n			\n		\n							\n			\n				\n						\n			\n								\n			\n		\n							\n			\n				\n						\n			\n								\n			\n		\n							\n			\n				\n						\n			\n								\n			\n		\n							\n			\n				\n						\n			\n								\n			\n		\n							\n			\n				\n						\n			\n								\n			\n		\n							\n			\n				\n						\n			\n								\n			\n		\n							\n			\n				\n						\n			\n								\n			\n		\n							\n			\n	\n	\n\n		\n		[Show slideshow]\n\n	\n	\n		\n			\nAbout Esperanto: Esperanto is a constructed international language designed for easy learning and global communication. It offers a unique window into diverse cultures and fosters friendships worldwide. \nAbout Esperanto Society of Chicago: Since 1954\, the Esperanto Society of Chicago is a welcoming community dedicated to promoting Esperanto language and culture in the Chicagoland area. We organize events\, language meetups\, and cultural exchanges to support both beginners and fluent speakers. \nJoin the Chicago Esperanto Society: https://esperanto-chicago.org/members/ \nJoin our mailing list: https://docs.google.com/forms/d/e/1FAIpQLSdMSKYjEfxfL_rQEM3bEc1UnZY0jJbLDOE_gvwUgwwm63QUjw/viewform?usp=sf_link
URL:http://esperanto-chicago.org/event/mangu-mangu-12/
LOCATION:Buona\, Oak Park\, 7025 W North Ave\, Chicago\, IL\, 60302\, United States
CATEGORIES:Manĝu, manĝu!
ATTACH;FMTTYPE=image/jpeg:http://esperanto-chicago.org/wordpress/wp-content/uploads/2022/03/2022-03-16-13_48_15-Untitled-presentation-Google-Slides.jpg
ORGANIZER;CN="Randy Ream":MAILTO:rsream@gmail.com
END:VEVENT
BEGIN:VEVENT
DTSTART;TZID=America/Chicago:20240812T170000
DTEND;TZID=America/Chicago:20240812T183000
DTSTAMP:20260424T011633
CREATED:20240722T131548Z
LAST-MODIFIED:20240725T235405Z
UID:10000274-1723482000-1723487400@esperanto-chicago.org
SUMMARY:Manĝu\, Manĝu!
DESCRIPTION:(English follows) \nMalkovru Esperanton ĉe “Manĝu\, Manĝu”! \nAligu al ni por vespero de lingvo kaj kamaraderio ĉe la ĉefa vizaĝ-al-vizaĝa evento de la ĉikaga Esperanto-Societo \, “Manĝu\, Manĝu”. Ĉu vi parolas flue en Esperanto aŭ simple scivolas\, ĉi tiu kunveno estas taŭga por ĉiuj. Situanta ĉe restoracio\, ĝi estas perfekta okazo por ĝui bonan manĝon kaj belan kompanion kun esploro de la beleco de Esperanto. \nKion Atendi: \n* Lingva Diverseco: Imersiĝu en Esperanto\, facile lernebla\, internacia lingvo konata pro ĝia simplereco kaj inkluziveco.\n* Amika Afero: Ĉu vi estas sperta parolanto aŭ komencanto\, ĉiuj bonvenas. Ne zorgu\, ni ankaŭ parolas angle!\n* Bona Manĝo: Kiel vi plej deziras la manĝaĵojn de la restoracio dum ĝuante stimulan konversacion kun samideanoj. \nVenu malsata por bona manĝo\, bela konversacio\, kaj ŝancon por malkovri la internacian lingvon de amikeco. Aligu al ni por “Manĝu\, Manĝu” kaj spertu la ĝojon de Esperanto mem. \nPor pliaj informoj kaj vidi la menuon\, vizitu: https://buona.com/menu/ \n————————————————————– \nDiscover Esperanto at “Manĝu\, Manĝu”! \nJoin us for an evening of language and camaraderie at the Esperanto Society of Chicago’s signature event\, “Manĝu\, Manĝu” (Eat\, Eat). Whether you’re fluent in Esperanto or simply curious\, this gathering is designed for everyone. Located at a cozy restaurant\, it’s the perfect opportunity to enjoy good food and great company while exploring the beauty of Esperanto. \nWhat to Expect: \n* Language Diversity: Immerse yourself in Esperanto\, an easy-to-learn\, international language known for its simplicity and inclusivity.\n* Friendly Atmosphere: Whether you’re a seasoned speaker or a complete beginner\, everyone is welcome. Don’t worry\, we also speak English!\n* Delicious Dining: Indulge in the restaurant’s menu offerings while enjoying stimulating conversation with fellow language enthusiasts. \nCome hungry for good food\, great conversation\, and a chance to discover the global language of friendship. Join us for “Manĝu\, Manĝu” and experience the joy of Esperanto firsthand! \nFor more information and to view the menu\, visit: https://buona.com/menu/ \nNote: “Manĝu\, Manĝu” translates to “Eat\, Eat” in English. \n\n\n\n		\n				\n						\n			\n								\n			\n		\n							\n			\n				\n						\n			\n								\n			\n		\n							\n			\n				\n						\n			\n								\n			\n		\n							\n			\n				\n						\n			\n								\n			\n		\n							\n			\n				\n						\n			\n								\n			\n		\n							\n			\n				\n						\n			\n								\n			\n		\n							\n			\n				\n						\n			\n								\n			\n		\n							\n			\n				\n						\n			\n								\n			\n		\n							\n			\n				\n						\n			\n								\n			\n		\n							\n			\n				\n						\n			\n								\n			\n		\n							\n			\n				\n						\n			\n								\n			\n		\n							\n			\n				\n						\n			\n								\n			\n		\n							\n			\n				\n						\n			\n								\n			\n		\n							\n			\n				\n						\n			\n								\n			\n		\n							\n			\n	\n	\n\n		\n		[Show slideshow]\n\n	\n	\n		\n			\nAbout Esperanto: Esperanto is a constructed international language designed for easy learning and global communication. It offers a unique window into diverse cultures and fosters friendships worldwide. \nAbout Esperanto Society of Chicago: Since 1954\, the Esperanto Society of Chicago is a welcoming community dedicated to promoting Esperanto language and culture in the Chicagoland area. We organize events\, language meetups\, and cultural exchanges to support both beginners and fluent speakers. \nJoin the Chicago Esperanto Society: https://esperanto-chicago.org/members/ \nJoin our mailing list: https://docs.google.com/forms/d/e/1FAIpQLSdMSKYjEfxfL_rQEM3bEc1UnZY0jJbLDOE_gvwUgwwm63QUjw/viewform?usp=sf_link
URL:http://esperanto-chicago.org/event/mangu-mangu-11/
LOCATION:Buona\, Oak Park\, 7025 W North Ave\, Chicago\, IL\, 60302\, United States
CATEGORIES:Manĝu, manĝu!
ATTACH;FMTTYPE=image/jpeg:http://esperanto-chicago.org/wordpress/wp-content/uploads/2022/03/2022-03-16-13_48_15-Untitled-presentation-Google-Slides.jpg
ORGANIZER;CN="Randy Ream":MAILTO:rsream@gmail.com
END:VEVENT
BEGIN:VEVENT
DTSTART;TZID=America/Chicago:20240805T170000
DTEND;TZID=America/Chicago:20240805T183000
DTSTAMP:20260424T011633
CREATED:20240722T131546Z
LAST-MODIFIED:20240725T235440Z
UID:10000271-1722877200-1722882600@esperanto-chicago.org
SUMMARY:Manĝu\, Manĝu!
DESCRIPTION:(English follows) \nMalkovru Esperanton ĉe “Manĝu\, Manĝu”! \nAligu al ni por vespero de lingvo kaj kamaraderio ĉe la ĉefa vizaĝ-al-vizaĝa evento de la ĉikaga Esperanto-Societo \, “Manĝu\, Manĝu”. Ĉu vi parolas flue en Esperanto aŭ simple scivolas\, ĉi tiu kunveno estas taŭga por ĉiuj. Situanta ĉe restoracio\, ĝi estas perfekta okazo por ĝui bonan manĝon kaj belan kompanion kun esploro de la beleco de Esperanto. \nKion Atendi: \n* Lingva Diverseco: Imersiĝu en Esperanto\, facile lernebla\, internacia lingvo konata pro ĝia simplereco kaj inkluziveco.\n* Amika Afero: Ĉu vi estas sperta parolanto aŭ komencanto\, ĉiuj bonvenas. Ne zorgu\, ni ankaŭ parolas angle!\n* Bona Manĝo: Kiel vi plej deziras la manĝaĵojn de la restoracio dum ĝuante stimulan konversacion kun samideanoj. \nVenu malsata por bona manĝo\, bela konversacio\, kaj ŝancon por malkovri la internacian lingvon de amikeco. Aligu al ni por “Manĝu\, Manĝu” kaj spertu la ĝojon de Esperanto mem. \nPor pliaj informoj kaj vidi la menuon\, vizitu: https://buona.com/menu/ \n————————————————————– \nDiscover Esperanto at “Manĝu\, Manĝu”! \nJoin us for an evening of language and camaraderie at the Esperanto Society of Chicago’s signature event\, “Manĝu\, Manĝu” (Eat\, Eat). Whether you’re fluent in Esperanto or simply curious\, this gathering is designed for everyone. Located at a cozy restaurant\, it’s the perfect opportunity to enjoy good food and great company while exploring the beauty of Esperanto. \nWhat to Expect: \n* Language Diversity: Immerse yourself in Esperanto\, an easy-to-learn\, international language known for its simplicity and inclusivity.\n* Friendly Atmosphere: Whether you’re a seasoned speaker or a complete beginner\, everyone is welcome. Don’t worry\, we also speak English!\n* Delicious Dining: Indulge in the restaurant’s menu offerings while enjoying stimulating conversation with fellow language enthusiasts. \nCome hungry for good food\, great conversation\, and a chance to discover the global language of friendship. Join us for “Manĝu\, Manĝu” and experience the joy of Esperanto firsthand! \nFor more information and to view the menu\, visit: https://buona.com/menu/ \nNote: “Manĝu\, Manĝu” translates to “Eat\, Eat” in English. \n\n\n\n		\n				\n						\n			\n								\n			\n		\n							\n			\n				\n						\n			\n								\n			\n		\n							\n			\n				\n						\n			\n								\n			\n		\n							\n			\n				\n						\n			\n								\n			\n		\n							\n			\n				\n						\n			\n								\n			\n		\n							\n			\n				\n						\n			\n								\n			\n		\n							\n			\n				\n						\n			\n								\n			\n		\n							\n			\n				\n						\n			\n								\n			\n		\n							\n			\n				\n						\n			\n								\n			\n		\n							\n			\n				\n						\n			\n								\n			\n		\n							\n			\n				\n						\n			\n								\n			\n		\n							\n			\n				\n						\n			\n								\n			\n		\n							\n			\n				\n						\n			\n								\n			\n		\n							\n			\n				\n						\n			\n								\n			\n		\n							\n			\n	\n	\n\n		\n		[Show slideshow]\n\n	\n	\n		\n			\nAbout Esperanto: Esperanto is a constructed international language designed for easy learning and global communication. It offers a unique window into diverse cultures and fosters friendships worldwide. \nAbout Esperanto Society of Chicago: Since 1954\, the Esperanto Society of Chicago is a welcoming community dedicated to promoting Esperanto language and culture in the Chicagoland area. We organize events\, language meetups\, and cultural exchanges to support both beginners and fluent speakers. \nJoin the Chicago Esperanto Society: https://esperanto-chicago.org/members/ \nJoin our mailing list: https://docs.google.com/forms/d/e/1FAIpQLSdMSKYjEfxfL_rQEM3bEc1UnZY0jJbLDOE_gvwUgwwm63QUjw/viewform?usp=sf_link
URL:http://esperanto-chicago.org/event/mangu-mangu-10/
LOCATION:Buona\, Oak Park\, 7025 W North Ave\, Chicago\, IL\, 60302\, United States
CATEGORIES:Manĝu, manĝu!
ATTACH;FMTTYPE=image/jpeg:http://esperanto-chicago.org/wordpress/wp-content/uploads/2022/03/2022-03-16-13_48_15-Untitled-presentation-Google-Slides.jpg
ORGANIZER;CN="Randy Ream":MAILTO:rsream@gmail.com
END:VEVENT
BEGIN:VEVENT
DTSTART;TZID=America/Chicago:20240729T170000
DTEND;TZID=America/Chicago:20240729T183000
DTSTAMP:20260424T011633
CREATED:20240721T112932Z
LAST-MODIFIED:20240725T205759Z
UID:10000267-1722272400-1722277800@esperanto-chicago.org
SUMMARY:Manĝu\, Manĝu!
DESCRIPTION:(English follows) \nMalkovru Esperanton ĉe “Manĝu\, Manĝu”! \nAligu al ni por vespero de lingvo kaj kamaraderio ĉe la ĉefa vizaĝ-al-vizaĝa evento de la ĉikaga Esperanto-Societo \, “Manĝu\, Manĝu”. Ĉu vi parolas flue en Esperanto aŭ simple scivolas\, ĉi tiu kunveno estas taŭga por ĉiuj. Situanta ĉe restoracio\, ĝi estas perfekta okazo por ĝui bonan manĝon kaj belan kompanion kun esploro de la beleco de Esperanto. \nKion Atendi: \n* Lingva Diverseco: Imersiĝu en Esperanto\, facile lernebla\, internacia lingvo konata pro ĝia simplereco kaj inkluziveco.\n* Amika Afero: Ĉu vi estas sperta parolanto aŭ komencanto\, ĉiuj bonvenas. Ne zorgu\, ni ankaŭ parolas angle!\n* Bona Manĝo: Kiel vi plej deziras la manĝaĵojn de la restoracio dum ĝuante stimulan konversacion kun samideanoj. \nVenu malsata por bona manĝo\, bela konversacio\, kaj ŝancon por malkovri la internacian lingvon de amikeco. Aligu al ni por “Manĝu\, Manĝu” kaj spertu la ĝojon de Esperanto mem. \nPor pliaj informoj kaj vidi la menuon\, vizitu: https://buona.com/menu/ \n————————————————————– \nDiscover Esperanto at “Manĝu\, Manĝu”! \nJoin us for an evening of language and camaraderie at the Esperanto Society of Chicago’s signature event\, “Manĝu\, Manĝu” (Eat\, Eat). Whether you’re fluent in Esperanto or simply curious\, this gathering is designed for everyone. Located at a cozy restaurant\, it’s the perfect opportunity to enjoy good food and great company while exploring the beauty of Esperanto. \nWhat to Expect: \n* Language Diversity: Immerse yourself in Esperanto\, an easy-to-learn\, international language known for its simplicity and inclusivity.\n* Friendly Atmosphere: Whether you’re a seasoned speaker or a complete beginner\, everyone is welcome. Don’t worry\, we also speak English!\n* Delicious Dining: Indulge in the restaurant’s menu offerings while enjoying stimulating conversation with fellow language enthusiasts. \nCome hungry for good food\, great conversation\, and a chance to discover the global language of friendship. Join us for “Manĝu\, Manĝu” and experience the joy of Esperanto firsthand! \nFor more information and to view the menu\, visit: https://buona.com/menu/ \nNote: “Manĝu\, Manĝu” translates to “Eat\, Eat” in English. \n  \n\n\n\n		\n				\n						\n			\n								\n			\n		\n							\n			\n				\n						\n			\n								\n			\n		\n							\n			\n				\n						\n			\n								\n			\n		\n							\n			\n				\n						\n			\n								\n			\n		\n							\n			\n				\n						\n			\n								\n			\n		\n							\n			\n				\n						\n			\n								\n			\n		\n							\n			\n				\n						\n			\n								\n			\n		\n							\n			\n				\n						\n			\n								\n			\n		\n							\n			\n				\n						\n			\n								\n			\n		\n							\n			\n				\n						\n			\n								\n			\n		\n							\n			\n				\n						\n			\n								\n			\n		\n							\n			\n				\n						\n			\n								\n			\n		\n							\n			\n				\n						\n			\n								\n			\n		\n							\n			\n				\n						\n			\n								\n			\n		\n							\n			\n	\n	\n\n		\n		[Show slideshow]\n\n	\n	\n		\n			\nAbout Esperanto: Esperanto is a constructed international language designed for easy learning and global communication. It offers a unique window into diverse cultures and fosters friendships worldwide. \nAbout Esperanto Society of Chicago: Since 1954\, the Esperanto Society of Chicago is a welcoming community dedicated to promoting Esperanto language and culture in the Chicagoland area. We organize events\, language meetups\, and cultural exchanges to support both beginners and fluent speakers. \nJoin the Chicago Esperanto Society: https://esperanto-chicago.org/members/ \nJoin our mailing list: https://docs.google.com/forms/d/e/1FAIpQLSdMSKYjEfxfL_rQEM3bEc1UnZY0jJbLDOE_gvwUgwwm63QUjw/viewform?usp=sf_link
URL:http://esperanto-chicago.org/event/mangu-mangu-9/
LOCATION:Buona\, Oak Park\, 7025 W North Ave\, Chicago\, IL\, 60302\, United States
CATEGORIES:Manĝu, manĝu!
ATTACH;FMTTYPE=image/jpeg:http://esperanto-chicago.org/wordpress/wp-content/uploads/2022/03/2022-03-16-13_48_15-Untitled-presentation-Google-Slides.jpg
ORGANIZER;CN="Randy Ream":MAILTO:rsream@gmail.com
END:VEVENT
BEGIN:VEVENT
DTSTART;TZID=America/Chicago:20240722T170000
DTEND;TZID=America/Chicago:20240722T183000
DTSTAMP:20260424T011633
CREATED:20240721T112635Z
LAST-MODIFIED:20240721T112637Z
UID:10000266-1721667600-1721673000@esperanto-chicago.org
SUMMARY:Manĝu\, Manĝu!
DESCRIPTION:Manĝu\, kaj babilu kun ni!\nVidu la menuon:  https://buona.com/menu/ \n==== \nYou don’t have to speak Esperanto to attend this event (We also speak English) \n  \nSee the menu: https://buona.com/menu/ \n  \n 
URL:http://esperanto-chicago.org/event/mangu-mangu-8/
LOCATION:Buona\, Oak Park\, 7025 W North Ave\, Chicago\, IL\, 60302\, United States
CATEGORIES:Manĝu, manĝu!
ATTACH;FMTTYPE=image/jpeg:http://esperanto-chicago.org/wordpress/wp-content/uploads/2022/03/2022-03-16-13_48_15-Untitled-presentation-Google-Slides.jpg
ORGANIZER;CN="Randy Ream":MAILTO:rsream@gmail.com
END:VEVENT
BEGIN:VEVENT
DTSTART;TZID=America/Chicago:20240715T170000
DTEND;TZID=America/Chicago:20240715T183000
DTSTAMP:20260424T011633
CREATED:20240714T141726Z
LAST-MODIFIED:20240714T143236Z
UID:10000265-1721062800-1721068200@esperanto-chicago.org
SUMMARY:Manĝu\, Manĝu!
DESCRIPTION:Manĝu\, kaj babilu kun ni!\nVidu la menuon:  https://buona.com/menu/ \n==== \nYou don’t have to speak Esperanto to attend this event (We also speak English) \n  \nSee the menu: https://buona.com/menu/ \n  \n 
URL:http://esperanto-chicago.org/event/mangu-mangu-7/
LOCATION:Buona\, Oak Park\, 7025 W North Ave\, Chicago\, IL\, 60302\, United States
CATEGORIES:Manĝu, manĝu!
ATTACH;FMTTYPE=image/jpeg:http://esperanto-chicago.org/wordpress/wp-content/uploads/2022/03/2022-03-16-13_48_15-Untitled-presentation-Google-Slides.jpg
ORGANIZER;CN="Randy Ream":MAILTO:rsream@gmail.com
END:VEVENT
BEGIN:VEVENT
DTSTART;TZID=America/Chicago:20240701T170000
DTEND;TZID=America/Chicago:20240701T183000
DTSTAMP:20260424T011633
CREATED:20240630T151628Z
LAST-MODIFIED:20240630T151632Z
UID:10000264-1719853200-1719858600@esperanto-chicago.org
SUMMARY:Manĝu\, Manĝu!
DESCRIPTION:Manĝu\, kaj babilu kun ni!\n==== \nYou don’t have to speak Esperanto to attend this event (We also speak English)
URL:http://esperanto-chicago.org/event/mangu-mangu-6/
LOCATION:Buona\, Oak Park\, 7025 W North Ave\, Chicago\, IL\, 60302\, United States
CATEGORIES:Manĝu, manĝu!
ATTACH;FMTTYPE=image/jpeg:http://esperanto-chicago.org/wordpress/wp-content/uploads/2022/03/2022-03-16-13_48_15-Untitled-presentation-Google-Slides.jpg
END:VEVENT
BEGIN:VEVENT
DTSTART;TZID=America/Chicago:20240506T170000
DTEND;TZID=America/Chicago:20240506T190000
DTSTAMP:20260424T011633
CREATED:20230901T013611Z
LAST-MODIFIED:20240428T165002Z
UID:10000167-1715014800-1715022000@esperanto-chicago.org
SUMMARY:Manĝu\, Manĝu! kun Brandon Sowers
DESCRIPTION:Manĝu kun ni kaj nia gasto\, Brandon Sowers\, la prezidanto de Esperanto-USA. \n \nNi manĝos ĉe Buona\, 7025 W North Ave\, Chicago\, IL 60302. \nJe la 17:00 ĝis la 19:00 \n 
URL:http://esperanto-chicago.org/event/mangu-mangu/
LOCATION:Buona\, Oak Park\, 7025 W North Ave\, Chicago\, IL\, 60302\, United States
CATEGORIES:Manĝu, manĝu!
ATTACH;FMTTYPE=image/jpeg:http://esperanto-chicago.org/wordpress/wp-content/uploads/2022/03/2022-03-16-13_48_15-Untitled-presentation-Google-Slides.jpg
ORGANIZER;CN="Randy Ream":MAILTO:rsream@gmail.com
END:VEVENT
BEGIN:VEVENT
DTSTART;TZID=America/Chicago:20240314T180000
DTEND;TZID=America/Chicago:20240314T190000
DTSTAMP:20260424T011633
CREATED:20231001T144931Z
LAST-MODIFIED:20240314T012016Z
UID:10000168-1710439200-1710442800@esperanto-chicago.org
SUMMARY:Manĝu\, Manĝu!
DESCRIPTION:Ni manĝas kaj babilas! \n\nRenkontiĝu kun ni por bonaj manĝaĵo kaj konversacio! \n–\nJoin us for some good food and conversation!
URL:http://esperanto-chicago.org/event/mangu-mangu-2/
LOCATION:Cafecito\, 26 E Congress Pkwy\, Chicago\, IL\, 60605
CATEGORIES:Manĝu, manĝu!
ATTACH;FMTTYPE=image/jpeg:http://esperanto-chicago.org/wordpress/wp-content/uploads/2022/03/2022-03-16-13_48_15-Untitled-presentation-Google-Slides.jpg
ORGANIZER;CN="Eric Killian":MAILTO:ericesperanto@gmail.com
END:VEVENT
END:VCALENDAR