BEGIN:VCALENDAR
VERSION:2.0
PRODID:-//La Esperanto-Societo de Ĉikago - ECPv6.15.20//NONSGML v1.0//EN
CALSCALE:GREGORIAN
METHOD:PUBLISH
X-ORIGINAL-URL:http://esperanto-chicago.org
X-WR-CALDESC:Events for La Esperanto-Societo de Ĉikago
REFRESH-INTERVAL;VALUE=DURATION:PT1H
X-Robots-Tag:noindex
X-PUBLISHED-TTL:PT1H
BEGIN:VTIMEZONE
TZID:America/Chicago
BEGIN:DAYLIGHT
TZOFFSETFROM:-0600
TZOFFSETTO:-0500
TZNAME:CDT
DTSTART:20250309T080000
END:DAYLIGHT
BEGIN:STANDARD
TZOFFSETFROM:-0500
TZOFFSETTO:-0600
TZNAME:CST
DTSTART:20251102T070000
END:STANDARD
BEGIN:DAYLIGHT
TZOFFSETFROM:-0600
TZOFFSETTO:-0500
TZNAME:CDT
DTSTART:20260308T080000
END:DAYLIGHT
BEGIN:STANDARD
TZOFFSETFROM:-0500
TZOFFSETTO:-0600
TZNAME:CST
DTSTART:20261101T070000
END:STANDARD
BEGIN:DAYLIGHT
TZOFFSETFROM:-0600
TZOFFSETTO:-0500
TZNAME:CDT
DTSTART:20270314T080000
END:DAYLIGHT
BEGIN:STANDARD
TZOFFSETFROM:-0500
TZOFFSETTO:-0600
TZNAME:CST
DTSTART:20271107T070000
END:STANDARD
END:VTIMEZONE
BEGIN:VEVENT
DTSTART;TZID=America/Chicago:20260614T110000
DTEND;TZID=America/Chicago:20260614T150000
DTSTAMP:20260423T150635
CREATED:20251228T152630Z
LAST-MODIFIED:20260408T213037Z
UID:10000762-1781434800-1781449200@esperanto-chicago.org
SUMMARY:Somera Pikniko!  Summer Picnic
DESCRIPTION:https://esperanto-chicago.org/event/2025-06-14/\n\n(Scroll down for English) \nSomera Pikniko de la Esperanto-Societo de Ĉikago \n📅 Dato: Dimanĉo\, la 21-an de junio\n⏰ Tempo: 11:00 – 15:00\n📍 Loko: Schiller Woods-East\, 8700 W Irving Park Road\, Ĉikago\, IL\nMapo de la Piknikejo \nAliĝu al ni por ĝoja somera pikniko en la parko! Ĉu vi estas membro\, ŝatanto de Esperanto\, aŭ simple scivolema\, vi estas bonvena. Bonvolu kunporti iom da manĝaĵo por kundividi kaj ĝuu posttagmezon de bona kompanio kaj konversacio. \nĈiuj estas bonvenaj. Ne gravas ĉu oni estas membro aŭ eĉ parolas Esperanton. Bonvolu indiki sube ke vi planas partopreni.   \nĈu vi ne estas membro? Ne problemo!\nMembreco ne estas necesa por partopreni\, sed se vi volas subteni nian komunumon\,  vi rajtas tion fari ĉi tie: esperanto-chicago.org/members \nNi antaŭĝojas vidi vin tie! \n===================================== \nThe Esperanto Society of Chicago Summer Picnic \n📅 Date: Sunday\, June 21\n⏰ Time: 12:00 PM – 3:00 PM\n📍 Location: Schiller Woods-East\, 8700 W Irving Park Road\, Chicago\, IL\nMap to the Picnic Area \nJoin us for a delightful summer picnic in the park! Whether you’re a member\, a fan of Esperanto\, or simply curious\, you are welcome to attend. Bring a dish to share and enjoy an afternoon of good company and conversation. \n\nIn case of bad weather – If the weather is bad\, we will postpone for  June 21.   Check back here in the morning of June 14th to confirm. \n\nDo I need to register?  No\, simply come join us!  But if you RSVP below\, it will help us plan. \nNot a member? No problem! All are welcome!  You don’t need to be a member\, or even speak Esperanto to participate.  But if you’d like to support our community\, you can become a member. \nCertified Crocodile Friendly!\nFor updates\, please contact us at Esperanto-Chicago@googlegroups.com. \nLooking forward to seeing you there! \nSee you at the Picnic! \n\n\n\n\n		\n				\n						\n			\n								\n			\n		\n							\n			\n				\n						\n			\n								\n			\n		\n							\n			\n				\n						\n			\n								\n			\n		\n							\n			\n	\n	\n\n		\n		[Show slideshow]\n\n	\n	\n		\n			\n\n\n———————————————————————————————————- \nAbout Esperanto: Esperanto is a constructed international language designed for easy learning and global communication. It offers a unique window into diverse cultures and fosters friendships worldwide. \nAbout Esperanto Society of Chicago: Since 1954\, the Esperanto Society of Chicago is a welcoming community dedicated to promoting Esperanto language and culture in the Chicagoland area. We organize events\, language meetups\, and cultural exchanges to support both beginners and fluent speakers. \nContact us: esperanto-chicago@googlegroups.com\n  \nBecome a Member\nJoin our Mailing List\n\nMake a Donation\n\n  \nSee more events at: esperanto-chicago.org/events\n\n 
URL:http://esperanto-chicago.org/event/2025-06-14/
LOCATION:Schiller Woods\, 8400 W Irving Park Road\, Chicago\, IL
ATTACH;FMTTYPE=image/png:http://esperanto-chicago.org/wordpress/wp-content/uploads/2025/07/Gemini_Generated_Image_77aoat77aoat77ao.png
ORGANIZER;CN="Randy Ream":MAILTO:rsream@gmail.com
END:VEVENT
END:VCALENDAR