BEGIN:VCALENDAR
VERSION:2.0
PRODID:-//La Esperanto-Societo de Ĉikago - ECPv6.15.20//NONSGML v1.0//EN
CALSCALE:GREGORIAN
METHOD:PUBLISH
X-ORIGINAL-URL:http://esperanto-chicago.org
X-WR-CALDESC:Events for La Esperanto-Societo de Ĉikago
REFRESH-INTERVAL;VALUE=DURATION:PT1H
X-Robots-Tag:noindex
X-PUBLISHED-TTL:PT1H
BEGIN:VTIMEZONE
TZID:America/Chicago
BEGIN:DAYLIGHT
TZOFFSETFROM:-0600
TZOFFSETTO:-0500
TZNAME:CDT
DTSTART:20250309T080000
END:DAYLIGHT
BEGIN:STANDARD
TZOFFSETFROM:-0500
TZOFFSETTO:-0600
TZNAME:CST
DTSTART:20251102T070000
END:STANDARD
BEGIN:DAYLIGHT
TZOFFSETFROM:-0600
TZOFFSETTO:-0500
TZNAME:CDT
DTSTART:20260308T080000
END:DAYLIGHT
BEGIN:STANDARD
TZOFFSETFROM:-0500
TZOFFSETTO:-0600
TZNAME:CST
DTSTART:20261101T070000
END:STANDARD
BEGIN:DAYLIGHT
TZOFFSETFROM:-0600
TZOFFSETTO:-0500
TZNAME:CDT
DTSTART:20270314T080000
END:DAYLIGHT
BEGIN:STANDARD
TZOFFSETFROM:-0500
TZOFFSETTO:-0600
TZNAME:CST
DTSTART:20271107T070000
END:STANDARD
END:VTIMEZONE
BEGIN:VEVENT
DTSTART;TZID=America/Chicago:20260407T180000
DTEND;TZID=America/Chicago:20260407T193000
DTSTAMP:20260423T122452
CREATED:20251228T154451Z
LAST-MODIFIED:20260401T230826Z
UID:10000747-1775584800-1775590200@esperanto-chicago.org
SUMMARY:Ĉikago Antaŭen↗
DESCRIPTION:WHAT:       Discussion with the founders of Esperanto Antaŭen\nWHERE:   Sulzer Regional Library\, 4455 N Lincoln Ave\, Chicago\, IL 60625\nWHEN:      April 7\, 2025\, 6:00 PM to 7:30 PM\n \n \n\nLa Dinama Duo por Esperanto!\nSherry Wells kaj David Yaki\nprelegos pri:\n1. La Promesa Projekto\n2. La nova 20-hora kurso kun egaleco\n3. Kiel vojagxi malpli kosta kaj disvatigi E-on\n4. Rotary Internacia kaj Esperanto\nABOUT ESPERANTO ANTAŬEN \nEsperanto Antaŭen (meaning Esperanto Forward) is a registered not-for-profit business professionally promoting Esperanto. Propono 2024 (Proposal 2024) is a three-part action plan to turn the dream of Esperanto into reality. Our goal is to make Esperanto a major world language within ten years. Read more.  \nLearn more about Esperanto Antaŭen at  https://ea-mondo.org/ \n  \nIf you RSVP below\, we will save you a seat. \n\nAbout Esperanto: Esperanto is a constructed international language designed for easy learning and global communication. It offers a unique window into diverse cultures and fosters friendships worldwide. \nAbout Esperanto Society of Chicago: Since 1954\, the Esperanto Society of Chicago is a welcoming community dedicated to promoting Esperanto language and culture in the Chicagoland area. We organize events\, language meetups\, and cultural exchanges to support both beginners and fluent speakers. \nContact us: esperanto-chicago@googlegroups.com\n  \nBecome a Member\nJoin our Mailing List\n\nMake a Donation\n\n  \nSee more events at: esperanto-chicago.org/events\n\n 
URL:http://esperanto-chicago.org/event/cikago-antauen/
LOCATION:Sulzer Regional Library\, 4455 N Lincoln Ave\, Chicago\, IL\, 60625
ATTACH;FMTTYPE=image/png:http://esperanto-chicago.org/wordpress/wp-content/uploads/2025/12/Esperanto-Antauen.png
ORGANIZER;CN="Randy Ream":MAILTO:rsream@gmail.com
END:VEVENT
END:VCALENDAR