BEGIN:VCALENDAR
VERSION:2.0
PRODID:-//La Esperanto-Societo de Ĉikago - ECPv6.15.20//NONSGML v1.0//EN
CALSCALE:GREGORIAN
METHOD:PUBLISH
X-WR-CALNAME:La Esperanto-Societo de Ĉikago
X-ORIGINAL-URL:http://esperanto-chicago.org
X-WR-CALDESC:Events for La Esperanto-Societo de Ĉikago
REFRESH-INTERVAL;VALUE=DURATION:PT1H
X-Robots-Tag:noindex
X-PUBLISHED-TTL:PT1H
BEGIN:VTIMEZONE
TZID:America/Chicago
BEGIN:DAYLIGHT
TZOFFSETFROM:-0600
TZOFFSETTO:-0500
TZNAME:CDT
DTSTART:20240310T080000
END:DAYLIGHT
BEGIN:STANDARD
TZOFFSETFROM:-0500
TZOFFSETTO:-0600
TZNAME:CST
DTSTART:20241103T070000
END:STANDARD
BEGIN:DAYLIGHT
TZOFFSETFROM:-0600
TZOFFSETTO:-0500
TZNAME:CDT
DTSTART:20250309T080000
END:DAYLIGHT
BEGIN:STANDARD
TZOFFSETFROM:-0500
TZOFFSETTO:-0600
TZNAME:CST
DTSTART:20251102T070000
END:STANDARD
BEGIN:DAYLIGHT
TZOFFSETFROM:-0600
TZOFFSETTO:-0500
TZNAME:CDT
DTSTART:20260308T080000
END:DAYLIGHT
BEGIN:STANDARD
TZOFFSETFROM:-0500
TZOFFSETTO:-0600
TZNAME:CST
DTSTART:20261101T070000
END:STANDARD
END:VTIMEZONE
BEGIN:VEVENT
DTSTART;TZID=America/Chicago:20251221T090000
DTEND;TZID=America/Chicago:20251221T110000
DTSTAMP:20260423T180806
CREATED:20251118T004252Z
LAST-MODIFIED:20251118T004252Z
UID:10000731-1766307600-1766314800@esperanto-chicago.org
SUMMARY:Kafeja Kunveno / Coffee Time(Online)
DESCRIPTION:The Esperanto Society of Chicago  http://esperanto-chicago.org/events/\nNi trinkos kafon kaj parolos Esperanton! Ne zorgu pri via lingva nivelo! – We will drink coffee and speak Esperanto!  \nWe will meet online!  When the time comes use the link below:\nhttp://esperanto-chicago.org/retkunveno \npasvorto: 046492 \n \n\nAbout Esperanto: Esperanto is a constructed international language designed for easy learning and global communication. It offers a unique window into diverse cultures and fosters friendships worldwide. \nAbout Esperanto Society of Chicago: Since 1954\, the Esperanto Society of Chicago is a welcoming community dedicated to promoting Esperanto language and culture in the Chicagoland area. We organize events\, language meetups\, and cultural exchanges to support both beginners and fluent speakers. \nContact us: esperanto-chicago@googlegroups.com \n      \n \nSee more events at esperanto-chicago.org/events
URL:http://esperanto-chicago.org/event/kafeja-kunveno-coffee-timeonline-8/
LOCATION:IL
CATEGORIES:Kafeja Kunveno
ATTACH;FMTTYPE=image/jpeg:http://esperanto-chicago.org/wordpress/wp-content/uploads/2022/03/2022-03-16-14_51_42-Titoloj-Google-Slides.jpg
ORGANIZER;CN="Eric Killian":MAILTO:ericesperanto@gmail.com
END:VEVENT
END:VCALENDAR