BEGIN:VCALENDAR
VERSION:2.0
PRODID:-//La Esperanto-Societo de Ĉikago - ECPv6.15.20//NONSGML v1.0//EN
CALSCALE:GREGORIAN
METHOD:PUBLISH
X-ORIGINAL-URL:http://esperanto-chicago.org
X-WR-CALDESC:Events for La Esperanto-Societo de Ĉikago
REFRESH-INTERVAL;VALUE=DURATION:PT1H
X-Robots-Tag:noindex
X-PUBLISHED-TTL:PT1H
BEGIN:VTIMEZONE
TZID:America/Chicago
BEGIN:DAYLIGHT
TZOFFSETFROM:-0600
TZOFFSETTO:-0500
TZNAME:CDT
DTSTART:20240310T080000
END:DAYLIGHT
BEGIN:STANDARD
TZOFFSETFROM:-0500
TZOFFSETTO:-0600
TZNAME:CST
DTSTART:20241103T070000
END:STANDARD
BEGIN:DAYLIGHT
TZOFFSETFROM:-0600
TZOFFSETTO:-0500
TZNAME:CDT
DTSTART:20250309T080000
END:DAYLIGHT
BEGIN:STANDARD
TZOFFSETFROM:-0500
TZOFFSETTO:-0600
TZNAME:CST
DTSTART:20251102T070000
END:STANDARD
BEGIN:DAYLIGHT
TZOFFSETFROM:-0600
TZOFFSETTO:-0500
TZNAME:CDT
DTSTART:20260308T080000
END:DAYLIGHT
BEGIN:STANDARD
TZOFFSETFROM:-0500
TZOFFSETTO:-0600
TZNAME:CST
DTSTART:20261101T070000
END:STANDARD
END:VTIMEZONE
BEGIN:VEVENT
DTSTART;TZID=America/Chicago:20251214T090000
DTEND;TZID=America/Chicago:20251214T110000
DTSTAMP:20260423T182227
CREATED:20251118T004214Z
LAST-MODIFIED:20251118T004214Z
UID:10000730-1765702800-1765710000@esperanto-chicago.org
SUMMARY:Kafeja Kunveno / Coffee Time(Online)
DESCRIPTION:The Esperanto Society of Chicago  http://esperanto-chicago.org/events/\nNi trinkos kafon kaj parolos Esperanton! Ne zorgu pri via lingva nivelo! – We will drink coffee and speak Esperanto!  \nWe will meet online!  When the time comes use the link below:\nhttp://esperanto-chicago.org/retkunveno \npasvorto: 046492 \n \n\nAbout Esperanto: Esperanto is a constructed international language designed for easy learning and global communication. It offers a unique window into diverse cultures and fosters friendships worldwide. \nAbout Esperanto Society of Chicago: Since 1954\, the Esperanto Society of Chicago is a welcoming community dedicated to promoting Esperanto language and culture in the Chicagoland area. We organize events\, language meetups\, and cultural exchanges to support both beginners and fluent speakers. \nContact us: esperanto-chicago@googlegroups.com \n      \n \nSee more events at esperanto-chicago.org/events
URL:http://esperanto-chicago.org/event/kafeja-kunveno-coffee-timeonline-7/
LOCATION:IL
CATEGORIES:Kafeja Kunveno
ATTACH;FMTTYPE=image/jpeg:http://esperanto-chicago.org/wordpress/wp-content/uploads/2022/03/2022-03-16-14_51_42-Titoloj-Google-Slides.jpg
ORGANIZER;CN="Eric Killian":MAILTO:ericesperanto@gmail.com
END:VEVENT
BEGIN:VEVENT
DTSTART;TZID=America/Chicago:20251214T130000
DTEND;TZID=America/Chicago:20251214T150000
DTSTAMP:20260423T182227
CREATED:20251209T234518Z
LAST-MODIFIED:20251210T024629Z
UID:10000745-1765717200-1765724400@esperanto-chicago.org
SUMMARY:Zamenhofa Tago
DESCRIPTION:Join us as we celebrate Zamenhof-tago! \nOnce a year we gather to honor the initiator of Esperanto.  This year we will meet at Exchequer Restaurant & Pub for our annual event.  \nMake sure to purchase your ticket below. \n  \nWHAT: Zamenhof-Tago\, Dinner and conversation \nWHERE: Exchequer Restaurant & Pub\, 226 S Wabash Ave\, Chicago \nWHEN: 14th of December\, 1PM to 3PM \n  \n\n\n\n		\n				\n						\n			\n								\n			\n		\n							\n			\n				\n						\n			\n								\n			\n		\n							\n			\n				\n						\n			\n								\n			\n		\n							\n			\n				\n						\n			\n								\n			\n		\n							\n			\n				\n						\n			\n								\n			\n		\n							\n			\n				\n						\n			\n								\n			\n		\n							\n			\n				\n						\n			\n								\n			\n		\n							\n			\n				\n						\n			\n								\n			\n		\n							\n			\n				\n						\n			\n								\n			\n		\n							\n			\n	\n	\n\n		\n		[Show slideshow]\n\n	\n	\n		\n			\n\n  \n 
URL:http://esperanto-chicago.org/event/zamenhofa-tago-2/
LOCATION:Exchequer Restaurant & Pub\, 226 S Wabash Ave\, Chicago\, IL\, 60604
ATTACH;FMTTYPE=image/jpeg:http://esperanto-chicago.org/wordpress/wp-content/uploads/2025/12/Zzmenhof-tagon.jpg
ORGANIZER;CN="Eric Killian":MAILTO:ericesperanto@gmail.com
END:VEVENT
END:VCALENDAR